Workbook

Sheet Covid I - 2020
A1: Covid-compensatie I obv het BVR van 19 maart 2020 tot vaststelling van de regels voor de toekenning van een subsidie aan residentiële voorzieningen in het beleidsdomein Welzijn, Volksgezondheid en Gezin voor de vergoeding van bepaalde kosten ten gevolge van de Covid-19-epidemie
D3: Subsidie volgens aard: | G3: Subsidie per jaar van afrekening:
A4: Dossiernummer | B4: Voorziening | C4: Zorgvorm | D4: Forfaitaire subsidie | E4: Subsidie obv effectieve kosten | F4: Subsidie - totaal | G4: Subsidie 2020 | H4: Subsidie 2021
A5: 1-COV-AZ+UZ-19453 | B5: AZH ZNA ANTWERPEN (ZiekenhuisNetwerk Antwerpen) | C5: Algemene ziekenhuizen | D5: 803235 | E5: 69020.78 | F5: =D5+E5 -> 872255.78 | G5: 803235 | H5: 69020.78
A6: 2-COV-AZ+UZ-4708 | B6: AZH ST-BLASIUS DENDERMONDE (Algemeen Ziekenhuis Sint-Blasius) | C6: Algemene ziekenhuizen | D6: 187350 | F6: =D6+E6 -> 187350 | G6: 187350 | H6: 0
A7: 3-COV-AZ+UZ-29270 | B7: AZH MARIA MIDDELARES GENT (Algemeen Ziekenhuis Maria Middelares) | C7: Algemene ziekenhuizen | D7: 289935 | E7: 289935 | F7: =D7+E7 -> 579870 | G7: 289935 | H7: 289935
A8: 4-COV-AZ+UZ-18173 | B8: AZH ST-MAARTEN MECHELEN (Algemeen Ziekenhuis Sint-Maarten) | C8: Algemene ziekenhuizen | D8: 278080 | F8: =D8+E8 -> 278080 | G8: 278080 | H8: 0
A9: 5-COV-AZ+UZ-200290 | B9: Algemeen ziekenhuis Alma Eeklo (Algemeen Ziekenhuis Alma) | C9: Algemene ziekenhuizen | D9: 189845 | E9: 172079.18 | F9: =D9+E9 -> 361924.18 | G9: 189845 | H9: 172079.18
A10: 6-COV-AZ+UZ-24095 | B10: AZH ST-JAN BRUGGE - OOSTENDE (Algemeen Ziekenhuis Sint-Jan Brugge - Oostende) | C10: Algemene ziekenhuizen | D10: 528895 | F10: =D10+E10 -> 528895 | G10: 528895 | H10: 0
A11: 7-COV-AZ+UZ-4668 | B11: AZH JAN YPERMAN IEPER (Jan Yperman Ziekenhuis) | C11: Algemene ziekenhuizen | D11: 236440 | E11: 72902.75 | F11: =D11+E11 -> 309342.75 | G11: 236440 | H11: 72902.75
A12: 8-COV-AZ+UZ-24144 | B12: AZH TURNHOUT (Algemeen Ziekenhuis Turnhout) | C12: Algemene ziekenhuizen | D12: 276695 | F12: =D12+E12 -> 276695 | G12: 276695 | H12: 0
A13: 9-COV-AZ+UZ-4657 | B13: AZH H-HART FZ LIER (Heilig Hartziekenhuis) | C13: Algemene ziekenhuizen | D13: 188005 | F13: =D13+E13 -> 188005 | G13: 188005 | H13: 0
A14: 10-COV-AZ+UZ-24097 | B14: AZH GASTHUISZUSTERS ANTWERPEN WILRIJK (Gasthuiszusters Antwerpen) | C14: Algemene ziekenhuizen | D14: 447825 | E14: 287112.16 | F14: =D14+E14 -> 734937.16 | G14: 447825 | H14: 287112.16
A15: 11-COV-AZ+UZ-4658 | B15: AZH H-HART MOL (Heilig Hartziekenhuis) | C15: Algemene ziekenhuizen | D15: 104215 | E15: 104215 | F15: =D15+E15 -> 208430 | G15: 104215 | H15: 104215
A16: 12-COV-AZ+UZ-201637 | B16: AZ Rivierenland (Algemeen Ziekenhuis Rivierenland) | C16: Algemene ziekenhuizen | D16: 178260 | E16: 178260 | F16: =D16+E16 -> 356520 | G16: 178260 | H16: 178260
A17: 13-COV-AZ+UZ-4674 | B17: AZH MARIA HALLE (Algemeen Ziekenhuis Sint-Maria) | C17: Algemene ziekenhuizen | D17: 175540 | E17: 86054.31 | F17: =D17+E17 -> 261594.31 | G17: 175540 | H17: 86054.31
A18: 14-COV-AZ+UZ-4656 | B18: AZH H-HART LEUVEN (Regionaal Ziekenhuis Heilig Hart) | C18: Algemene ziekenhuizen | D18: 115960 | E18: 54866.39 | F18: =D18+E18 -> 170826.39 | G18: 115960 | H18: 54866.39
A19: 15-COV-AZ+UZ-4661 | B19: AZH REGIONAAL ZIEKENHUIS HEILIG HART TIENEN (Regionaal Ziekenhuis Heilig Hart Tienen) | C19: Algemene ziekenhuizen | D19: 137780 | E19: 110163.29 | F19: =D19+E19 -> 247943.29 | G19: 137780 | H19: 110163.29
A20: 16-COV-AZ+UZ-201417 | B20: AZ Algemeen Ziekenhuis Delta Roeselare (Algemeen Ziekenhuis Delta) | C20: Algemene ziekenhuizen | D20: 597825 | F20: =D20+E20 -> 597825 | G20: 597825 | H20: 0
A21: 17-COV-AZ+UZ-200330 | B21: AZ Sint-Jozefskliniek Izegem (Sint-Jozefskliniek) | C21: Algemene ziekenhuizen | D21: 98775 | E21: 98775 | F21: =D21+E21 -> 197550 | G21: 98775 | H21: 98775
A22: 18-COV-AZ+UZ-9998 | B22: AZH O-L-VROUW AALST (Onze-Lieve-Vrouwziekenhuis) | C22: Algemene ziekenhuizen | D22: 394900 | E22: 0 | F22: =D22+E22 -> 394900 | G22: 394900 | H22: 0
A23: 19-COV-AZ+UZ-4745 | B23: AZ Sint-Vincentius Deinze | C23: Algemene ziekenhuizen | D23: 66120 | E23: 59761.46 | F23: =D23+E23 -> 125881.46 | G23: 66120 | H23: 59761.46
A24: 20-COV-AZ+UZ-4735 | B24: AZH ST-LUCAS BRUGGE (Algemeen Ziekenhuis Sint-Lucas) | C24: Algemene ziekenhuizen | D24: 198510 | E24: 139723 | F24: =D24+E24 -> 338233 | G24: 198510 | H24: 139723
A25: 21-COV-AZ+UZ-15853 | B25: AZH OUDENAARDE (Algemeen Ziekenhuis Oudenaarde) | C25: Algemene ziekenhuizen | D25: 88570 | F25: =D25+E25 -> 88570 | G25: 88570 | H25: 0
A26: 22-COV-AZ+UZ-6591 | B26: A.S.Z. Autonome Verzorgingsinstelling | C26: Algemene ziekenhuizen | D26: 304770 | E26: 304770 | F26: =D26+E26 -> 609540 | G26: 304770 | H26: 304770
A27: 23-COV-AZ+UZ-9906 | B27: AZH VILVOORDE (Algemeen Ziekenhuis Vilvoorde) | C27: Algemene ziekenhuizen | D27: 144600 | E27: 144600 | F27: =D27+E27 -> 289200 | G27: 144600 | H27: 144600
A28: 24-COV-AZ+UZ-4718 | B28: AZH ST-ELISABETH ZOTTEGEM (Algemeen Ziekenhuis Sint-Elisabeth) | C28: Algemene ziekenhuizen | D28: 155870 | E28: 118431.79 | F28: =D28+E28 -> 274301.79 | G28: 155870 | H28: 118431.79
A29: 25-COV-AZ+UZ-24667 | B29: AZH JESSA ZIEKENHUIS HASSELT (Jessa Ziekenhuis) | C29: Algemene ziekenhuizen | D29: 451835 | E29: 173982.55 | F29: =D29+E29 -> 625817.55 | G29: 451835 | H29: 173982.55
A30: 26-COV-AZ+UZ-17629 | B30: AZH AZL LOKEREN (Algemeen Ziekenhuis Lokeren) | C30: Algemene ziekenhuizen | D30: 57845 | F30: =D30+E30 -> 57845 | G30: 57845 | H30: 0
A31: 27-COV-AZ+UZ-14533 | B31: AZH ST-LUCAS GENT (AZ Sint-Lucas) | C31: Algemene ziekenhuizen | D31: 374550 | F31: =D31+E31 -> 374550 | G31: 374550 | H31: 0
A32: 28-COV-AZ+UZ-24985 | B32: AZH ST-ELISABETH HERENTALS (Algemeen Ziekenhuis Sint-Elisabeth) | C32: Algemene ziekenhuizen | D32: 131065 | E32: 9548.85 | F32: =D32+E32 -> 140613.85 | G32: 131065 | H32: 9548.85
A33: 29-COV-AZ+UZ-4707 | B33: AZH WEST VEURNE (Algemeen Ziekenhuis WEST) | C33: Algemene ziekenhuizen | D33: 125145 | E33: 116557.93 | F33: =D33+E33 -> 241702.93 | G33: 125145 | H33: 116557.93
A34: 30-COV-AZ+UZ-4763 | B34: AZH ZOL GENK (Ziekenhuis Oost-Limburg) | C34: Algemene ziekenhuizen | D34: 413210 | E34: 413210 | F34: =D34+E34 -> 826420 | G34: 413210 | H34: 413210
A35: 31-COV-AZ+UZ-4697 | B35: AZH ZENO KNOKKE-HEIST (Algemeen Ziekenhuis ZENO) | C35: Algemene ziekenhuizen | D35: 152220 | E35: 152220 | F35: =D35+E35 -> 304440 | G35: 152220 | H35: 152220
A36: 32-COV-AZ+UZ-4705 | B36: AZH ST-ANDRIES TIELT (Sint-Andriesziekenhuis) | C36: Algemene ziekenhuizen | D36: 118525 | F36: =D36+E36 -> 118525 | G36: 118525 | H36: 0
A37: 33-COV-AZ+UZ-5581 | B37: AZH GROENINGE KORTRIJK (Algemeen Ziekenhuis Groeninge) | C37: Algemene ziekenhuizen | D37: 450180 | E37: 169975.05 | F37: =D37+E37 -> 620155.05 | G37: 450180 | H37: 169975.05
A38: 34-COV-AZ+UZ-4696 | B38: AZH O-L-VROUW VAN LOURDES WAREGEM (Onze-Lieve-Vrouw van Lourdes Ziekenhuis Waregem) | C38: Algemene ziekenhuizen | D38: 120520 | F38: =D38+E38 -> 120520 | G38: 120520 | H38: 0
A39: 35-COV-AZ+UZ-27188 | B39: AZH DAMIAAN OOSTENDE (Algemeen Ziekenhuis Damiaan) | C39: Algemene ziekenhuizen | D39: 235635 | F39: =D39+E39 -> 235635 | G39: 235635 | H39: 0
A40: 36-COV-AZ+UZ-4729 | B40: Algemeen Ziekenhuis Voorkempen | C40: Algemene ziekenhuizen | D40: 122435 | E40: 122435 | F40: =D40+E40 -> 244870 | G40: 122435 | H40: 122435
A41: 37-COV-AZ+UZ-13148 | B41: AZH Glorieux Ronse (Algemeen Ziekenhuis Glorieux) | C41: Algemene ziekenhuizen | D41: 134420 | E41: 134420 | F41: =D41+E41 -> 268840 | G41: 134420 | H41: 134420
A42: 38-COV-AZ+UZ-18641 | B42: AZH NIKOLAAS SINT-NIKLAAS (Algemeen Ziekenhuis Nikolaas) | C42: Algemene ziekenhuizen | D42: 354395 | E42: 354395 | F42: =D42+E42 -> 708790 | G42: 354395 | H42: 354395
A43: 39-COV-AZ+UZ-4684 | B43: AZH MONICA ANTWERPEN (Algemeen Ziekenhuis Monica) | C43: Algemene ziekenhuizen | D43: 237635 | E43: 62354.74 | F43: =D43+E43 -> 299989.74 | G43: 237635 | H43: 62354.74
A44: 40-COV-AZ+UZ-14724 | B44: AZH IMELDA BONHEIDEN (Imeldaziekenhuis) | C44: Algemene ziekenhuizen | D44: 261875 | F44: =D44+E44 -> 261875 | G44: 261875 | H44: 0
A45: 41-COV-AZ+UZ-26703 | B45: AZH ST-DIMPNA GEEL (Algemeen Ziekenhuis Sint-Dimpna) | C45: Algemene ziekenhuizen | D45: 155715 | F45: =D45+E45 -> 155715 | G45: 155715 | H45: 0
A46: 42-COV-AZ+UZ-28383 | B46: AZH KLINA BRASSCHAAT (Algemeen Ziekenhuis KLINA) | C46: Algemene ziekenhuizen | D46: 280925 | E46: 280925 | F46: =D46+E46 -> 561850 | G46: 280925 | H46: 280925
A47: 43-COV-AZ+UZ-4642 | B47: AZH DIEST (Algemeen Ziekenhuis Diest) | C47: Algemene ziekenhuizen | D47: 106570 | E47: 106570 | F47: =D47+E47 -> 213140 | G47: 106570 | H47: 106570
A48: 44-COV-AZ+UZ-4667 | B48: AZH JAN PALFIJN GENT (Algemeen Ziekenhuis Jan Palfijn) | C48: Algemene ziekenhuizen | D48: 182595 | F48: =D48+E48 -> 182595 | G48: 182595 | H48: 0
A49: 45-COV-AZ+UZ-10969 | B49: AZH ST-FRANCISKUS HEUSDEN-ZOLDER (Sint-Franciskusziekenhuis) | C49: Algemene ziekenhuizen | D49: 131200 | E49: 80909.33 | F49: =D49+E49 -> 212109.33 | G49: 131200 | H49: 80909.33
A50: 46-COV-AZ+UZ-27943 | B50: AZH SINT-TRUDO SINT-TRUIDEN (Sint-Trudo Ziekenhuis) | C50: Algemene ziekenhuizen | D50: 143600 | E50: 73664.33 | F50: =D50+E50 -> 217264.33 | G50: 143600 | H50: 73664.33
A51: 47-COV-AZ+UZ-4757 | B51: AZH VESALIUS TONGEREN (Algemeen Ziekenhuis Vesalius) | C51: Algemene ziekenhuizen | D51: 142005 | E51: 142005 | F51: =D51+E51 -> 284010 | G51: 142005 | H51: 142005
A52: 48-COV-AZ+UZ-200480 | B52: AZH Maas en Kempen Maaseik (Ziekenhuis Maas en Kempen) | C52: Algemene ziekenhuizen | D52: 100385 | E52: 22956.07 | F52: =D52+E52 -> 123341.07 | G52: 100385 | H52: 22956.07
A53: 49-COV-AZ+UZ-17470 | B53: Noorderhart - Mariaziekenhuis | C53: Algemene ziekenhuizen | D53: 170440 | E53: 66890.8 | F53: =D53+E53 -> 237330.8 | G53: 170440 | H53: 66890.8
A54: 50-COV-AZ+UZ-4626 | B54: AZH UZB JETTE (Universitair Ziekenhuis Brussel) | C54: Algemene ziekenhuizen | D54: 355150 | E54: 355150 | F54: =D54+E54 -> 710300 | G54: 355150 | H54: 355150
A55: 51-COV-AZ+UZ-23942 | B55: AZH UZ ANTWERPEN EDEGEM (Universitair Ziekenhuis Antwerpen) | C55: Algemene ziekenhuizen | D55: 301315 | E55: 301315 | F55: =D55+E55 -> 602630 | G55: 301315 | H55: 301315
A56: 52-COV-AZ+UZ-28232 | B56: AZH UZ KUL LEUVEN (Universitaire Ziekenhuizen van de K.U.Leuven) | C56: Algemene ziekenhuizen | D56: 875135 | E56: 0 | F56: =D56+E56 -> 875135 | G56: 875135 | H56: 0
A57: 53-COV-AZ+UZ-12759 | B57: BKS UZ GENT (Universitair Ziekenhuis Gent) | C57: Algemene ziekenhuizen | D57: 462880 | E57: 362255.51 | F57: =D57+E57 -> 825135.51 | G57: 462880 | H57: 362255.51
A58: 54-COV-PZ-4772 | B58: PZH HEILIGE FAMILIE KORTRIJK (Psychiatrisch Ziekenhuis H. Familie) | C58: Psychiatrische ziekenhuizen | D58: 22800 | F58: =D58+E58 -> 22800 | G58: 22800 | H58: 0
A59: 55-COV-PZ-4771 | B59: PZ DR GUISLAIN GENT (Psychiatrisch Ziekenhuis Dr. Guislain) | C59: Psychiatrische ziekenhuizen | D59: 46800 | F59: =D59+E59 -> 46800 | G59: 46800 | H59: 0
A60: 56-COV-PZ-4798 | B60: PZH SINT-JOZEF PITTEM (Kliniek Sint-Jozef, Centrum voor Psychiatrie en Psychotherapie) | C60: Psychiatrische ziekenhuizen | D60: 32000 | F60: =D60+E60 -> 32000 | G60: 32000 | H60: 0
A61: 57-COV-PZ-30162 | B61: PZH MULTIVERSUM BOECHOUT (Multiversum) | C61: Psychiatrische ziekenhuizen | D61: 84600 | F61: =D61+E61 -> 84600 | G61: 84600 | H61: 0
A62: 58-COV-PZ-4777 | B62: PZH OPZC LANAKEN (Openbaar Psychiatrisch Zorgcentrum Rekem) | C62: Psychiatrische ziekenhuizen | D62: 42800 | F62: =D62+E62 -> 42800 | G62: 42800 | H62: 0
A63: 59-COV-PZ-29788 | B63: PZ Frapello (Psychiatrisch Ziekenhuis Frapello) | C63: Psychiatrische ziekenhuizen | D63: 31400 | F63: =D63+E63 -> 31400 | G63: 31400 | H63: 0
A64: 60-COV-PZ-4792 | B64: PZH SINT-HIËRONYMUS SINT-NIKLAAS (Psychiatrisch Ziekenhuis en Revalidatiecentrum Sint-Hiëronymus) | C64: Psychiatrische ziekenhuizen | D64: 29000 | F64: =D64+E64 -> 29000 | G64: 29000 | H64: 0
A65: 61-COV-PZ-10265 | B65: PZ BETHANIË ZOERSEL (PZ Bethanië) | C65: Psychiatrische ziekenhuizen | D65: 100200 | F65: =D65+E65 -> 100200 | G65: 100200 | H65: 0
A66: 62-COV-PZ-28227 | B66: PZH OPZ GEEL (Openbaar Psychiatrisch Zorgcentrum Geel) | C66: Psychiatrische ziekenhuizen | D66: 50600 | F66: =D66+E66 -> 50600 | G66: 50600 | H66: 0
A67: 63-COV-PZ-4789 | B67: PZH SINT-ANNENDAEL DIEST (Psychiatrische Kliniek Sint-Annendael) | C67: Psychiatrische ziekenhuizen | D67: 23000 | F67: =D67+E67 -> 23000 | G67: 23000 | H67: 0
A68: 64-COV-PZ-29841 | B68: Universitair Centrum Sint-Jozef | C68: Psychiatrische ziekenhuizen | D68: 89800 | F68: =D68+E68 -> 89800 | G68: 89800 | H68: 0
A69: 65-COV-PZ-4786 | B69: PZH SINT-ALEXIUS GRIMBERGEN (Psychiatrische Kliniek Sint-Alexius) | C69: Psychiatrische ziekenhuizen | D69: 24200 | F69: =D69+E69 -> 24200 | G69: 24200 | H69: 0
... A79: 75-COV-PZ-200257 | B79: Zorggroep Sint-Kamillus | C79: Psychiatrische ziekenhuizen | D79: 53400 | F79: =D79+E79 -> 53400 | G79: 53400 | H79: 0
A80: 76-COV-PZ-4793 | B80: PZH SINT-JAN BAPTIST ZELZATE (Psychiatrisch Centrum Sint-Jan Baptist) | C80: Psychiatrische ziekenhuizen | D80: 35200 | E80: 17638 | F80: =D80+E80 -> 52838 | G80: 35200 | H80: 17638
A81: 77-COV-PZ-4787 | B81: PZH SINT-AMANDUS BEERNEM (Psychiatrisch Centrum Sint-Amandus) | C81: Psychiatrische ziekenhuizen | D81: 71000 | F81: =D81+E81 -> 71000 | G81: 71000 | H81: 0
A82: 78-COV-PZ-13516 | B82: PZH RUSTENBURG BRUGGE (Psychotherapeutisch Centrum Rustenburg) | C82: Psychiatrische ziekenhuizen | D82: 14400 | F82: =D82+E82 -> 14400 | G82: 14400 | H82: 0
A83: 79-COV-PZ-4805 | B83: PZH Ariadne LEDE (Psychiatrisch Ziekenhuis Ariadne) | C83: Psychiatrische ziekenhuizen | D83: 26600 | F83: =D83+E83 -> 26600 | G83: 26600 | H83: 0
A84: 80-COV-PZ-10264 | B84: PZH KINDERPSYCHIATRISCH CENTRUM GENK (Kinderpsychiatrisch Centrum Genk) | C84: Psychiatrische ziekenhuizen | D84: 3200 | E84: 2063.5 | F84: =D84+E84 -> 5263.5 | G84: 3200 | H84: 2063.5
A85: 81-COV-PZ-27604 | B85: PZH ASSTER SINT-TRUIDEN (Psychiatrisch Ziekenhuis Asster) | C85: Psychiatrische ziekenhuizen | D85: 79400 | F85: =D85+E85 -> 79400 | G85: 79400 | H85: 0
A86: 82-COV-PZ-26304 | B86: PZH GENT-SLEIDINGE GENT (Psychiatrisch Centrum Gent-Sleidinge) | C86: Psychiatrische ziekenhuizen | D86: 53800 | F86: =D86+E86 -> 53800 | G86: 53800 | H86: 0
A87: 83-COV-PZ-4785 | B87: PZH SINT-ALEXIUS ELSENE (Psycho-sociaal Centrum Sint-Alexius) | C87: Psychiatrische ziekenhuizen | D87: 6600 | F87: =D87+E87 -> 6600 | G87: 6600 | H87: 0
A88: 84-COV-PZ-15195 | B88: PZH STUIVENBERG ANTWERPEN (Psychiatrisch Ziekenhuis Stuivenberg) | C88: Psychiatrische ziekenhuizen | D88: 35200 | F88: =D88+E88 -> 35200 | G88: 35200 | H88: 0
A89: 85-COV-RZ-4638 | B89: AZH DE DENNEN MALLE (Verpleeginrichting De Dennen) | C89: Revalidatieziekenhuizen | D89: 19000 | E89: 15200 | F89: =D89+E89 -> 34200 | G89: 19000 | H89: 15200
A90: 86-COV-RZ-3469 | B90: WZC Zorgcentrum Lemberge (Zorgcentrum Lemberge) | C90: Revalidatieziekenhuizen | D90: 31500 | E90: 24087.46 | F90: =D90+E90 -> 55587.46 | G90: 31500 | H90: 24087.46
A91: 87-COV-RZ-200855 | B91: Noorderhart - Revalidatie & MS Centrum | C91: Revalidatieziekenhuizen | D91: 60000 | E91: 45713.37 | F91: =D91+E91 -> 105713.37 | G91: 60000 | H91: 45713.37
A92: 88-COV-RZ-26437 | B92: AZH REVARTE EDEGEM (RevArte Revalidatieziekenhuis) | C92: Revalidatieziekenhuizen | D92: 97000 | E92: 77600 | F92: =D92+E92 -> 174600 | G92: 97000 | H92: 77600
A93: 89-COV-RZ-4637 | B93: AZH INKENDAAL SINT-PIETERS-LEEUW (Ziekenhuis Inkendaal - Koninklijke Instelling) | C93: Revalidatieziekenhuizen | D93: 89000 | E93: 71200 | F93: =D93+E93 -> 160200 | G93: 89000 | H93: 71200
A94: 90-COV-RZ-4672 | B94: AZH KONINGIN ELISABETH KOKSIJDE (Koningin Elisabeth Instituut) | C94: Revalidatieziekenhuizen | D94: 82500 | E94: 66000 | F94: =D94+E94 -> 148500 | G94: 82500 | H94: 66000
A95: 91-COV-RZ-4631 | B95: AZH REVALIDATIECENTRUM IMBO OOSTENDE (Revalidatiecentrum IMBO) | C95: Revalidatieziekenhuizen | D95: 62500 | E95: 27053.29 | F95: =D95+E95 -> 89553.29 | G95: 62500 | H95: 27053.29
A96: 92-COV-RZ-4686 | B96: AZH Nationaal Multiple Sclerose Centrum Steenokker (Nationaal Multiple Sclerose Centrum) | C96: Revalidatieziekenhuizen | D96: 60000 | E96: 41095.2 | F96: =D96+E96 -> 101095.2 | G96: 60000 | H96: 41095.2
A97: 93-COV-WZC-3439 | B97: WZC Residentie Bellevue Brussel (Residentie Bellevue) | C97: Woonzorgcentra | D97: 29000 | F97: =D97+E97 -> 29000 | G97: 29000 | H97: 0
A98: 94-COV-WZC-IFF-8909 | B98: WZC De Overbron (De Overbron) | C98: Woonzorgcentrum met infrastructuurforfait | D98: 11800 | E98: 23600 | F98: =D98+E98 -> 35400 | G98: 35400 | H98: 0
A99: 95-COV-WZC-IFF-8890 | B99: WZC De Karmel (De Karmel) | C99: Woonzorgcentrum met infrastructuurforfait | D99: 5000 | E99: 10000 | F99: =D99+E99 -> 15000 | G99: 15000 | H99: 0
A100: 96-COV-WZC-10910 | B100: WZC Hof van Arenberg Duffel (Hof van Arenberg) | C100: Woonzorgcentra | D100: 16800 | E100: 13787.92 | F100: =D100+E100 -> 30587.92 | G100: 16800 | H100: 13787.92
A101: 97-COV-WZC-3456 | B101: WZC Koning Albert I (Koning Albert I) | C101: Woonzorgcentra | D101: 13400 | E101: 15798.06 | F101: =D101+E101 -> 29198.06 | G101: 13400 | H101: 15798.06
A102: 98-COV-WZC-3657 | B102: WZC Huize Sint-Elisabeth (Huize Sint-Elisabeth) | C102: Woonzorgcentra | D102: 6000 | F102: =D102+E102 -> 6000 | G102: 6000 | H102: 0
A103: 99-COV-WZC-3851 | B103: WZC Home Vogelzang (Home Vogelzang) | C103: Woonzorgcentra | D103: 31600 | F103: =D103+E103 -> 31600 | G103: 31600 | H103: 0
A104: 100-COV-WZC-IFF-3489 | B104: WZC Het Laar (Het Laar) | C104: Woonzorgcentrum met infrastructuurforfait | D104: 17800 | E104: 30531.73 | F104: =D104+E104 -> 48331.73 | G104: 17800 | H104: 30531.73
A105: 101-COV-WZC-8889 | B105: RH PROVENTIER POPERINGE (Huize Proventier) | C105: Woonzorgcentra | D105: 24400 | E105: 10249.33 | F105: =D105+E105 -> 34649.33 | G105: 24400 | H105: 10249.33
A106: 102-COV-WZC-3709 | B106: WZC Sint-Jozef (Sint-Jozef) | C106: Woonzorgcentra | D106: 11400 | E106: 13007.46 | F106: =D106+E106 -> 24407.46 | G106: 11400 | H106: 13007.46
A107: 103-COV-WZC-IFF-3491 | B107: WZC Mariaburcht (Mariaburcht) | C107: Woonzorgcentrum met infrastructuurforfait | D107: 19600 | E107: 39200 | F107: =D107+E107 -> 58800 | G107: 58800 | H107: 0
A108: 104-COV-WZC-3496 | B108: WZC Mariatroon Dendermonde (Mariatroon) | C108: Woonzorgcentra | D108: 21600 | F108: =D108+E108 -> 21600 | G108: 21600 | H108: 0
A109: 105-COV-WZC-3662 | B109: WZC Home Sint-Franciscus (Home Sint-Franciscus) | C109: Woonzorgcentra | D109: 22600 | E109: 0 | F109: =D109+E109 -> 22600 | G109: 22600 | H109: 0
A110: 106-COV-WZC-IFF-3494 | B110: WZC Maria Rustoord (Maria Rustoord) | C110: Woonzorgcentrum met infrastructuurforfait | D110: 36000 | E110: 3643.97 | F110: =D110+E110 -> 39643.97 | G110: 36000 | H110: 3643.97
...

Sheet Covid II-16072021
A1: Covid-compensatie II obv het BVR van 16 juli 2021 tot toekenning van een subsidie aan instellingen in het beleidsdomein Welzijn, Volksgezondheid en Gezin voor de vergoeding van bepaalde kosten ten gevolge van de Covid-epidemie
A3: Dossiernummer | B3: Voorziening | C3: Aantal eenheden | D3: Subsidie per eenheid | E3: Totale subsidie | F3: Omschrijving eenheid | G3: Zorgagentschap | H3: Contact zorgagentschap
A4: 1-COVbis-RZ-4638 | B4: AZH DE DENNEN MALLE (Verpleeginrichting De Dennen) - Francisca Castelein | C4: 38 | D4: 90 | E4: 3420 | F4: erkend bed | G4: Agentschap Zorg en Gezondheid | H4: revalidatie@vlaanderen.be
A5: 2-COVbis-RZ-20694 | B5: Revalidatieziekenhuis Lemberge | C5: 63 | D5: 90 | E5: 5670 | F5: erkend bed | G5: Agentschap Zorg en Gezondheid | H5: revalidatie@vlaanderen.be
A6: 3-COVbis-RZ-200855 | B6: Noorderhart - Revalidatie & MS Centrum | C6: 120 | D6: 90 | E6: 10800 | F6: erkend bed | G6: Agentschap Zorg en Gezondheid | H6: revalidatie@vlaanderen.be
A7: 4-COVbis-RZ-26437 | B7: AZH REVARTE EDEGEM (RevArte Revalidatieziekenhuis) | C7: 194 | D7: 90 | E7: 17460 | F7: erkend bed | G7: Agentschap Zorg en Gezondheid | H7: revalidatie@vlaanderen.be
A8: 5-COVbis-RZ-4637 | B8: AZH INKENDAAL SINT-PIETERS-LEEUW (Ziekenhuis Inkendaal - Koninklijke Instelling) | C8: 178 | D8: 90 | E8: 16020 | F8: erkend bed | G8: Agentschap Zorg en Gezondheid | H8: revalidatie@vlaanderen.be
A9: 6-COVbis-RZ-4672 | B9: AZH KONINGIN ELISABETH KOKSIJDE (Koningin Elisabeth Instituut) | C9: 165 | D9: 90 | E9: 14850 | F9: erkend bed | G9: Agentschap Zorg en Gezondheid | H9: revalidatie@vlaanderen.be
A10: 7-COVbis-RZ-4631 | B10: AZH REVALIDATIECENTRUM IMBO OOSTENDE (Revalidatiecentrum IMBO) | C10: 125 | D10: 90 | E10: 11250 | F10: erkend bed | G10: Agentschap Zorg en Gezondheid | H10: revalidatie@vlaanderen.be
A11: 8-COVbis-RZ-4686 | B11: AZH Nationaal Multiple Sclerose Centrum Steenokker (Nationaal Multiple Sclerose Centrum) | C11: 120 | D11: 90 | E11: 10800 | F11: erkend bed | G11: Agentschap Zorg en Gezondheid | H11: revalidatie@vlaanderen.be
A12: 9-COVbis-PVT-4860 | B12: PVT KRAAIENBERG GRIMBERGEN (Psychiatrisch Verzorgingstehuis Kraaienberg) | C12: 29 | D12: 90 | E12: 2610 | F12: erkende opname-eenheid of FOR-PVT-bed | G12: Agentschap Zorg en Gezondheid | H12: geestelijkegezondheidszorg@vlaanderen.be
A13: 10-COVbis-PVT-28229 | B13: PVT SALTO GEEL (Psychiatrisch Verzorgingstehuis Salto) | C13: 75 | D13: 90 | E13: 6750 | F13: erkende opname-eenheid of FOR-PVT-bed | G13: Agentschap Zorg en Gezondheid | H13: geestelijkegezondheidszorg@vlaanderen.be
A14: 11-COVbis-PVT-10977 | B14: PVT SCHORSHAEGEN DUFFEL (Psychiatrisch Verzorgingstehuis Schorshaegen) | C14: 90 | D14: 90 | E14: 8100 | F14: erkende opname-eenheid of FOR-PVT-bed | G14: Agentschap Zorg en Gezondheid | H14: geestelijkegezondheidszorg@vlaanderen.be
A15: 12-COVbis-PVT-4862 | B15: PVT Multiversum MORTSEL (Psychiatrisch Verzorgingstehuis Multiversum) | C15: 210 | D15: 90 | E15: 18900 | F15: erkende opname-eenheid of FOR-PVT-bed | G15: Agentschap Zorg en Gezondheid | H15: geestelijkegezondheidszorg@vlaanderen.be
... A6351: 6350-COVbis-PZ-28043 | B6351: DPZ PLEEGZORG LIMBURG GENK (PLEEGZORG LIMBURG) | C6351: 119.5 | D6351: 90 | E6351: 10755 | F6351: VTE | G6351: Opgroeien - Jongerenwelzijn | H6351: geert.desloovere@opgroeien.be

Sheet Covid III-17122021 - ventilatie
A1: Covid-compensatie III obv het BVR van 17 december 2021 tot toekenning van een subsidie aan instellingen in het beleidsdomein Welzijn, Volksgezondheid en Gezin voor de maatregelen inzake ventilatie en aankoop van zelftesten
E2: =SUM(E4:E6351) -> 15246891
A3: Dossiernummer | B3: Voorziening | C3: Aantal eenheden | D3: Subsidie per eenheid | E3: Totale subsidie | F3: Omschrijving eenheid | G3: Zorgagentschap | H3: Contact zorgagentschap
A4: 1-COVbis-RZ-4638 | B4: AZH DE DENNEN MALLE (Verpleeginrichting De Dennen) - Francisca Castelein | C4: 38 | D4: 90 | E4: 3420 | F4: erkend bed | G4: Agentschap Zorg en Gezondheid | H4: ='Covid II-16072021'!H4 -> revalidatie@vlaanderen.be
A5: 2-COVbis-RZ-20694 | B5: Revalidatieziekenhuis Lemberge | C5: 63 | D5: 90 | E5: 5670 | F5: erkend bed | G5: Agentschap Zorg en Gezondheid | H5: ='Covid II-16072021'!H5 -> revalidatie@vlaanderen.be
A6: 3-COVbis-RZ-200855 | B6: Noorderhart - Revalidatie & MS Centrum | C6: 120 | D6: 90 | E6: 10800 | F6: erkend bed | G6: Agentschap Zorg en Gezondheid | H6: ='Covid II-16072021'!H6 -> revalidatie@vlaanderen.be
A7: 4-COVbis-RZ-26437 | B7: AZH REVARTE EDEGEM (RevArte Revalidatieziekenhuis) | C7: 194 | D7: 90 | E7: 17460 | F7: erkend bed | G7: Agentschap Zorg en Gezondheid | H7: ='Covid II-16072021'!H7 -> revalidatie@vlaanderen.be
A8: 5-COVbis-RZ-4637 | B8: AZH INKENDAAL SINT-PIETERS-LEEUW (Ziekenhuis Inkendaal - Koninklijke Instelling) | C8: 178 | D8: 90 | E8: 16020 | F8: erkend bed | G8: Agentschap Zorg en Gezondheid | H8: ='Covid II-16072021'!H8 -> revalidatie@vlaanderen.be
A9: 6-COVbis-RZ-4672 | B9: AZH KONINGIN ELISABETH KOKSIJDE (Koningin Elisabeth Instituut) | C9: 165 | D9: 90 | E9: 14850 | F9: erkend bed | G9: Agentschap Zorg en Gezondheid | H9: ='Covid II-16072021'!H9 -> revalidatie@vlaanderen.be
A10: 7-COVbis-RZ-4631 | B10: AZH REVALIDATIECENTRUM IMBO OOSTENDE (Revalidatiecentrum IMBO) | C10: 125 | D10: 90 | E10: 11250 | F10: erkend bed | G10: Agentschap Zorg en Gezondheid | H10: ='Covid II-16072021'!H10 -> revalidatie@vlaanderen.be
A11: 8-COVbis-RZ-4686 | B11: AZH Nationaal Multiple Sclerose Centrum Steenokker (Nationaal Multiple Sclerose Centrum) | C11: 120 | D11: 90 | E11: 10800 | F11: erkend bed | G11: Agentschap Zorg en Gezondheid | H11: ='Covid II-16072021'!H11 -> revalidatie@vlaanderen.be
A12: 9-COVbis-PVT-4860 | B12: PVT KRAAIENBERG GRIMBERGEN (Psychiatrisch Verzorgingstehuis Kraaienberg) | C12: 29 | D12: 90 | E12: 2610 | F12: erkende opname-eenheid of FOR-PVT-bed | G12: Agentschap Zorg en Gezondheid | H12: ='Covid II-16072021'!H12 -> geestelijkegezondheidszorg@vlaanderen.be
A13: 10-COVbis-PVT-28229 | B13: PVT SALTO GEEL (Psychiatrisch Verzorgingstehuis Salto) | C13: 75 | D13: 90 | E13: 6750 | F13: erkende opname-eenheid of FOR-PVT-bed | G13: Agentschap Zorg en Gezondheid | H13: ='Covid II-16072021'!H13 -> geestelijkegezondheidszorg@vlaanderen.be
A14: 11-COVbis-PVT-10977 | B14: PVT SCHORSHAEGEN DUFFEL (Psychiatrisch Verzorgingstehuis Schorshaegen) | C14: 90 | D14: 90 | E14: 8100 | F14: erkende opname-eenheid of FOR-PVT-bed | G14: Agentschap Zorg en Gezondheid | H14: ='Covid II-16072021'!H14 -> geestelijkegezondheidszorg@vlaanderen.be
A15: 12-COVbis-PVT-4862 | B15: PVT Multiversum MORTSEL (Psychiatrisch Verzorgingstehuis Multiversum) | C15: 210 | D15: 90 | E15: 18900 | F15: erkende opname-eenheid of FOR-PVT-bed | G15: Agentschap Zorg en Gezondheid | H15: ='Covid II-16072021'!H15 -> geestelijkegezondheidszorg@vlaanderen.be
... A186: 183-COVbis-IBW-4878 | B186: BW ANTWERPEN (Beschut Wonen Antwerpen) | C186: 14.9 | D186: 90 | E186: 1341 | F186: gesubsidieerde VTE | G186: Agentschap Zorg en Gezondheid | H186: ='Covid II-16072021'!H186 -> geestelijkegezondheidszorg@vlaanderen.be
A187: 184-COVbis-WZC-3883 | B187: WZC Zonnetij (Zonnetij) | C187: 148 | D187: 90 | E187: 13320 | F187: erkende woongelegenheid | G187: Agentschap Zorg en Gezondheid | H187: financieringouderenzorg@vlaanderen.be
A188: 185-COVbis-WZC-3885 | B188: WZC Zonnewende (Zonnewende) | C188: 176 | D188: 90 | E188: 15840 | F188: erkende woongelegenheid | G188: Agentschap Zorg en Gezondheid | H188: financieringouderenzorg@vlaanderen.be
A189: 186-COVbis-WZC-3435 | B189: WZC Het Huizeken van Nazareth (Het Huizeken van Nazareth) | C189: 120 | D189: 90 | E189: 10800 | F189: erkende woongelegenheid | G189: Agentschap Zorg en Gezondheid | H189: financieringouderenzorg@vlaanderen.be
A190: 187-COVbis-WZC-3680 | B190: WZC Sint-Jozef (Sint-Jozef) | C190: 72 | D190: 90 | E190: 6480 | F190: erkende woongelegenheid | G190: Agentschap Zorg en Gezondheid | H190: financieringouderenzorg@vlaanderen.be
A191: 188-COVbis-WZC-3317 | B191: WZC De Zavel (De Zavel) | C191: 136 | D191: 90 | E191: 12240 | F191: erkende woongelegenheid | G191: Agentschap Zorg en Gezondheid | H191: financieringouderenzorg@vlaanderen.be
A192: 189-COVbis-WZC-3169 | B192: WZC Residentie Apfelbaum-Laub (Residentie Apfelbaum-Laub) | C192: 90 | D192: 90 | E192: 8100 | F192: erkende woongelegenheid | G192: Agentschap Zorg en Gezondheid | H192: financieringouderenzorg@vlaanderen.be
A193: 190-COVbis-WZC-3848 | B193: WZC Vinck-Heymans (Vinck-Heymans) | C193: 205 | D193: 90 | E193: 18450 | F193: erkende woongelegenheid | G193: Agentschap Zorg en Gezondheid | H193: financieringouderenzorg@vlaanderen.be
A194: 191-COVbis-WZC-3259 | B194: WZC De Gulden Lelie (De Gulden Lelie) | C194: 129 | D194: 90 | E194: 11610 | F194: erkende woongelegenheid | G194: Agentschap Zorg en Gezondheid | H194: financieringouderenzorg@vlaanderen.be
A195: 192-COVbis-WZC-3590 | B195: WZC Lozanahof (Lozanahof) | C195: 271 | D195: 90 | E195: 24390 | F195: erkende woongelegenheid | G195: Agentschap Zorg en Gezondheid | H195: financieringouderenzorg@vlaanderen.be
A196: 193-COVbis-WZC-3203 | B196: WZC Bilzenhof (Bilzenhof) | C196: 95 | D196: 90 | E196: 8550 | F196: erkende woongelegenheid | G196: Agentschap Zorg en Gezondheid | H196: financieringouderenzorg@vlaanderen.be
A197: 194-COVbis-WZC-3426 | B197: WZC Hof Ter Schelde (Hof Ter Schelde) | C197: 155 | D197: 90 | E197: 13950 | F197: erkende woongelegenheid | G197: Agentschap Zorg en Gezondheid | H197: financieringouderenzorg@vlaanderen.be
A198: 195-COVbis-WZC-3679 | B198: WZC Residentie Sint-Jozef (Residentie Sint-Jozef) | C198: 59 | D198: 90 | E198: 5310 | F198: erkende woongelegenheid | G198: Agentschap Zorg en Gezondheid | H198: financieringouderenzorg@vlaanderen.be
... A6351: 6350-COVbis-PZ-28043 | B6351: DPZ PLEEGZORG LIMBURG GENK (PLEEGZORG LIMBURG) | C6351: 119.5 | D6351: 90 | E6351: 10755 | F6351: VTE | G6351: Opgroeien - Jongerenwelzijn | H6351: geert.desloovere@opgroeien.be
