Workbook

Sheet Covid I - 2020
A1: Covid-compensatie I obv het BVR van 19 maart 2020 tot vaststelling van de regels voor de toekenning van een subsidie aan residentiële voorzieningen in het beleidsdomein Welzijn, Volksgezondheid en Gezin voor de vergoeding van bepaalde kosten ten gevolge van de Covid-19-epidemie
D3: Subsidie volgens aard: | G3: Subsidie per jaar van afrekening:
A4: Dossiernummer | B4: Voorziening | C4: Zorgvorm | D4: Forfaitaire subsidie | E4: Subsidie obv effectieve kosten | F4: Subsidie - totaal | G4: Subsidie 2020 | H4: Subsidie 2021
A5: 1-COV-AZ+UZ-19453 | B5: AZH ZNA ANTWERPEN (ZiekenhuisNetwerk Antwerpen) | C5: Algemene ziekenhuizen | D5: 803235 | E5: 69020.78 | F5: =D5+E5 -> 872255.78 | G5: 803235 | H5: 69020.78
A6: 2-COV-AZ+UZ-4708 | B6: AZH ST-BLASIUS DENDERMONDE (Algemeen Ziekenhuis Sint-Blasius) | C6: Algemene ziekenhuizen | D6: 187350 | F6: =D6+E6 -> 187350 | G6: 187350 | H6: 0
A7: 3-COV-AZ+UZ-29270 | B7: AZH MARIA MIDDELARES GENT (Algemeen Ziekenhuis Maria Middelares) | C7: Algemene ziekenhuizen | D7: 289935 | E7: 289935 | F7: =D7+E7 -> 579870 | G7: 289935 | H7: 289935
A8: 4-COV-AZ+UZ-18173 | B8: AZH ST-MAARTEN MECHELEN (Algemeen Ziekenhuis Sint-Maarten) | C8: Algemene ziekenhuizen | D8: 278080 | F8: =D8+E8 -> 278080 | G8: 278080 | H8: 0
A9: 5-COV-AZ+UZ-200290 | B9: Algemeen ziekenhuis Alma Eeklo (Algemeen Ziekenhuis Alma) | C9: Algemene ziekenhuizen | D9: 189845 | E9: 172079.18 | F9: =D9+E9 -> 361924.18 | G9: 189845 | H9: 172079.18
A10: 6-COV-AZ+UZ-24095 | B10: AZH ST-JAN BRUGGE - OOSTENDE (Algemeen Ziekenhuis Sint-Jan Brugge - Oostende) | C10: Algemene ziekenhuizen | D10: 528895 | F10: =D10+E10 -> 528895 | G10: 528895 | H10: 0
A11: 7-COV-AZ+UZ-4668 | B11: AZH JAN YPERMAN IEPER (Jan Yperman Ziekenhuis) | C11: Algemene ziekenhuizen | D11: 236440 | E11: 72902.75 | F11: =D11+E11 -> 309342.75 | G11: 236440 | H11: 72902.75
A12: 8-COV-AZ+UZ-24144 | B12: AZH TURNHOUT (Algemeen Ziekenhuis Turnhout) | C12: Algemene ziekenhuizen | D12: 276695 | F12: =D12+E12 -> 276695 | G12: 276695 | H12: 0
A13: 9-COV-AZ+UZ-4657 | B13: AZH H-HART FZ LIER (Heilig Hartziekenhuis) | C13: Algemene ziekenhuizen | D13: 188005 | F13: =D13+E13 -> 188005 | G13: 188005 | H13: 0
A14: 10-COV-AZ+UZ-24097 | B14: AZH GASTHUISZUSTERS ANTWERPEN WILRIJK (Gasthuiszusters Antwerpen) | C14: Algemene ziekenhuizen | D14: 447825 | E14: 287112.16 | F14: =D14+E14 -> 734937.16 | G14: 447825 | H14: 287112.16
A15: 11-COV-AZ+UZ-4658 | B15: AZH H-HART MOL (Heilig Hartziekenhuis) | C15: Algemene ziekenhuizen | D15: 104215 | E15: 104215 | F15: =D15+E15 -> 208430 | G15: 104215 | H15: 104215
A16: 12-COV-AZ+UZ-201637 | B16: AZ Rivierenland (Algemeen Ziekenhuis Rivierenland) | C16: Algemene ziekenhuizen | D16: 178260 | E16: 178260 | F16: =D16+E16 -> 356520 | G16: 178260 | H16: 178260
A17: 13-COV-AZ+UZ-4674 | B17: AZH MARIA HALLE (Algemeen Ziekenhuis Sint-Maria) | C17: Algemene ziekenhuizen | D17: 175540 | E17: 86054.31 | F17: =D17+E17 -> 261594.31 | G17: 175540 | H17: 86054.31
A18: 14-COV-AZ+UZ-4656 | B18: AZH H-HART LEUVEN (Regionaal Ziekenhuis Heilig Hart) | C18: Algemene ziekenhuizen | D18: 115960 | E18: 54866.39 | F18: =D18+E18 -> 170826.39 | G18: 115960 | H18: 54866.39
A19: 15-COV-AZ+UZ-4661 | B19: AZH REGIONAAL ZIEKENHUIS HEILIG HART TIENEN (Regionaal Ziekenhuis Heilig Hart Tienen) | C19: Algemene ziekenhuizen | D19: 137780 | E19: 110163.29 | F19: =D19+E19 -> 247943.29 | G19: 137780 | H19: 110163.29
A20: 16-COV-AZ+UZ-201417 | B20: AZ Algemeen Ziekenhuis Delta Roeselare (Algemeen Ziekenhuis Delta) | C20: Algemene ziekenhuizen | D20: 597825 | F20: =D20+E20 -> 597825 | G20: 597825 | H20: 0
A21: 17-COV-AZ+UZ-200330 | B21: AZ Sint-Jozefskliniek Izegem (Sint-Jozefskliniek) | C21: Algemene ziekenhuizen | D21: 98775 | E21: 98775 | F21: =D21+E21 -> 197550 | G21: 98775 | H21: 98775
A22: 18-COV-AZ+UZ-9998 | B22: AZH O-L-VROUW AALST (Onze-Lieve-Vrouwziekenhuis) | C22: Algemene ziekenhuizen | D22: 394900 | E22: 0 | F22: =D22+E22 -> 394900 | G22: 394900 | H22: 0
A23: 19-COV-AZ+UZ-4745 | B23: AZ Sint-Vincentius Deinze | C23: Algemene ziekenhuizen | D23: 66120 | E23: 59761.46 | F23: =D23+E23 -> 125881.46 | G23: 66120 | H23: 59761.46
A24: 20-COV-AZ+UZ-4735 | B24: AZH ST-LUCAS BRUGGE (Algemeen Ziekenhuis Sint-Lucas) | C24: Algemene ziekenhuizen | D24: 198510 | E24: 139723 | F24: =D24+E24 -> 338233 | G24: 198510 | H24: 139723
A25: 21-COV-AZ+UZ-15853 | B25: AZH OUDENAARDE (Algemeen Ziekenhuis Oudenaarde) | C25: Algemene ziekenhuizen | D25: 88570 | F25: =D25+E25 -> 88570 | G25: 88570 | H25: 0
A26: 22-COV-AZ+UZ-6591 | B26: A.S.Z. Autonome Verzorgingsinstelling | C26: Algemene ziekenhuizen | D26: 304770 | E26: 304770 | F26: =D26+E26 -> 609540 | G26: 304770 | H26: 304770
A27: 23-COV-AZ+UZ-9906 | B27: AZH VILVOORDE (Algemeen Ziekenhuis Vilvoorde) | C27: Algemene ziekenhuizen | D27: 144600 | E27: 144600 | F27: =D27+E27 -> 289200 | G27: 144600 | H27: 144600
A28: 24-COV-AZ+UZ-4718 | B28: AZH ST-ELISABETH ZOTTEGEM (Algemeen Ziekenhuis Sint-Elisabeth) | C28: Algemene ziekenhuizen | D28: 155870 | E28: 118431.79 | F28: =D28+E28 -> 274301.79 | G28: 155870 | H28: 118431.79
A29: 25-COV-AZ+UZ-24667 | B29: AZH JESSA ZIEKENHUIS HASSELT (Jessa Ziekenhuis) | C29: Algemene ziekenhuizen | D29: 451835 | E29: 173982.55 | F29: =D29+E29 -> 625817.55 | G29: 451835 | H29: 173982.55
A30: 26-COV-AZ+UZ-17629 | B30: AZH AZL LOKEREN (Algemeen Ziekenhuis Lokeren) | C30: Algemene ziekenhuizen | D30: 57845 | F30: =D30+E30 -> 57845 | G30: 57845 | H30: 0
A31: 27-COV-AZ+UZ-14533 | B31: AZH ST-LUCAS GENT (AZ Sint-Lucas) | C31: Algemene ziekenhuizen | D31: 374550 | F31: =D31+E31 -> 374550 | G31: 374550 | H31: 0
A32: 28-COV-AZ+UZ-24985 | B32: AZH ST-ELISABETH HERENTALS (Algemeen Ziekenhuis Sint-Elisabeth) | C32: Algemene ziekenhuizen | D32: 131065 | E32: 9548.85 | F32: =D32+E32 -> 140613.85 | G32: 131065 | H32: 9548.85
A33: 29-COV-AZ+UZ-4707 | B33: AZH WEST VEURNE (Algemeen Ziekenhuis WEST) | C33: Algemene ziekenhuizen | D33: 125145 | E33: 116557.93 | F33: =D33+E33 -> 241702.93 | G33: 125145 | H33: 116557.93
A34: 30-COV-AZ+UZ-4763 | B34: AZH ZOL GENK (Ziekenhuis Oost-Limburg) | C34: Algemene ziekenhuizen | D34: 413210 | E34: 413210 | F34: =D34+E34 -> 826420 | G34: 413210 | H34: 413210
A35: 31-COV-AZ+UZ-4697 | B35: AZH ZENO KNOKKE-HEIST (Algemeen Ziekenhuis ZENO) | C35: Algemene ziekenhuizen | D35: 152220 | E35: 152220 | F35: =D35+E35 -> 304440 | G35: 152220 | H35: 152220
A36: 32-COV-AZ+UZ-4705 | B36: AZH ST-ANDRIES TIELT (Sint-Andriesziekenhuis) | C36: Algemene ziekenhuizen | D36: 118525 | F36: =D36+E36 -> 118525 | G36: 118525 | H36: 0
A37: 33-COV-AZ+UZ-5581 | B37: AZH GROENINGE KORTRIJK (Algemeen Ziekenhuis Groeninge) | C37: Algemene ziekenhuizen | D37: 450180 | E37: 169975.05 | F37: =D37+E37 -> 620155.05 | G37: 450180 | H37: 169975.05
A38: 34-COV-AZ+UZ-4696 | B38: AZH O-L-VROUW VAN LOURDES WAREGEM (Onze-Lieve-Vrouw van Lourdes Ziekenhuis Waregem) | C38: Algemene ziekenhuizen | D38: 120520 | F38: =D38+E38 -> 120520 | G38: 120520 | H38: 0
A39: 35-COV-AZ+UZ-27188 | B39: AZH DAMIAAN OOSTENDE (Algemeen Ziekenhuis Damiaan) | C39: Algemene ziekenhuizen | D39: 235635 | F39: =D39+E39 -> 235635 | G39: 235635 | H39: 0
A40: 36-COV-AZ+UZ-4729 | B40: Algemeen Ziekenhuis Voorkempen | C40: Algemene ziekenhuizen | D40: 122435 | E40: 122435 | F40: =D40+E40 -> 244870 | G40: 122435 | H40: 122435
A41: 37-COV-AZ+UZ-13148 | B41: AZH Glorieux Ronse (Algemeen Ziekenhuis Glorieux) | C41: Algemene ziekenhuizen | D41: 134420 | E41: 134420 | F41: =D41+E41 -> 268840 | G41: 134420 | H41: 134420
...

Sheet Covid II-16072021
A1: Covid-compensatie II obv het BVR van 16 juli 2021 tot toekenning van een subsidie aan instellingen in het beleidsdomein Welzijn, Volksgezondheid en Gezin voor de vergoeding van bepaalde kosten ten gevolge van de Covid-epidemie
A3: Dossiernummer | B3: Voorziening | C3: Aantal eenheden | D3: Subsidie per eenheid | E3: Totale subsidie | F3: Omschrijving eenheid | G3: Zorgagentschap | H3: Contact zorgagentschap
A4: 1-COVbis-RZ-4638 | B4: AZH DE DENNEN MALLE (Verpleeginrichting De Dennen) - Francisca Castelein | C4: 38 | D4: 90 | E4: 3420 | F4: erkend bed | G4: Agentschap Zorg en Gezondheid | H4: revalidatie@vlaanderen.be
A5: 2-COVbis-RZ-20694 | B5: Revalidatieziekenhuis Lemberge | C5: 63 | D5: 90 | E5: 5670 | F5: erkend bed | G5: Agentschap Zorg en Gezondheid | H5: revalidatie@vlaanderen.be
A6: 3-COVbis-RZ-200855 | B6: Noorderhart - Revalidatie & MS Centrum | C6: 120 | D6: 90 | E6: 10800 | F6: erkend bed | G6: Agentschap Zorg en Gezondheid | H6: revalidatie@vlaanderen.be
A7: 4-COVbis-RZ-26437 | B7: AZH REVARTE EDEGEM (RevArte Revalidatieziekenhuis) | C7: 194 | D7: 90 | E7: 17460 | F7: erkend bed | G7: Agentschap Zorg en Gezondheid | H7: revalidatie@vlaanderen.be
A8: 5-COVbis-RZ-4637 | B8: AZH INKENDAAL SINT-PIETERS-LEEUW (Ziekenhuis Inkendaal - Koninklijke Instelling) | C8: 178 | D8: 90 | E8: 16020 | F8: erkend bed | G8: Agentschap Zorg en Gezondheid | H8: revalidatie@vlaanderen.be
A9: 6-COVbis-RZ-4672 | B9: AZH KONINGIN ELISABETH KOKSIJDE (Koningin Elisabeth Instituut) | C9: 165 | D9: 90 | E9: 14850 | F9: erkend bed | G9: Agentschap Zorg en Gezondheid | H9: revalidatie@vlaanderen.be
A10: 7-COVbis-RZ-4631 | B10: AZH REVALIDATIECENTRUM IMBO OOSTENDE (Revalidatiecentrum IMBO) | C10: 125 | D10: 90 | E10: 11250 | F10: erkend bed | G10: Agentschap Zorg en Gezondheid | H10: revalidatie@vlaanderen.be
A11: 8-COVbis-RZ-4686 | B11: AZH Nationaal Multiple Sclerose Centrum Steenokker (Nationaal Multiple Sclerose Centrum) | C11: 120 | D11: 90 | E11: 10800 | F11: erkend bed | G11: Agentschap Zorg en Gezondheid | H11: revalidatie@vlaanderen.be
A12: 9-COVbis-PVT-4860 | B12: PVT KRAAIENBERG GRIMBERGEN (Psychiatrisch Verzorgingstehuis Kraaienberg) | C12: 29 | D12: 90 | E12: 2610 | F12: erkende opname-eenheid of FOR-PVT-bed | G12: Agentschap Zorg en Gezondheid | H12: geestelijkegezondheidszorg@vlaanderen.be
A13: 10-COVbis-PVT-28229 | B13: PVT SALTO GEEL (Psychiatrisch Verzorgingstehuis Salto) | C13: 75 | D13: 90 | E13: 6750 | F13: erkende opname-eenheid of FOR-PVT-bed | G13: Agentschap Zorg en Gezondheid | H13: geestelijkegezondheidszorg@vlaanderen.be
A14: 11-COVbis-PVT-10977 | B14: PVT SCHORSHAEGEN DUFFEL (Psychiatrisch Verzorgingstehuis Schorshaegen) | C14: 90 | D14: 90 | E14: 8100 | F14: erkende opname-eenheid of FOR-PVT-bed | G14: Agentschap Zorg en Gezondheid | H14: geestelijkegezondheidszorg@vlaanderen.be
A15: 12-COVbis-PVT-4862 | B15: PVT Multiversum MORTSEL (Psychiatrisch Verzorgingstehuis Multiversum) | C15: 210 | D15: 90 | E15: 18900 | F15: erkende opname-eenheid of FOR-PVT-bed | G15: Agentschap Zorg en Gezondheid | H15: geestelijkegezondheidszorg@vlaanderen.be
... A6351: 6350-COVbis-PZ-28043 | B6351: DPZ PLEEGZORG LIMBURG GENK (PLEEGZORG LIMBURG) | C6351: 119.5 | D6351: 90 | E6351: 10755 | F6351: VTE | G6351: Opgroeien - Jongerenwelzijn | H6351: geert.desloovere@opgroeien.be

Sheet Covid III-17122021 - ventilatie
A1: Covid-compensatie III obv het BVR van 17 december 2021 tot toekenning van een subsidie aan instellingen in het beleidsdomein Welzijn, Volksgezondheid en Gezin voor de maatregelen inzake ventilatie en aankoop van zelftesten
E2: =SUM(E4:E6351) -> 15246891
A3: Dossiernummer | B3: Voorziening | C3: Aantal eenheden | D3: Subsidie per eenheid | E3: Totale subsidie | F3: Omschrijving eenheid | G3: Zorgagentschap | H3: Contact zorgagentschap
A4: 1-COVbis-RZ-4638 | B4: AZH DE DENNEN MALLE (Verpleeginrichting De Dennen) - Francisca Castelein | C4: 38 | D4: 90 | E4: 3420 | F4: erkend bed | G4: Agentschap Zorg en Gezondheid | H4: ='Covid II-16072021'!H4 -> revalidatie@vlaanderen.be
A5: 2-COVbis-RZ-20694 | B5: Revalidatieziekenhuis Lemberge | C5: 63 | D5: 90 | E5: 5670 | F5: erkend bed | G5: Agentschap Zorg en Gezondheid | H5: ='Covid II-16072021'!H5 -> revalidatie@vlaanderen.be
A6: 3-COVbis-RZ-200855 | B6: Noorderhart - Revalidatie & MS Centrum | C6: 120 | D6: 90 | E6: 10800 | F6: erkend bed | G6: Agentschap Zorg en Gezondheid | H6: ='Covid II-16072021'!H6 -> revalidatie@vlaanderen.be
A7: 4-COVbis-RZ-26437 | B7: AZH REVARTE EDEGEM (RevArte Revalidatieziekenhuis) | C7: 194 | D7: 90 | E7: 17460 | F7: erkend bed | G7: Agentschap Zorg en Gezondheid | H7: ='Covid II-16072021'!H7 -> revalidatie@vlaanderen.be
A8: 5-COVbis-RZ-4637 | B8: AZH INKENDAAL SINT-PIETERS-LEEUW (Ziekenhuis Inkendaal - Koninklijke Instelling) | C8: 178 | D8: 90 | E8: 16020 | F8: erkend bed | G8: Agentschap Zorg en Gezondheid | H8: ='Covid II-16072021'!H8 -> revalidatie@vlaanderen.be
A9: 6-COVbis-RZ-4672 | B9: AZH KONINGIN ELISABETH KOKSIJDE (Koningin Elisabeth Instituut) | C9: 165 | D9: 90 | E9: 14850 | F9: erkend bed | G9: Agentschap Zorg en Gezondheid | H9: ='Covid II-16072021'!H9 -> revalidatie@vlaanderen.be
A10: 7-COVbis-RZ-4631 | B10: AZH REVALIDATIECENTRUM IMBO OOSTENDE (Revalidatiecentrum IMBO) | C10: 125 | D10: 90 | E10: 11250 | F10: erkend bed | G10: Agentschap Zorg en Gezondheid | H10: ='Covid II-16072021'!H10 -> revalidatie@vlaanderen.be
A11: 8-COVbis-RZ-4686 | B11: AZH Nationaal Multiple Sclerose Centrum Steenokker (Nationaal Multiple Sclerose Centrum) | C11: 120 | D11: 90 | E11: 10800 | F11: erkend bed | G11: Agentschap Zorg en Gezondheid | H11: ='Covid II-16072021'!H11 -> revalidatie@vlaanderen.be
A12: 9-COVbis-PVT-4860 | B12: PVT KRAAIENBERG GRIMBERGEN (Psychiatrisch Verzorgingstehuis Kraaienberg) | C12: 29 | D12: 90 | E12: 2610 | F12: erkende opname-eenheid of FOR-PVT-bed | G12: Agentschap Zorg en Gezondheid | H12: ='Covid II-16072021'!H12 -> geestelijkegezondheidszorg@vlaanderen.be
A13: 10-COVbis-PVT-28229 | B13: PVT SALTO GEEL (Psychiatrisch Verzorgingstehuis Salto) | C13: 75 | D13: 90 | E13: 6750 | F13: erkende opname-eenheid of FOR-PVT-bed | G13: Agentschap Zorg en Gezondheid | H13: ='Covid II-16072021'!H13 -> geestelijkegezondheidszorg@vlaanderen.be
A14: 11-COVbis-PVT-10977 | B14: PVT SCHORSHAEGEN DUFFEL (Psychiatrisch Verzorgingstehuis Schorshaegen) | C14: 90 | D14: 90 | E14: 8100 | F14: erkende opname-eenheid of FOR-PVT-bed | G14: Agentschap Zorg en Gezondheid | H14: ='Covid II-16072021'!H14 -> geestelijkegezondheidszorg@vlaanderen.be
A15: 12-COVbis-PVT-4862 | B15: PVT Multiversum MORTSEL (Psychiatrisch Verzorgingstehuis Multiversum) | C15: 210 | D15: 90 | E15: 18900 | F15: erkende opname-eenheid of FOR-PVT-bed | G15: Agentschap Zorg en Gezondheid | H15: ='Covid II-16072021'!H15 -> geestelijkegezondheidszorg@vlaanderen.be
... A186: 183-COVbis-IBW-4878 | B186: BW ANTWERPEN (Beschut Wonen Antwerpen) | C186: 14.9 | D186: 90 | E186: 1341 | F186: gesubsidieerde VTE | G186: Agentschap Zorg en Gezondheid | H186: ='Covid II-16072021'!H186 -> geestelijkegezondheidszorg@vlaanderen.be
A187: 184-COVbis-WZC-3883 | B187: WZC Zonnetij (Zonnetij) | C187: 148 | D187: 90 | E187: 13320 | F187: erkende woongelegenheid | G187: Agentschap Zorg en Gezondheid | H187: financieringouderenzorg@vlaanderen.be
A188: 185-COVbis-WZC-3885 | B188: WZC Zonnewende (Zonnewende) | C188: 176 | D188: 90 | E188: 15840 | F188: erkende woongelegenheid | G188: Agentschap Zorg en Gezondheid | H188: financieringouderenzorg@vlaanderen.be
A189: 186-COVbis-WZC-3435 | B189: WZC Het Huizeken van Nazareth (Het Huizeken van Nazareth) | C189: 120 | D189: 90 | E189: 10800 | F189: erkende woongelegenheid | G189: Agentschap Zorg en Gezondheid | H189: financieringouderenzorg@vlaanderen.be
A190: 187-COVbis-WZC-3680 | B190: WZC Sint-Jozef (Sint-Jozef) | C190: 72 | D190: 90 | E190: 6480 | F190: erkende woongelegenheid | G190: Agentschap Zorg en Gezondheid | H190: financieringouderenzorg@vlaanderen.be
A191: 188-COVbis-WZC-3317 | B191: WZC De Zavel (De Zavel) | C191: 136 | D191: 90 | E191: 12240 | F191: erkende woongelegenheid | G191: Agentschap Zorg en Gezondheid | H191: financieringouderenzorg@vlaanderen.be
A192: 189-COVbis-WZC-3169 | B192: WZC Residentie Apfelbaum-Laub (Residentie Apfelbaum-Laub) | C192: 90 | D192: 90 | E192: 8100 | F192: erkende woongelegenheid | G192: Agentschap Zorg en Gezondheid | H192: financieringouderenzorg@vlaanderen.be
A193: 190-COVbis-WZC-3848 | B193: WZC Vinck-Heymans (Vinck-Heymans) | C193: 205 | D193: 90 | E193: 18450 | F193: erkende woongelegenheid | G193: Agentschap Zorg en Gezondheid | H193: financieringouderenzorg@vlaanderen.be
A194: 191-COVbis-WZC-3259 | B194: WZC De Gulden Lelie (De Gulden Lelie) | C194: 129 | D194: 90 | E194: 11610 | F194: erkende woongelegenheid | G194: Agentschap Zorg en Gezondheid | H194: financieringouderenzorg@vlaanderen.be
A195: 192-COVbis-WZC-3590 | B195: WZC Lozanahof (Lozanahof) | C195: 271 | D195: 90 | E195: 24390 | F195: erkende woongelegenheid | G195: Agentschap Zorg en Gezondheid | H195: financieringouderenzorg@vlaanderen.be
A196: 193-COVbis-WZC-3203 | B196: WZC Bilzenhof (Bilzenhof) | C196: 95 | D196: 90 | E196: 8550 | F196: erkende woongelegenheid | G196: Agentschap Zorg en Gezondheid | H196: financieringouderenzorg@vlaanderen.be
A197: 194-COVbis-WZC-3426 | B197: WZC Hof Ter Schelde (Hof Ter Schelde) | C197: 155 | D197: 90 | E197: 13950 | F197: erkende woongelegenheid | G197: Agentschap Zorg en Gezondheid | H197: financieringouderenzorg@vlaanderen.be
A198: 195-COVbis-WZC-3679 | B198: WZC Residentie Sint-Jozef (Residentie Sint-Jozef) | C198: 59 | D198: 90 | E198: 5310 | F198: erkende woongelegenheid | G198: Agentschap Zorg en Gezondheid | H198: financieringouderenzorg@vlaanderen.be
... A6351: 6350-COVbis-PZ-28043 | B6351: DPZ PLEEGZORG LIMBURG GENK (PLEEGZORG LIMBURG) | C6351: 119.5 | D6351: 90 | E6351: 10755 | F6351: VTE | G6351: Opgroeien - Jongerenwelzijn | H6351: geert.desloovere@opgroeien.be
