Workbook

Sheet Handleiding
B2: EPI Rekenblad zone kamers
B4: 24 mei 2011
B5: VIPA
B7: Doel: | C7: Omrekenen van het E-peil van een ventilatiezone kamers in een woonzorgcentrum berekend met de epb-software (EPU).
B9: Gebruik:
B11: 1 | C11: Vul epb-bestand in (bestemming: kantoor)
D12: ventilatiezone WZC: kamers, leefruimtes e.a. functies die continu bezet worden | M12: tijdsfractie = 1 i.p.v. 0.3
F13: bediend door hetzelfde ventilatiesysteem als kamers
E14: - vul de epb-software in als bestemming kantoor
E15: - de verlichting moet in de epb-software niet gedetailleerd ingegeven worden (verlichting = waarde bij onstentenis)
E16: - voor de hygiënische ventilatie volstaat het een ruimte te definiëren met een oppervlak gelijk aan het totaal netto vloeroppervlak
E17: - de hygiënische ventilatie voor deze ene ruimte wordt ingegeven als 'ruimte niet voor menselijke bestemming' met mechanische ventilatie evenveel als het minimaal verplichte debiet.
B19: 2 | C19: Kopieer resultaten verwarming en koeling van de ventilatiezone kamers (EPI) in het tabblad <ResultatenEPB> van dit rekenblad.
B21: 3 | C21: Vul de gegevens in in het blad <Gegevensinvoer>
B23: 4 | C23: De resultaten zijn te vinden in het blad <E-peil>.
C24: De rekenresultaten van de verschillende energiestromen zijn te vinden in het blad <Berekeningsresultaten>.
B26: 5 | C26: Het E-peil voor het project (som van de verschillende ventilatiezones) wordt berekend in het EPI projectrekenblad.
B29: Volgende data zijn beschikbaar:
C31: E-peilberekening woonzorgcentra: | J31: Voorbeeld: | L31: 1. korte beschrijving test
C32: - Handleiding | L32: 2. EPI projectrekenblad
C33: - EPI projectrekenblad | L33: 3. EPI zonerekenblad
C34: - EPI rekenblad zone kamers | L34: 4. Rekenblad verlichting

Sheet ResultatenEPB
B2: EPB-resultaten
B4: Geef hier de resultaten in berekend met de epb-software.
B5: 1. epb>resultaten>subdossier>verwarming>energiesector
B6: 2. epb>resultaten>subdossier>koeling>energiesector
B8: !!! Let op met tekenconventies: punten en komma's
C10: jan | D10: feb | E10: mar | F10: apr | G10: mei | H10: jun | I10: jul | J10: aug | K10: sep | L10: okt | M10: nov | N10: dec | O10: totaal
B11: Verwarming
B13: transmissieverliezen | C13: 36428.628 | D13: 31445.537 | E13: 30203.483 | F13: 21866.102 | G13: 13141.973 | H13: 6247.4577 | I13: 3227.8531 | J13: 3227.8531 | K13: 8478.6925 | L13: 17983.753 | M13: 28336.683 | N13: 35736.945 | O13: =SUM(C13:N13) -> 236324.96 | P13: MJ
B14: ventilatieverliezen | C14: 20933.344 | D14: 18069.861 | E14: 17356.127 | F14: 12565.135 | G14: 7551.9026 | H14: 3590.0386 | I14: 1854.8533 | J14: 1854.8533 | K14: 4872.1953 | L14: 10334.183 | M14: 16283.389 | N14: 20535.876 | O14: =SUM(C14:N14) -> 135801.76 | P14: MJ
B15: interne winsten | C15: 12649.641 | D15: 11425.483 | E15: 12649.641 | F15: 12241.588 | G15: 12649.641 | H15: 12241.588 | I15: 12649.641 | J15: 12649.641 | K15: 12241.588 | L15: 12649.641 | M15: 12241.588 | N15: 12649.641 | O15: =SUM(C15:N15) -> 148939.33 | P15: MJ
B16: zonnewinsten | C16: 1984.7247 | D16: 3215.2207 | E16: 5544.218 | F16: 7599.2001 | G16: 9833.1097 | H16: 10013.517 | I16: 9851.1974 | J16: 9046.2184 | K16: 7113.5062 | L16: 4790.7836 | M16: 2492.2554 | N16: 1562.1965 | O16: =SUM(C16:N16) -> 73046.148 | P16: MJ
B17: benuttingsfactor | C17: 0.79565037 | D17: 0.77068348 | E17: 0.72216544 | F17: 0.63331914 | G17: 0.47841126 | H17: 0.30603313 | I17: 0.22588964 | J17: 0.2342708 | K17: 0.40748177 | L17: 0.61777257 | M17: 0.75063626 | N17: 0.79728781 | P17: MJ
B18: netto behoefte | C18: 45718.133 | D18: 38232.05 | E18: 34420.633 | F18: 21865.686 | G18: 9937.8748 | H18: 3026.6965 | I18: 0 | J18: 0 | K18: 5464.0395 | L18: 17543.72 | M18: 33560.315 | N18: 44941.896 | O18: =SUM(C18:N18) -> 254711.04 | P18: MJ
B19: systeemrendement | C19: 0.8 | D19: 0.8 | E19: 0.8 | F19: 0.8 | G19: 0.8 | H19: 0.8 | I19: 0.8 | J19: 0.8 | K19: 0.8 | L19: 0.8 | M19: 0.8 | N19: 0.8 | P19: MJ
B20: bruto energiebehoefte | C20: 57147.667 | D20: 47790.062 | E20: 43025.792 | F20: 27332.107 | G20: 12422.343 | H20: 3783.3706 | I20: 0 | J20: 0 | K20: 6830.0494 | L20: 21929.649 | M20: 41950.394 | N20: 56177.37 | O20: =SUM(C20:N20) -> 318388.8 | P20: MJ
B21: opwekkingsrendement | C21: 0.95769 | D21: 0.95769 | E21: 0.95769 | F21: 0.95769 | G21: 0.95769 | H21: 0.95769 | I21: 0.95769 | J21: 0.95769 | K21: 0.95769 | L21: 0.95769 | M21: 0.95769 | N21: 0.95769 | P21: MJ
B22: eindenergieverbruik | C22: 59672.406 | D22: 49901.39 | E22: 44926.638 | F22: 28539.619 | G22: 12971.153 | H22: 3950.517 | I22: 0 | J22: 0 | K22: 7131.7956 | L22: 22898.484 | M22: 43803.729 | N22: 58659.242 | O22: =SUM(C22:N22) -> 332454.97 | P22: MJ
B25: Koeling
B27: transmissieverliezen | C27: 41039.847 | D27: 35610.509 | E27: 34814.702 | F27: 26328.572 | G27: 17753.192 | H27: 10709.927 | I27: 7839.0719 | J27: 7839.0719 | K27: 12941.162 | L27: 22594.972 | M27: 32799.153 | N27: 40348.164 | O27: =SUM(C27:N27) -> 290618.34 | P27: MJ
B28: ventilatieverliezen | C28: 17558.686 | D28: 15859.458 | E28: 17558.686 | F28: 16992.277 | G28: 17558.686 | H28: 11651.847 | I28: 8528.5047 | J28: 8528.5047 | K28: 14079.315 | L28: 17558.686 | M28: 16992.277 | N28: 17558.686 | O28: =SUM(C28:N28) -> 180425.61 | P28: MJ
B29: interne winsten | C29: 15812.052 | D29: 14281.853 | E29: 15812.052 | F29: 15301.986 | G29: 15812.052 | H29: 15301.986 | I29: 15812.052 | J29: 15812.052 | K29: 15301.986 | L29: 15812.052 | M29: 15301.986 | N29: 15812.052 | O29: =SUM(C29:N29) -> 186174.16 | P29: MJ
B30: zonnewinsten | C30: 1883.5427 | D30: 3051.3075 | E30: 5261.5716 | F30: 7211.7899 | G30: 9331.8139 | H30: 9503.0244 | I30: 9348.9795 | J30: 8585.0387 | K30: 6750.8568 | L30: 4546.5476 | M30: 2365.1992 | N30: 1482.5551 | O30: =SUM(C30:N30) -> 69322.227 | P30: MJ
B31: benuttingsfactor | C31: 0.30198016 | D31: 0.33676262 | E31: 0.35885392 | F31: 0.43852658 | G31: 0.54539539 | H31: 0.69525401 | I31: 0.79037805 | J31: 0.7822263 | K31: 0.592674 | L31: 0.43047795 | M31: 0.35482381 | N31: 0.29866254 | P31: MJ
B32: netto behoefte | C32: 0 | D32: 0 | E32: 2507.151 | F32: 3868.0753 | G32: 6473.4229 | H32: 10183.686 | I32: 13446.904 | J32: 12753.336 | K32: 6642.3588 | L32: 3380.6684 | M32: 0 | N32: 0 | O32: =SUM(C32:N32) -> 59255.602 | P32: MJ
B33: systeemrendement | C33: 1 | D33: 1 | E33: 1 | F33: 1 | G33: 1 | H33: 1 | I33: 1 | J33: 1 | K33: 1 | L33: 1 | M33: 1 | N33: 1 | P33: MJ
B34: bruto energiebehoefte | C34: 0 | D34: 0 | E34: 2507.151 | F34: 3868.0753 | G34: 6473.4229 | H34: 10183.686 | I34: 13446.904 | J34: 12753.336 | K34: 6642.3588 | L34: 3380.6684 | M34: 0 | N34: 0 | O34: =SUM(C34:N34) -> 59255.602 | P34: MJ
B35: opwekkingsrendement | C35: 5 | D35: 5 | E35: 5 | F35: 5 | G35: 5 | H35: 5 | I35: 5 | J35: 5 | K35: 5 | L35: 5 | M35: 5 | N35: 5 | P35: MJ
B36: eindenergieverbruik | C36: 0 | D36: 0 | E36: 501.4302 | F36: 773.61506 | G36: 1294.6846 | H36: 2036.7373 | I36: 2689.3808 | J36: 2550.6672 | K36: 1328.4718 | L36: 676.13369 | M36: 0 | N36: 0 | O36: =SUM(C36:N36) -> 11851.12 | P36: MJ

Sheet Gegevensinvoer
B2: Gegevens invoer
B4: Dit is het hoofdblad waar gegevens ingevoerd kunnen worden.
B5: In kolom C alle gegevens invullen (in sommige vakjes staat een opmerking met informatie over het in te geven getal)
B6: (Door met de cursor over de rode driehoekjes te bewegen in de rechterbovenhoek van een cel, kan de opmerking gelezen worden.)
B10: E-peil ventilatiezone | C10: ='E-peil'!D24 -> 44
B12: Geometrische gegevens
B14: totaal verliesoppervlakte | C14: 2177.86 | D14: m²
B15: volume | C15: 4904.85 | D15: m³
B16: aantal bedden | C16: 16
B17: netto vloeroppervlakte | C17: =SUM(C18:C21) -> 1192.2 | D17: m²
B18: - kamers (incl. badkamer) | C18: 441.6 | D18: m²
B19: - leefruimtes | C19: 276.6 | D19: m²
B20: - kantoor, kinélokaal, apotheker, gemeenschappelijke badkamer … | C20: 0 | D20: m²
B21: - andere (circulatie, berging, …) | C21: 474 | D21: m²
B23: Bouwkundige maatregelen
B24: K-peil | C24: 28
B25: luchtdichtheid (v50) | C25: 1.5 | D25: m³/h/m²
B26: capaciteit | D26: kJ/K
B28: installatietechnische maatregelen
B29: verwarming:
B30: - opwekkingsrendement | C30: 4.62
B31: - systeemrendement (afgifte) | C31: 0.84
B32: - primaire omzettingsfactor | C32: 2.5
B33: - regeling pompen | C33: 0.5
B35: sanitair warm water:
B36: twee berekeningsmethodes:
B37: 1. primair energieverbruik SWW | D37: MJ/jaar
B38: of
B39: 2. vereenvoudigde berekening (indien alle leidingen binnen het beschermde volume liggen en de leidingsverliezen van alle leidingen gelijk zijn)
B40: - productie (hopw en hopslag) | C40: 0.45
B41: - lengte circulatieleiding SWW | C41: 15 | D41: m/bed
B42: - lengte tapleiding SWW per bed | C42: 3 | D42: m/bed
B43: - leidingsverliezen | C43: 9 | D43: W/m
B44: - aantal m² zonnecollectoren | D44: m²
B45: - oriëntatie collectoren | D45: °
B46: - helling collectoren | D46: °
B48: ventilatie: | C48: D
B49: - rfans | C49: 0.8
B50: - rendement warmteterugwinning | C50: 0.8
B51: - SFP (specific fan power) | C51: 2
B52: - regeling van de ventilatoren | C52: 0.65
B53: - ontwerppulsiedebiet | C53: 5515 | D53: m³/h
B54: - ontwerpextractiedebiet | C54: 5600 | D54: m³/h
B55: - minimum toevoerdebiet | C55: 3016 | D55: m³/h
B56: - piekventilatiedebiet (zomer) | C56: 3016 | D56: m³/h
B57: - opwekkingsrendement bevochtiging | C57: 0.75
B58: - vochtrecuperatie | C58: 1
B59: - primaire omzettingsfactor bevochtiging | C59: 1
B61: verlichting:
B62: - primair energieverbruik verlichting | C62: 99263 | D62: MJ/jaar
B63: - budgetterm verlichting | C63: 292908 | D63: MJ/jaar
B64: - gemiddeld vermogen/m² | C64: 6 | D64: W/m²
B65: - aantal branduren | C65: 1995 | D65: uur
B67: koeling:
B68: - opwekkingsrendement | C68: 5
B69: - systeemrendement | C69: 0.84
B70: - primaire omzettingsfactor | C70: 2.5
B71: - regeling pompen | C71: 0.5
B73: PV-panelen: primaire energieopwekking | C73: 0 | D73: MJ/jaar

Sheet E-peil
B2: Berekening van het E-peil
B4: De volgende tabel geeft het E-peil van de ventilatiezone.
B5: Er moeten geen gegevens ingevoerd worden.
B6: Het primair energieverbruik en het referentie-energieverbruik moeten ingegeven worden in het VIPA projectrekenblad
D9: Ventilatiezone
B10: primair energieverbruik | C10: MJ | D10: =Berekeningsresultaten!O86 -> 846262.1
B12: vloeropp Af | C12: m² | D12: =Gegevensinvoer!C17 -> 1192.2
B13: verliesopp AT | C13: m² | D13: =Gegevensinvoer!C14 -> 2177.86
B14: min toevoerventilatiedebiet | C14: m³/h | D14: =Gegevensinvoer!C55 -> 3016
B15: ontwerp toevoerventilatiedebiet | C15: m³/h | D15: =Gegevensinvoer!C53 -> 5515
B16: overdebiet | C16: m³/h | D16: =D15-D14 -> 2499
B17: budgetterm verlichting | D17: =Gegevensinvoer!C63 -> 292908
B18: primair verlichting | D18: =Gegevensinvoer!C62 -> 99263
B20: PV-panelen | D20: =Gegevensinvoer!C73 -> 0
B22: kamers | D22: =Gegevensinvoer!C16 -> 16
B23: Referentie-energieverbruik | C23: MJ | D23: =Parameters!$B$125*D12+Parameters!$B$126*D13+Parameters!$B$127*D14+Parameters!$B$128*D16+D17+Parameters!$B$130*D22 -> 1931027.9
B24: Globaal E-peil | D24: =ROUNDUP((D10-D20)/D23*100,0) -> 44

Sheet Parameters
A2: Parameters en tussenrekenresultaten
B3: jan | C3: feb | D3: mrt | E3: apr | F3: mei | G3: jun | H3: jul | I3: aug | J3: sep | K3: okt | L3: nov | M3: dec
A4: Algemeen
A6: tm | B6: 2.6784 | C6: 2.4192 | D6: 2.6784 | E6: 2.592 | F6: 2.6784 | G6: 2.592 | H6: 2.6784 | I6: 2.6784 | J6: 2.592 | K6: 2.6784 | L6: 2.592 | M6: 2.6784 | N6: Ms | P6: sumproduct: tm x Te | Q6: =SUMPRODUCT(B6:M6,B7:M7) -> 324.648
A7: θ | B7: 3.2 | C7: 3.9 | D7: 5.9 | E7: 9.2 | F7: 13.3 | G7: 16.2 | H7: 17.6 | I7: 17.6 | J7: 15.2 | K7: 11.2 | L7: 6.3 | M7: 3.5 | N7: °C | P7: gemiddelde Te | Q7: =Q6/SUM(B6:M6) -> 10.294521
A8: θe,v,koeling | B8: 16 | C8: 16 | D8: 16 | E8: 16 | F8: 16 | G8: 18.2 | H8: 19.6 | I8: 19.6 | J8: 17.2 | K8: 16 | L8: 16 | M8: 16 | N8: °C | P8: =AVERAGE(B7,C7,D7,L7,M7) -> 4.56
A9: ti, RVT, verwarming | B9: 23 | C9: 23 | D9: 23 | E9: 23 | F9: 23 | G9: 23 | H9: 23 | I9: 23 | J9: 23 | K9: 23 | L9: 23 | M9: 23 | N9: °C
A10: ti, RVT, koeling | B10: 23 | C10: 23 | D10: 23 | E10: 23 | F10: 23 | G10: 23 | H10: 23 | I10: 23 | J10: 23 | K10: 23 | L10: 23 | M10: 23 | N10: °C
A11: ti | B11: 19 | C11: =B11 -> 19 | D11: =C11 -> 19 | E11: =D11 -> 19 | F11: =E11 -> 19 | G11: =F11 -> 19 | H11: =G11 -> 19 | I11: =H11 -> 19 | J11: =I11 -> 19 | ... M11: =L11 -> 19 | N11: °C
A12: Ventilatie
F13: EPU
A14: rfans,cool,seci | B14: 0.8
A15: fvent,heat | B15: 1 | C15: tijdsfractie ventilatie verwarming | F15: 0.3 | O15: rfans,cool,seci | P15: mechanische pulsie, W forfetair | Q15: 0.3
A16: fvent,cool | B16: 1 | C16: tijdsfractie ventilatie koeling | F16: 0.3 | P16: enkel mech extractie | Q16: 0
A17: ffans,seci,m | B17: 1 | C17: tijdsfractie ventilatoren | F17: 0.3 | P17: mech. Pulsie + extractie | Q17: 0.6
A18: fregel | B18: =IF(Gegevensinvoer!C56=0,1,MIN(Gegevensinvoer!C53/Gegevensinvoer!C56,1)) -> 1 | C18: terugregeling ventilatie winter | F18: 1 | P18: recirculatie of wtw | Q18: 0.8
P19: overige | Q19: 0.5
A20: Gegevens om minimale ventilatiedebieten te berekenen
A21: Bezetting | P21: p.23 bijlage II
A22: patientenkamer | B22: 2 | C22: ventilatievouden per kamer of per zone van alle kamers
A23: polyvalenteruimte | B23: 4 | C23: m²/persoon
A24: verpleeglokalen, kine, kantoren | B24: 10 | C24: m²/persoon
A25: niet voor menselijke bezetting | B25: 1.3 | C25: m³/h.m²
A28: Interne warmtewinsten
B30: kamer | D30: leefruimtes | E30: kantoren,… | F30: andere (circulatie, berging,…) | P30: kamers | Q30: leefruimtes
A31: personen | B31: =(80*12+100*12*0.5*1.3)/24 -> 72.5 | C31: W/kamer | D31: =100/B23*D33 -> 12.5 | E31: =100/B24*E33 -> 5 | G31: W/m² | O31: personen | P31: (80W.12h+100W.12h.0.5.1.5)/24h | Q31: 100W.A/4.0.5 | R31: overdag 1.5 pers op een kamer over 0.5% van de tijd
A32: apparaten | B32: =(150*9+150/4*15)/24 -> 79.6875 | C32: W/kamer | D32: =2*D33 -> 1 | E32: =D32 -> 1 | G32: W/m² | O32: apparaten | P32: (150W.9h+150W/4.15h)/24h | Q32: 2 W/m².0.5
A33: bezettingsgraad | D33: 0.5 | E33: 0.5
A34: totaal | B34: =B31+B32 -> 152.1875 | C34: W/kamer | D34: =D31+D32 -> 13.5 | E34: =E31+E32 -> 6 | F34: =F31+F32 -> 0 | G34: W/m²
A36: ventilatie | B36: zie ventilatie | O36: ventilatie | P36: zie Ugent | Q36: zie Ugent
A37: verlichting | B37: =Gegevensinvoer!C64*Gegevensinvoer!C65/(365*24) -> 1.3664384 | G37: W/m² | O37: verlichting | P37: zie verlichting | Q37: zie verlichting
A41: verwarming
A43: effectieve th. Capaciteit C | B43: =IF(Gegevensinvoer!C26=0,55*Gegevensinvoer!C17,Gegevensinvoer!C26) -> 65571 | C43: kJ/K
A44: AT,E,seci | B44: =Gegevensinvoer!C14 -> 2177.86 | C44: m²
A45: HT, koeling | B45: =B46 -> 860.81593 | C45: W/K
A46: Ht, verwarming | B46: =(ResultatenEPB!C13/(Parameters!B11-Parameters!B7)/Parameters!B6) -> 860.81593 | C46: W/K
A48: Ventilatieverliezen
A49: Kamers en leefruimte | B49: Vsupply,sec,i | C49: rpreh,heat,seci | D49: rpreh,cool,seci | E49: Vsupp,heat | F49: Vsupp,cool
A50: mechanisch | B50: =IF(Gegevensinvoer!C48="D",Gegevensinvoer!C53,0) -> 5515 | C50: =K50 -> 0.33032143 | D50: 1 | E50: =B50*C50*Parameters!$B$15*Parameters!$B$18 -> 1821.7227 | F50: =B50*D50*Parameters!$B$16 -> 5515 | J50: rpreh | K50: =(B50-K51*MIN(B50,B55)+MAX(0,B55-B50))/MAX(B50,B55) -> 0.33032143
A51: natuurlijk | B51: =IF(Gegevensinvoer!C48="C",Gegevensinvoer!C53,0) -> 0 | C51: 1 | D51: 1 | E51: =B51*C51*Parameters!$B$15*Parameters!$B$18 -> 0 | F51: =B51*D51*Parameters!$B$16 -> 0 | J51: e | K51: =K52*K53 -> 0.68
A52: totaal | B52: =SUM(B50:B51) -> 5515 | E52: =SUM(E50:E51) -> 1821.7227 | F52: =SUM(F50:F51) -> 5515 | J52: rendement | K52: =Gegevensinvoer!C50 -> 0.8
B53: m³/h | C53: - | D53: - | E53: m³/h | F53: m³/h | J53: rp | K53: 0.85 | M53: (continue meting debiet: 0.95, anders 0.85)
A55: afvoer mechanisch | B55: =Gegevensinvoer!C54 -> 5600 | C55: m³/h
A57: Hv,heat,sec,i | B57: =0.34*($B$62+$E$52) -> 663.81405 | C57: W/k
A58: Hv,cool,sec,i | B58: =0.34*($B$63+$F$52) -> 2230.5268 | C58: W/k
A60: Infiltratieverliezen
A61: v50 | B61: =Gegevensinvoer!C25 -> 1.5 | C61: m³/(hm²) | K61: v50 | L61: n50
A62: Vinf/exfilt,heat,sec,i | B62: =0.04*B61*B44 -> 130.6716 | C62: m²/h | K62: =#REF!*L62 -> #REF! | L62: 2
A63: Vinf/exfilt,cool,sec,i | B63: =0.48*B44 -> 1045.3728 | C63: m²/h
A65: Elektriciteitsverbruik ventilatoren | C65: ofwel parameters invullen in forfetair ofwel in geinstalleerd, anders enkel geinstalleerd berekend
A66: parameters berekening forfaitair
A67: csys | B67: =IF(Gegevensinvoer!C70=0,0.55,0.85) -> 0.85 | C67: - | D67: (0.85 met koeling, 0.55 zonder koeling)
A68: Pdef,seci | B68: =B67*B50 -> 4687.75 | C68: W
A69: parameters berekening geïnstalleerde vermogens
A70: fctrl,j | B70: =Gegevensinvoer!C52 -> 0.65 | C70: -
A71: Pinstal,j | B71: =IF(B75=0,0,VLOOKUP(B75,K72:M74,3,FALSE)*B72) -> 2315.625 | C71: W | L71: W/(m³/s) | M71: W/(m³/h)
A72: Vseci,j | B72: =B50+B55 -> 11115 | C72: m³/h | D72: (som supply en extract) | K72: 1 | L72: 500 | M72: =L72/3600 -> 0.13888889
A73: Vj | B73: =B72 -> 11115 | C73: m³/h | K73: 2 | L73: 750 | M73: =L73/3600 -> 0.20833333
K74: 3 | L74: 1250 | M74: =L74/3600 -> 0.34722222
A75: SFP | B75: =Gegevensinvoer!C51 -> 2
A79: Koeling
E80: EPU
A81: correctiefactor aandeel latente koellast | B81: 1.1 | E81: 1.1
A82: weegfactor | B82: =IF(Gegevensinvoer!C70=0,1,1.5) -> 1.5 | E82: 1.5 | G82: (EPU 1 indien geen actieve koeling, 1.5 bij actieve koeling)
A83: b0 | B83: =R94 -> 1.46 | E83: 1.83
A84: T0 | B84: =T94 -> 55.6 | C84: h | E84: 83 | P84: Constanten | Q84: b0,cool (-) | S84: τ0,cool
A85: systeemrendement | P85: Gebruiksfunctie gebouw | Q85: EPB | R85: NEN | S85: EPB | T85: NEN
A86: acool | B86: 0.06 | C86: systeem 3 | E86: 0 | P86: Woningen | Q86: 1 | R86: 1 | S86: 54 000 s | T86: 57 600 s
A87: fannih | B87: 0.4 | C87: systeem 3 | E87: 0 | G87: verwarmen en koelen: 0.4, enkel verwarmen 0 | S87: (15 h) | T87: (16 h)
A88: fcool,net | B88: =E88 -> 1 | C88: speelt niet mee | E88: 1 | P88: Kantoor – en schoolgebouwen | Q88: 1.83 | R88: 0.81 | S88: 83 | T88: 77 h | U88: h
A89: systeemrendement EPU | B89: =Gegevensinvoer!C69 -> 0.84 | S89: 298800 | T89: 276 923 s | U89: s
A90: Bruto energieverbruik | P90: celfunctie en cellengebouw | R90: 0.81 | T90: 77 | U90: h
A91: deellastfactor | B91: 1 | E91: zie tabellen Duitse norm afh van type koelmachine | P91: gezondheidszorgfunctie (niet-klinisch) | T91: 276923 | U91: s
A92: benuttingsfactor | B92: 0 | E92: zie tabellen Duitse norm afh van type koelmachine | P92: logiesgebouw
A93: EER | B93: =Gegevensinvoer!C68 -> 5 | E93: warmtepomp in zomerbedrijf: 5, geen koeling : 5 | J93: rekenblad VEA WP | P93: winkelfunctie
A94: qr,elektr | B94: 0 | C94: tabel 29: indien luchtgekoeld 0 | P94: gezondheidszorg (klinisch) (nachtverblijf) | R94: 1.46 | T94: 55.6 | U94: h
A95: bedrijfstijd koeling | B95: 1 | T95: 200 000 s
P96: bijeenkomstfunctie | R96: 0.56 | T96: 66.6 h
A97: Eindenergieverbruik | P97: sportfunctie | T97: 240 000 s
A98: fheat,pref | B98: =IF(Gegevensinvoer!C70=0,1,Gegevensinvoer!C70) -> 2.5 | P98: ISO 13790 | Q98: 1 | S98: 15 h
A100: Benuttingsfactor verwarming
A102: Tussenresultaten
B103: a | C103: =C104+C106/C105 -> 0.97066592
B104: a,0, heat | C104: 0.8
B105: theta,0, heat | C105: 70
B106: theta | C106: =C107/(3.6*(C108+C109)) -> 11.946615
B107: Cseci | C107: =55*Gegevensinvoer!C17 -> 65571
B108: HT | C108: =B46 -> 860.81593
B109: HV, heat | C109: =B57 -> 663.81405
A110: Installatie verwarming
B111: systeemrendement | C111: =Gegevensinvoer!C30 -> 4.62 | E111: overnemen uit EPU
B112: opwekkingsrendement | C112: =Gegevensinvoer!C31 -> 0.84 | E112: uit rekenblad VEA: condensatieketel + warmtepomp
B113: primaire factor | C113: =Gegevensinvoer!C32 -> 2.5
A115: Hulpenergieverbruik
A116: Pompen | E116: geen koeling | F116: 75% pompen automatische regeling | G116: geen automatische regeling op 75% vd pompen
B117: fctrl,heat | C117: =Gegevensinvoer!C33 -> 0.5 | F117: 0.5 | G117: 1
B118: fctrl,cool | C118: =Gegevensinvoer!C71 -> 0.5 | E118: 0 | F118: 0.5 | G118: 1
E120: 1: geen automatische regeling op pompen
A123: Referentie
B124: 0.73
...

Sheet SWW
C2: Berekening warm tapwater
C4: aantal bedden | D4: =Gegevensinvoer!C16 -> 16 | M4: januari | N4: februari | O4: maart | P4: april | Q4: mei | R4: juni | S4: juli | T4: augustus | U4: september | V4: oktober | W4: november | X4: december | Y4: gemiddelde
C5: behoefte/kamer | D5: 25 | E5: l/dag | L5: tm | M5: =Parameters!B6 -> 2.6784 | N5: =Parameters!C6 -> 2.4192 | O5: =Parameters!D6 -> 2.6784 | P5: =Parameters!E6 -> 2.592 | Q5: =Parameters!F6 -> 2.6784 | R5: =Parameters!G6 -> 2.592 | S5: =Parameters!H6 -> 2.6784 | T5: =Parameters!I6 -> 2.6784 | ... X5: =Parameters!M6 -> 2.6784 | Z5: =Parameters!N6 -> Ms
C6: behoefte | D6: =D4*D5 -> 400 | E6: l/dag | L6: θe,m | M6: =Parameters!B7 -> 3.2 | N6: =Parameters!C7 -> 3.9 | O6: =Parameters!D7 -> 5.9 | P6: =Parameters!E7 -> 9.2 | Q6: =Parameters!F7 -> 13.3 | R6: =Parameters!G7 -> 16.2 | S6: =Parameters!H7 -> 17.6 | T6: =Parameters!I7 -> 17.6 | ... X6: =Parameters!M7 -> 3.5
C7: aantal dagen/jaar | D7: 365 | L7: θamb,m,j | M7: =IF($D$25=1,$I$25,IF($D$25=2,11+0.4*M6,M6)) -> 23 | N7: =IF($D$25=1,$I$25,IF($D$25=2,11+0.4*N6,N6)) -> 23 | O7: =IF($D$25=1,$I$25,IF($D$25=2,11+0.4*O6,O6)) -> 23 | P7: =IF($D$25=1,$I$25,IF($D$25=2,11+0.4*P6,P6)) -> 23 | Q7: =IF($D$25=1,$I$25,IF($D$25=2,11+0.4*Q6,Q6)) -> 23 | R7: =IF($D$25=1,$I$25,IF($D$25=2,11+0.4*R6,R6)) -> 23 | S7: =IF($D$25=1,$I$25,IF($D$25=2,11+0.4*S6,S6)) -> 23 | T7: =IF($D$25=1,$I$25,IF($D$25=2,11+0.4*T6,T6)) -> 23 | ... X7: =IF($D$25=1,$I$25,IF($D$25=2,11+0.4*X6,X6)) -> 23
C8: behoefte | D8: =D7*D6 -> 146000 | E8: l/jaar | L8: ηwater,circk,m | M8: =$D$23/($D$23+M5*$D$16*($H$29-M7)/$D$31) -> 0.32975623 | N8: =$D$23/($D$23+N5*$D$16*($H$29-N7)/$D$31) -> 0.35262852 | O8: =$D$23/($D$23+O5*$D$16*($H$29-O7)/$D$31) -> 0.32975623 | P8: =$D$23/($D$23+P5*$D$16*($H$29-P7)/$D$31) -> 0.33704336 | Q8: =$D$23/($D$23+Q5*$D$16*($H$29-Q7)/$D$31) -> 0.32975623 | R8: =$D$23/($D$23+R5*$D$16*($H$29-R7)/$D$31) -> 0.33704336 | S8: =$D$23/($D$23+S5*$D$16*($H$29-S7)/$D$31) -> 0.32975623 | T8: =$D$23/($D$23+T5*$D$16*($H$29-T7)/$D$31) -> 0.32975623 | ... X8: =$D$23/($D$23+X5*$D$16*($H$29-X7)/$D$31) -> 0.32975623
C9: volume | D9: =D8/1000 -> 146 | E9: m³/jaar | K9: ηsys, bath=ηtubing, bath*ηwater, circ | L9: ηsys,bath,i,m | M9: =M8*$D$22 -> 0.2944252 | N9: =N8*$D$22 -> 0.3148469 | O9: =O8*$D$22 -> 0.2944252 | P9: =P8*$D$22 -> 0.30093157 | Q9: =Q8*$D$22 -> 0.2944252 | R9: =R8*$D$22 -> 0.30093157 | S9: =S8*$D$22 -> 0.2944252 | T9: =T8*$D$22 -> 0.2944252 | ... X9: =X8*$D$22 -> 0.2944252 | Y9: =AVERAGE(M9:X9) -> 0.2982958
C10: ρ | D10: 998 | E10: kg/m³ | L10: leidingsverliezen | M10: =($H$29-M7)/$D$31 -> 9 | N10: =($H$29-N7)/$D$31 -> 9 | O10: =($H$29-O7)/$D$31 -> 9 | P10: =($H$29-P7)/$D$31 -> 9 | Q10: =($H$29-Q7)/$D$31 -> 9 | R10: =($H$29-R7)/$D$31 -> 9 | S10: =($H$29-S7)/$D$31 -> 9 | T10: =($H$29-T7)/$D$31 -> 9 | ... X10: =($H$29-X7)/$D$31 -> 9 | Y10: =AVERAGE(M10:X10) -> 9 | Z10: W/m
C11: cp | D11: 4186 | E11: J/kgK | L11: distributieverliezen | M11: =M10*$D$16*M5 -> 5785.344 | N11: =N10*$D$16*N5 -> 5225.472 | O11: =O10*$D$16*O5 -> 5785.344 | P11: =P10*$D$16*P5 -> 5598.72 | Q11: =Q10*$D$16*Q5 -> 5785.344 | R11: =R10*$D$16*R5 -> 5598.72 | S11: =S10*$D$16*S5 -> 5785.344 | T11: =T10*$D$16*T5 -> 5785.344 | ... X11: =X10*$D$16*X5 -> 5785.344 | Y11: =SUM(M11:X11) -> 68117.76 | Z11: MJ
C12: ΔT | D12: 50 | E12: °C
C13: Qnet (behoefte) | D13: =D9*D10*D11*D12/1000000 -> 30496.684 | E13: MJ/jaar | F13: =D13/3.6 -> 8471.3012 | G13: kWh/jaar | M13: =$D$39*M5/SUM($M$5:$X$5) -> 8683.0903 | N13: =$D$39*N5/SUM($M$5:$X$5) -> 7842.7912 | O13: =$D$39*O5/SUM($M$5:$X$5) -> 8683.0903 | P13: =$D$39*P5/SUM($M$5:$X$5) -> 8402.9906 | Q13: =$D$39*Q5/SUM($M$5:$X$5) -> 8683.0903 | R13: =$D$39*R5/SUM($M$5:$X$5) -> 8402.9906 | S13: =$D$39*S5/SUM($M$5:$X$5) -> 8683.0903 | T13: =$D$39*T5/SUM($M$5:$X$5) -> 8683.0903 | ... X13: =$D$39*X5/SUM($M$5:$X$5) -> 8683.0903
C15: lengte circulatieleiding | D15: =Gegevensinvoer!C41 -> 15 | E15: m/bed
C16: lengte circulatieleiding | D16: =D15*D4 -> 240 | E16: m
C18: gemiddelde tapleidinglengte/bed | D18: =Gegevensinvoer!C42 -> 3 | E18: m
C19: gemiddeld aantal tappunten/bed | D19: 1
C20: rwater,bath i,net | D20: 1
C22: ηtubing,bath | D22: =25/(25+D18/D20) -> 0.89285714
C23: Qwater our,circ k,m | D23: =$D$13/$D$22*$D$19/12 -> 2846.3572 | E23: MJ/maand | H23: hse | I23: Ti
C25: plaats leiding | D25: 1 | F25: 1 | G25: binnen BV | H25: 8 | I25: 23
C26: hse | D26: =VLOOKUP(D25,F25:I27,3,FALSE) -> 8 | E26: W/m²K | F26: 2 | G26: in AOR | H26: 10
F27: 3 | G27: buiten | H27: 25
C28: λins | D28: 0.036 | E28: W/mK | F28: 0.036
C29: isolatiedikte | D29: 0.075 | E29: m | F29: 0.075 | G29: Tw | H29: =D12+10 -> 60 | I29: °C
C30: binnendiameter Di | D30: 0.054 | E30: m | F30: 0.054 | G30: D | H30: =D30+2*D29 -> 0.204 | I30: m
C31: Rl,j | D31: =(H29-I25)/(D32) -> 4.1111111 | E31: mk/W | F31: =0.6/2/F28/PI()*LN(H30/F30)+1/(D26*H30*PI()) -> 3.7206854
C32: leidingsverliezen | D32: =Gegevensinvoer!C43 -> 9 | E32: W/m
C33: distributieverliezen | D33: =D32*D16 -> 2160 | E33: W | F33: =D33*365*24*3600/1000000 -> 68117.76 | G33: MJ/jaar
C35: ηsys,bath,i | D35: =Y9 -> 0.2982958
C39: Qbruto | D39: =D20*D13/D35 -> 102236.39 | E39: MJ/jaar | F39: =D39/3.6 -> 28398.996 | G39: kWh/jaar
C41: rendement (opw + opslag) | D41: =Gegevensinvoer!C40 -> 0.45 | E41: (verbrandingstoestel met warmte-opslag)
C42: verbruik | D42: =D39/D41 -> 227191.97 | E42: MJ/jaar | F42: =F39/D41 -> 63108.88 | G42: kWh/jaar
C44: zonnecollector
C45: - oppervlakte | D45: =Gegevensinvoer!C44 -> 0 | E45: m²
C46: - helling | D46: =Gegevensinvoer!C46 -> 0 | E46: °
C47: - orientatie | D47: =Gegevensinvoer!C45 -> 0 | E47: °
C49: primair omzettingsfactor | D49: 1
C50: primair energieverbruik | D50: =IF(Gegevensinvoer!C37="",zonnecollector!Q17,Gegevensinvoer!C37) -> 227191.59 | E50: MJ/jaar | F50: =D50/3.6 -> 63108.774 | G50: kWh/jaar
C52: referentie verbruik | D52: =Parameters!B130*D4 -> 288000 | E52: MJ/jaar
D54: =D50/D52 -> 0.78885967

Sheet zonnecollector
B2: Berekening energie-opwekking aan de hand van zonnecollectoren voor sanitair warm water
B5: Geen invoer, enkel tussenresultaten
B9: Acoll | E9: =IF(SWW!D45=0,0.0001,SWW!D45) -> 0.0001 | F9: m²
B10: φ | E10: 50.78 | F10: °NB | G10: =RADIANS(E10) -> 0.88627819 | H10: rad NB | K10: Breedteligging, Ukkel | P10: =(30-22.5)/(45-22.5)*0.02 -> 0.0066666667
B11: θj | E11: =Gegevensinvoer!C46 -> 0 | F11: ° | G11: =RADIANS(E11) -> 0 | H11: rad | K11: helling collectorvlak | P11: =1.03+P10 -> 1.0366667
B12: φj | E12: =Gegevensinvoer!C45 -> 0 | F12: ° | G12: =RADIANS(E12) -> 0 | H12: rad | K12: orientatie collectorvlak
B13: cw | E13: 1.04 | K13: Bijlage I, Appendix C, p.105
B14: ηopw | E14: =SWW!D41 -> 0.45 | K14: Met verbrandingstoestel en warmteopslag
E15: jan | F15: feb | G15: maa | H15: apr | I15: mei | J15: jun | K15: jul | L15: aug | M15: sep | N15: okt | O15: nov | P15: dec | Q15: jaar
B17: Qeind,m | E17: =(1*(1-E20)*E24)/$E14 -> 18932.656 | F17: =(1*(1-F20)*F24)/$E14 -> 18932.65 | G17: =(1*(1-G20)*G24)/$E14 -> 18932.637 | H17: =(1*(1-H20)*H24)/$E14 -> 18932.623 | I17: =(1*(1-I20)*I24)/$E14 -> 18932.608 | J17: =(1*(1-J20)*J24)/$E14 -> 18932.606 | K17: =(1*(1-K20)*K24)/$E14 -> 18932.607 | L17: =(1*(1-L20)*L24)/$E14 -> 18932.614 | ... P17: =(1*(1-P20)*P24)/$E14 -> 18932.658 | Q17: =SUM(E17:P17) -> 227191.59 | R17: MJ | T17: 229465.9 | U17: 98773.053 | V17: MJ
B18: Qprim | Q18: =Q17*1 -> 227191.59
B20: fas,m | E20: =MIN(1,E21*E23/E24) -> 4.1366282e-07 | F20: =MIN(1,F21*F23/F24) -> 7.3392768e-07 | G20: =MIN(1,G21*G23/G24) -> 1.4178224e-06 | H20: =MIN(1,H21*H23/H24) -> 2.142184e-06 | I20: =MIN(1,I21*I23/I24) -> 2.9393159e-06 | J20: =MIN(1,J21*J23/J24) -> 3.0666239e-06 | K20: =MIN(1,K21*K23/K24) -> 2.9860825e-06 | L20: =MIN(1,L21*L23/L24) -> 2.6312347e-06 | ... P20: =MIN(1,P21*P23/P24) -> 3.1710191e-07
B21: ηas | E21: =MIN(MAX(0,(0.16+0.2*$Q24/$Q23)),0.8) -> 0.8 | F21: =MIN(MAX(0,(0.16+0.2*$Q24/$Q23)),0.8) -> 0.8 | G21: =MIN(MAX(0,(0.16+0.2*$Q24/$Q23)),0.8) -> 0.8 | H21: =MIN(MAX(0,(0.16+0.2*$Q24/$Q23)),0.8) -> 0.8 | I21: =MIN(MAX(0,(0.16+0.2*$Q24/$Q23)),0.8) -> 0.8 | J21: =MIN(MAX(0,(0.16+0.2*$Q24/$Q23)),0.8) -> 0.8 | K21: =MIN(MAX(0,(0.16+0.2*$Q24/$Q23)),0.8) -> 0.8 | L21: =MIN(MAX(0,(0.16+0.2*$Q24/$Q23)),0.8) -> 0.8 | ... P21: =MIN(MAX(0,(0.16+0.2*$Q24/$Q23)),0.8) -> 0.8
B22: m | E22: 1 | F22: 2 | G22: 3 | H22: 4 | I22: 5 | J22: 6 | K22: 7 | L22: 8 | M22: 9 | N22: 10 | O22: 11 | P22: 12
B23: Qas,m | E23: =$E9*E25 -> 0.0044053533 | F23: =$E9*F25 -> 0.0078160535 | G23: =$E9*G25 -> 0.015099275 | H23: =$E9*H25 -> 0.022813453 | I23: =$E9*I25 -> 0.031302608 | J23: =$E9*J25 -> 0.03265839 | K23: =$E9*K25 -> 0.031800655 | L23: =$E9*L25 -> 0.028021659 | ... P23: =$E9*P25 -> 0.003377016 | Q23: =SUM(E23:P23) -> 0.21475494 | R23: 10.4.1.1
B24: Qdemand,m | E24: =SWW!D39/12 -> 8519.6988 | F24: =E24 -> 8519.6988 | G24: =F24 -> 8519.6988 | H24: =G24 -> 8519.6988 | I24: =H24 -> 8519.6988 | J24: =I24 -> 8519.6988 | K24: =J24 -> 8519.6988 | L24: =K24 -> 8519.6988 | M24: =L24 -> 8519.6988 | ... P24: =O24 -> 8519.6988 | Q24: =SUM(E24:P24) -> 102236.39 | R24: 10.4.1.1 | S24: Qbrut
B25: Ias,shad,m | E25: =0.6*E26 -> 44.053533 | F25: =0.6*F26 -> 78.160535 | G25: =0.6*G26 -> 150.99275 | H25: =0.6*H26 -> 228.13453 | I25: =0.6*I26 -> 313.02608 | J25: =0.6*J26 -> 326.5839 | K25: =0.6*K26 -> 318.00655 | L25: =0.6*L26 -> 280.21659 | ... P25: =0.6*P26 -> 33.77016
B26: Ias,unshad,m | E26: =SUM(E28:E30) -> 73.422555 | F26: =SUM(F28:F30) -> 130.26756 | G26: =SUM(G28:G30) -> 251.65459 | H26: =SUM(H28:H30) -> 380.22422 | I26: =SUM(I28:I30) -> 521.71013 | J26: =SUM(J28:J30) -> 544.3065 | K26: =SUM(K28:K30) -> 530.01091 | L26: =SUM(L28:L30) -> 467.02765 | ... P26: =SUM(P28:P30) -> 56.2836
B28: Is,dir | E28: =(E31-E32)*E33/E34 -> 20.070555 | F28: =(F31-F32)*F33/F34 -> 44.259558 | G28: =(G31-G32)*G33/G34 -> 90.350586 | H28: =(H31-H32)*H33/H34 -> 152.25622 | I28: =(I31-I32)*I33/I34 -> 216.47013 | J28: =(J31-J32)*J33/J34 -> 234.2825 | K28: =(K31-K32)*K33/K34 -> 211.97891 | L28: =(L31-L32)*L33/L34 -> 189.65965 | ... P28: =(P31-P32)*P33/P34 -> 14.4756
B29: Is,dif | E29: =E32*$E13*((1+COS($G11))/2) -> 53.352 | F29: =F32*$E13*((1+COS($G11))/2) -> 86.008 | G29: =G32*$E13*((1+COS($G11))/2) -> 161.304 | H29: =H32*$E13*((1+COS($G11))/2) -> 227.968 | I29: =I32*$E13*((1+COS($G11))/2) -> 305.24 | J29: =J32*$E13*((1+COS($G11))/2) -> 310.024 | K29: =K32*$E13*((1+COS($G11))/2) -> 318.032 | L29: =L32*$E13*((1+COS($G11))/2) -> 277.368 | ... P29: =P32*$E13*((1+COS($G11))/2) -> 41.808
B30: Is,refl | E30: =0.2*E31*((1-COS($G11))/2) -> 0 | F30: =0.2*F31*((1-COS($G11))/2) -> 0 | G30: =0.2*G31*((1-COS($G11))/2) -> 0 | H30: =0.2*H31*((1-COS($G11))/2) -> 0 | I30: =0.2*I31*((1-COS($G11))/2) -> 0 | J30: =0.2*J31*((1-COS($G11))/2) -> 0 | K30: =0.2*K31*((1-COS($G11))/2) -> 0 | L30: =0.2*L31*((1-COS($G11))/2) -> 0 | ... P30: =0.2*P31*((1-COS($G11))/2) -> 0
B31: Is,tot,hor | E31: 71.4 | F31: 127 | G31: 245.5 | H31: 371.5 | I31: 510 | J31: 532.4 | K31: 517.8 | L31: 456.4 | M31: 326.2 | N31: 194.2 | O31: 89.6 | P31: 54.7
B32: Is,dif,hor | E32: 51.3 | F32: 82.7 | G32: 155.1 | H32: 219.2 | I32: 293.5 | J32: 298.1 | K32: 305.8 | L32: 266.7 | M32: 183.6 | N32: 118.3 | O32: 60.5 | P32: 40.2
B33: Qs,dir,char [J/m².dag] | E33: =240*SUM(DU40:DU63) -> 3397278.9 | F33: =240*SUM(DV40:DV63) -> 6602955.4 | G33: =240*SUM(DW40:DW63) -> 11414740 | H33: =240*SUM(DX40:DX63) -> 17431644 | I33: =240*SUM(DY40:DY63) -> 22123819 | J33: =240*SUM(DZ40:DZ63) -> 24428344 | K33: =240*SUM(EA40:EA63) -> 23534796 | L33: =240*SUM(EB40:EB63) -> 19643751 | ... P33: =240*SUM(EF40:EF63) -> 2713946.6
B34: Qs,dir,char,hor [J/m².dag] | E34: =240*SUM(EG40:EG63) -> 3402262.9 | F34: =240*SUM(EH40:EH63) -> 6608988.8 | G34: =240*SUM(EI40:EI63) -> 11420983 | H34: =240*SUM(EJ40:EJ63) -> 17436656 | I34: =240*SUM(EK40:EK63) -> 22126871 | J34: =240*SUM(EL40:EL63) -> 24430169 | K34: =240*SUM(EM40:EM63) -> 23537137 | L34: =240*SUM(EN40:EN63) -> 19647931 | ... P34: =240*SUM(ER40:ER63) -> 2718521.3
B35: d | E35: 15 | F35: 46 | G35: 74 | H35: 105 | I35: 135 | J35: 166 | K35: 196 | L35: 227 | M35: 258 | N35: 288 | O35: 319 | P35: 349
B36: δ [rad] | E36: =ASIN(-SIN(RADIANS(23.45))*COS(RADIANS((360/365)*(E35+10)))) -> -0.37005074 | F36: =ASIN(-SIN(RADIANS(23.45))*COS(RADIANS((360/365)*(F35+10)))) -> -0.22892134 | G36: =ASIN(-SIN(RADIANS(23.45))*COS(RADIANS((360/365)*(G35+10)))) -> -0.049556634 | H36: =ASIN(-SIN(RADIANS(23.45))*COS(RADIANS((360/365)*(H35+10)))) -> 0.15886907 | I36: =ASIN(-SIN(RADIANS(23.45))*COS(RADIANS((360/365)*(I35+10)))) -> 0.32348545 | J36: =ASIN(-SIN(RADIANS(23.45))*COS(RADIANS((360/365)*(J35+10)))) -> 0.40656872 | K36: =ASIN(-SIN(RADIANS(23.45))*COS(RADIANS((360/365)*(K35+10)))) -> 0.37452296 | L36: =ASIN(-SIN(RADIANS(23.45))*COS(RADIANS((360/365)*(L35+10)))) -> 0.23751867 | ... P36: =ASIN(-SIN(RADIANS(23.45))*COS(RADIANS((360/365)*(P35+10)))) -> -0.4069692
B39: Uurhoek ω | C39: [°] | D39: [rad] | E39: zonnehoogtehoek β [°] | Q39: troebelheidsfactor TL | AC39: optische weglengte dR [m] | AO39: wegfactor m [-1] | BA39: cos(χs,j) | BM39: cos(χs,hor) | BY39: cos(χs,hor) | CK39: q,s,dir | CW39: ω1,2 | DI39: ω3,4 | DU39: Q,dir,j per uur | EG39: Qdir,hor,per uur
B40: 0 | C40: 180 | D40: =RADIANS(C40) -> 3.1415927 | E40: =MAX(0,90-DEGREES(ACOS(COS($G$10)*COS(E$36)*COS($D40)+SIN($G$10)*SIN(E$36)))) -> 0 | F40: =MAX(0,90-DEGREES(ACOS(COS($G$10)*COS(F$36)*COS($D40)+SIN($G$10)*SIN(F$36)))) -> 0 | G40: =MAX(0,90-DEGREES(ACOS(COS($G$10)*COS(G$36)*COS($D40)+SIN($G$10)*SIN(G$36)))) -> 0 | H40: =MAX(0,90-DEGREES(ACOS(COS($G$10)*COS(H$36)*COS($D40)+SIN($G$10)*SIN(H$36)))) -> 0 | I40: =MAX(0,90-DEGREES(ACOS(COS($G$10)*COS(I$36)*COS($D40)+SIN($G$10)*SIN(I$36)))) -> 0 | J40: =MAX(0,90-DEGREES(ACOS(COS($G$10)*COS(J$36)*COS($D40)+SIN($G$10)*SIN(J$36)))) -> 0 | K40: =MAX(0,90-DEGREES(ACOS(COS($G$10)*COS(K$36)*COS($D40)+SIN($G$10)*SIN(K$36)))) -> 0 | L40: =MAX(0,90-DEGREES(ACOS(COS($G$10)*COS(L$36)*COS($D40)+SIN($G$10)*SIN(L$36)))) -> 0 | ... P40: =MAX(0,90-DEGREES(ACOS(COS($G$10)*COS(P$36)*COS($D40)+SIN($G$10)*SIN(P$36)))) -> 0 | Q40: =3.372+0.053*(PI()*E40/180)-0.296*COS(RADIANS(30*E$22)) -> 3.1156565 | R40: =3.372+0.053*(PI()*F40/180)-0.296*COS(RADIANS(30*F$22)) -> 3.224 | S40: =3.372+0.053*(PI()*G40/180)-0.296*COS(RADIANS(30*G$22)) -> 3.372 | T40: =3.372+0.053*(PI()*H40/180)-0.296*COS(RADIANS(30*H$22)) -> 3.52 | U40: =3.372+0.053*(PI()*I40/180)-0.296*COS(RADIANS(30*I$22)) -> 3.6283435 | V40: =3.372+0.053*(PI()*J40/180)-0.296*COS(RADIANS(30*J$22)) -> 3.668 | W40: =3.372+0.053*(PI()*K40/180)-0.296*COS(RADIANS(30*K$22)) -> 3.6283435 | X40: =3.372+0.053*(PI()*L40/180)-0.296*COS(RADIANS(30*L$22)) -> 3.52 | ... AB40: =3.372+0.053*(PI()*P40/180)-0.296*COS(RADIANS(30*P$22)) -> 3.076 | AC40: =1.4899-2.1099*COS(RADIANS(E40))+0.6322*COS(RADIANS(2*E40))+0.0253*COS(RADIANS(3*E40))-1.0022*SIN(RADIANS(E40))+1.0077*SIN(RADIANS(2*E40))-0.2606*SIN(RADIANS(3*E40)) -> 0.0375 | AD40: =1.4899-2.1099*COS(RADIANS(F40))+0.6322*COS(RADIANS(2*F40))+0.0253*COS(RADIANS(3*F40))-1.0022*SIN(RADIANS(F40))+1.0077*SIN(RADIANS(2*F40))-0.2606*SIN(RADIANS(3*F40)) -> 0.0375 | AE40: =1.4899-2.1099*COS(RADIANS(G40))+0.6322*COS(RADIANS(2*G40))+0.0253*COS(RADIANS(3*G40))-1.0022*SIN(RADIANS(G40))+1.0077*SIN(RADIANS(2*G40))-0.2606*SIN(RADIANS(3*G40)) -> 0.0375 | AF40: =1.4899-2.1099*COS(RADIANS(H40))+0.6322*COS(RADIANS(2*H40))+0.0253*COS(RADIANS(3*H40))-1.0022*SIN(RADIANS(H40))+1.0077*SIN(RADIANS(2*H40))-0.2606*SIN(RADIANS(3*H40)) -> 0.0375 | AG40: =1.4899-2.1099*COS(RADIANS(I40))+0.6322*COS(RADIANS(2*I40))+0.0253*COS(RADIANS(3*I40))-1.0022*SIN(RADIANS(I40))+1.0077*SIN(RADIANS(2*I40))-0.2606*SIN(RADIANS(3*I40)) -> 0.0375 | AH40: =1.4899-2.1099*COS(RADIANS(J40))+0.6322*COS(RADIANS(2*J40))+0.0253*COS(RADIANS(3*J40))-1.0022*SIN(RADIANS(J40))+1.0077*SIN(RADIANS(2*J40))-0.2606*SIN(RADIANS(3*J40)) -> 0.0375 | AI40: =1.4899-2.1099*COS(RADIANS(K40))+0.6322*COS(RADIANS(2*K40))+0.0253*COS(RADIANS(3*K40))-1.0022*SIN(RADIANS(K40))+1.0077*SIN(RADIANS(2*K40))-0.2606*SIN(RADIANS(3*K40)) -> 0.0375 | AJ40: =1.4899-2.1099*COS(RADIANS(L40))+0.6322*COS(RADIANS(2*L40))+0.0253*COS(RADIANS(3*L40))-1.0022*SIN(RADIANS(L40))+1.0077*SIN(RADIANS(2*L40))-0.2606*SIN(RADIANS(3*L40)) -> 0.0375 | ... AN40: =1.4899-2.1099*COS(RADIANS(P40))+0.6322*COS(RADIANS(2*P40))+0.0253*COS(RADIANS(3*P40))-1.0022*SIN(RADIANS(P40))+1.0077*SIN(RADIANS(2*P40))-0.2606*SIN(RADIANS(3*P40)) -> 0.0375 | AO40: =0.992/(SIN(RADIANS(E40))+0.15*(PI()*E40/180+3.885)^(-1.253)) -> 36.218242 | AP40: =0.992/(SIN(RADIANS(F40))+0.15*(PI()*F40/180+3.885)^(-1.253)) -> 36.218242 | AQ40: =0.992/(SIN(RADIANS(G40))+0.15*(PI()*G40/180+3.885)^(-1.253)) -> 36.218242 | AR40: =0.992/(SIN(RADIANS(H40))+0.15*(PI()*H40/180+3.885)^(-1.253)) -> 36.218242 | AS40: =0.992/(SIN(RADIANS(I40))+0.15*(PI()*I40/180+3.885)^(-1.253)) -> 36.218242 | AT40: =0.992/(SIN(RADIANS(J40))+0.15*(PI()*J40/180+3.885)^(-1.253)) -> 36.218242 | AU40: =0.992/(SIN(RADIANS(K40))+0.15*(PI()*K40/180+3.885)^(-1.253)) -> 36.218242 | AV40: =0.992/(SIN(RADIANS(L40))+0.15*(PI()*L40/180+3.885)^(-1.253)) -> 36.218242 | ... AZ40: =0.992/(SIN(RADIANS(P40))+0.15*(PI()*P40/180+3.885)^(-1.253)) -> 36.218242 | BA40: =0.775*(SIN(E$36)*COS($G$11)+COS(E$36)*SIN($G$11)*COS($G$12)*COS($D40))-0.632*(SIN(E$36)*SIN($G$11)*COS($G$12)-COS(E$36)*COS($G$11)*COS($D40))+COS(E$36)*SIN($G$11)*SIN($G$12)*SIN($D40) -> -0.86950791 | BB40: =0.775*(SIN(F$36)*COS($G$11)+COS(F$36)*SIN($G$11)*COS($G$12)*COS($D40))-0.632*(SIN(F$36)*SIN($G$11)*COS($G$12)-COS(F$36)*COS($G$11)*COS($D40))+COS(F$36)*SIN($G$11)*SIN($G$12)*SIN($D40) -> -0.79138075 | BC40: =0.775*(SIN(G$36)*COS($G$11)+COS(G$36)*SIN($G$11)*COS($G$12)*COS($D40))-0.632*(SIN(G$36)*SIN($G$11)*COS($G$12)-COS(G$36)*COS($G$11)*COS($D40))+COS(G$36)*SIN($G$11)*SIN($G$12)*SIN($D40) -> -0.66961478 | BD40: =0.775*(SIN(H$36)*COS($G$11)+COS(H$36)*SIN($G$11)*COS($G$12)*COS($D40))-0.632*(SIN(H$36)*SIN($G$11)*COS($G$12)-COS(H$36)*COS($G$11)*COS($D40))+COS(H$36)*SIN($G$11)*SIN($G$12)*SIN($D40) -> -0.50143486 | BE40: =0.775*(SIN(I$36)*COS($G$11)+COS(I$36)*SIN($G$11)*COS($G$12)*COS($D40))-0.632*(SIN(I$36)*SIN($G$11)*COS($G$12)-COS(I$36)*COS($G$11)*COS($D40))+COS(I$36)*SIN($G$11)*SIN($G$12)*SIN($D40) -> -0.35286851 | BF40: =0.775*(SIN(J$36)*COS($G$11)+COS(J$36)*SIN($G$11)*COS($G$12)*COS($D40))-0.632*(SIN(J$36)*SIN($G$11)*COS($G$12)-COS(J$36)*COS($G$11)*COS($D40))+COS(J$36)*SIN($G$11)*SIN($G$12)*SIN($D40) -> -0.27399979 | BG40: =0.775*(SIN(K$36)*COS($G$11)+COS(K$36)*SIN($G$11)*COS($G$12)*COS($D40))-0.632*(SIN(K$36)*SIN($G$11)*COS($G$12)-COS(K$36)*COS($G$11)*COS($D40))+COS(K$36)*SIN($G$11)*SIN($G$12)*SIN($D40) -> -0.30467402 | BH40: =0.775*(SIN(L$36)*COS($G$11)+COS(L$36)*SIN($G$11)*COS($G$12)*COS($D40))-0.632*(SIN(L$36)*SIN($G$11)*COS($G$12)-COS(L$36)*COS($G$11)*COS($D40))+COS(L$36)*SIN($G$11)*SIN($G$12)*SIN($D40) -> -0.43190542 | ... BL40: =0.775*(SIN(P$36)*COS($G$11)+COS(P$36)*SIN($G$11)*COS($G$12)*COS($D40))-0.632*(SIN(P$36)*SIN($G$11)*COS($G$12)-COS(P$36)*COS($G$11)*COS($D40))+COS(P$36)*SIN($G$11)*SIN($G$12)*SIN($D40) -> -0.88714784 | BM40: =COS(RADIANS(90-E40)) -> 6.1257423e-17 | BN40: =COS(RADIANS(90-F40)) -> 6.1257423e-17 | BO40: =COS(RADIANS(90-G40)) -> 6.1257423e-17 | BP40: =COS(RADIANS(90-H40)) -> 6.1257423e-17 | BQ40: =COS(RADIANS(90-I40)) -> 6.1257423e-17 | BR40: =COS(RADIANS(90-J40)) -> 6.1257423e-17 | BS40: =COS(RADIANS(90-K40)) -> 6.1257423e-17 | BT40: =COS(RADIANS(90-L40)) -> 6.1257423e-17 | ... BX40: =COS(RADIANS(90-P40)) -> 6.1257423e-17 | BY40: =IF(BM40=$BM$40,0,BM40) -> 0 | BZ40: =IF(BN40=$BM$40,0,BN40) -> 0 | CA40: =IF(BO40=$BM$40,0,BO40) -> 0 | CB40: =IF(BP40=$BM$40,0,BP40) -> 0 | CC40: =IF(BQ40=$BM$40,0,BQ40) -> 0 | CD40: =IF(BR40=$BM$40,0,BR40) -> 0 | CE40: =IF(BS40=$BM$40,0,BS40) -> 0 | CF40: =IF(BT40=$BM$40,0,BT40) -> 0 | ... CJ40: =IF(BX40=$BM$40,0,BX40) -> 0 | CK40: =MAX(0,1353*(1+0.033*COS(RADIANS(360*E$35/365)))*EXP(-AO40*AC40*Q40)) -> 20.284401 | CL40: =MAX(0,1353*(1+0.033*COS(RADIANS(360*F$35/365)))*EXP(-AP40*AD40*R40)) -> 17.360768 | CM40: =MAX(0,1353*(1+0.033*COS(RADIANS(360*G$35/365)))*EXP(-AQ40*AE40*S40)) -> 14.011696 | CN40: =MAX(0,1353*(1+0.033*COS(RADIANS(360*H$35/365)))*EXP(-AR40*AF40*T40)) -> 11.262779 | CO40: =MAX(0,1353*(1+0.033*COS(RADIANS(360*I$35/365)))*EXP(-AS40*AG40*U40)) -> 9.5763195 | CP40: =MAX(0,1353*(1+0.033*COS(RADIANS(360*J$35/365)))*EXP(-AT40*AH40*V40)) -> 8.9896155 | CQ40: =MAX(0,1353*(1+0.033*COS(RADIANS(360*K$35/365)))*EXP(-AU40*AI40*W40)) -> 9.4828169 | CR40: =MAX(0,1353*(1+0.033*COS(RADIANS(360*L$35/365)))*EXP(-AV40*AJ40*X40)) -> 11.080672 | ... CV40: =MAX(0,1353*(1+0.033*COS(RADIANS(360*P$35/365)))*EXP(-AZ40*AN40*AB40)) -> 21.403786 | CW40: =IF(AND(BY40>0,BA40>0),1,0) -> 0 | CX40: =IF(AND(BZ40>0,BB40>0),1,0) -> 0 | CY40: =IF(AND(CA40>0,BC40>0),1,0) -> 0 | CZ40: =IF(AND(CB40>0,BD40>0),1,0) -> 0 | DA40: =IF(AND(CC40>0,BE40>0),1,0) -> 0 | DB40: =IF(AND(CD40>0,BF40>0),1,0) -> 0 | DC40: =IF(AND(CE40>0,BG40>0),1,0) -> 0 | DD40: =IF(AND(CF40>0,BH40>0),1,0) -> 0 | ... DH40: =IF(AND(CJ40>0,BL40>0),1,0) -> 0 | DI40: =IF(BY40>0,1,0) -> 0 | DJ40: =IF(BZ40>0,1,0) -> 0 | DK40: =IF(CA40>0,1,0) -> 0 | DL40: =IF(CB40>0,1,0) -> 0 | DM40: =IF(CC40>0,1,0) -> 0 | DN40: =IF(CD40>0,1,0) -> 0 | DO40: =IF(CE40>0,1,0) -> 0 | DP40: =IF(CF40>0,1,0) -> 0 | ... DT40: =IF(CJ40>0,1,0) -> 0 | DU40: =CW40*MAX(0,(CK40*BA40*15)) -> 0 | DV40: =CX40*MAX(0,(CL40*BB40*15)) -> 0 | DW40: =CY40*MAX(0,(CM40*BC40*15)) -> 0 | DX40: =CZ40*MAX(0,(CN40*BD40*15)) -> 0 | DY40: =DA40*MAX(0,(CO40*BE40*15)) -> 0 | DZ40: =DB40*MAX(0,(CP40*BF40*15)) -> 0 | EA40: =DC40*MAX(0,(CQ40*BG40*15)) -> 0 | EB40: =DD40*MAX(0,(CR40*BH40*15)) -> 0 | ... EF40: =DH40*MAX(0,(CV40*BL40*15)) -> 0 | EG40: =DI40*MAX(0,(CK40*BY40*15)) -> 0 | EH40: =DJ40*MAX(0,(CL40*BZ40*15)) -> 0 | EI40: =DK40*MAX(0,(CM40*CA40*15)) -> 0 | EJ40: =DL40*MAX(0,(CN40*CB40*15)) -> 0 | EK40: =DM40*MAX(0,(CO40*CC40*15)) -> 0 | EL40: =DN40*MAX(0,(CP40*CD40*15)) -> 0 | EM40: =DO40*MAX(0,(CQ40*CE40*15)) -> 0 | EN40: =DP40*MAX(0,(CR40*CF40*15)) -> 0 | ... ER40: =DT40*MAX(0,(CV40*CJ40*15)) -> 0
B41: 0.041666667 | C41: =C40-15 -> 165 | D41: =RADIANS(C41) -> 2.8797933 | E41: =MAX(0,90-DEGREES(ACOS(COS($G$10)*COS(E$36)*COS($D41)+SIN($G$10)*SIN(E$36)))) -> 0 | F41: =MAX(0,90-DEGREES(ACOS(COS($G$10)*COS(F$36)*COS($D41)+SIN($G$10)*SIN(F$36)))) -> 0 | G41: =MAX(0,90-DEGREES(ACOS(COS($G$10)*COS(G$36)*COS($D41)+SIN($G$10)*SIN(G$36)))) -> 0 | H41: =MAX(0,90-DEGREES(ACOS(COS($G$10)*COS(H$36)*COS($D41)+SIN($G$10)*SIN(H$36)))) -> 0 | I41: =MAX(0,90-DEGREES(ACOS(COS($G$10)*COS(I$36)*COS($D41)+SIN($G$10)*SIN(I$36)))) -> 0 | J41: =MAX(0,90-DEGREES(ACOS(COS($G$10)*COS(J$36)*COS($D41)+SIN($G$10)*SIN(J$36)))) -> 0 | K41: =MAX(0,90-DEGREES(ACOS(COS($G$10)*COS(K$36)*COS($D41)+SIN($G$10)*SIN(K$36)))) -> 0 | L41: =MAX(0,90-DEGREES(ACOS(COS($G$10)*COS(L$36)*COS($D41)+SIN($G$10)*SIN(L$36)))) -> 0 | ... P41: =MAX(0,90-DEGREES(ACOS(COS($G$10)*COS(P$36)*COS($D41)+SIN($G$10)*SIN(P$36)))) -> 0 | Q41: =3.372+0.053*(PI()*E41/180)-0.296*COS(RADIANS(30*E$22)) -> 3.1156565 | R41: =3.372+0.053*(PI()*F41/180)-0.296*COS(RADIANS(30*F$22)) -> 3.224 | S41: =3.372+0.053*(PI()*G41/180)-0.296*COS(RADIANS(30*G$22)) -> 3.372 | T41: =3.372+0.053*(PI()*H41/180)-0.296*COS(RADIANS(30*H$22)) -> 3.52 | U41: =3.372+0.053*(PI()*I41/180)-0.296*COS(RADIANS(30*I$22)) -> 3.6283435 | V41: =3.372+0.053*(PI()*J41/180)-0.296*COS(RADIANS(30*J$22)) -> 3.668 | W41: =3.372+0.053*(PI()*K41/180)-0.296*COS(RADIANS(30*K$22)) -> 3.6283435 | X41: =3.372+0.053*(PI()*L41/180)-0.296*COS(RADIANS(30*L$22)) -> 3.52 | ... AB41: =3.372+0.053*(PI()*P41/180)-0.296*COS(RADIANS(30*P$22)) -> 3.076 | AC41: =1.4899-2.1099*COS(RADIANS(E41))+0.6322*COS(RADIANS(2*E41))+0.0253*COS(RADIANS(3*E41))-1.0022*SIN(RADIANS(E41))+1.0077*SIN(RADIANS(2*E41))-0.2606*SIN(RADIANS(3*E41)) -> 0.0375 | AD41: =1.4899-2.1099*COS(RADIANS(F41))+0.6322*COS(RADIANS(2*F41))+0.0253*COS(RADIANS(3*F41))-1.0022*SIN(RADIANS(F41))+1.0077*SIN(RADIANS(2*F41))-0.2606*SIN(RADIANS(3*F41)) -> 0.0375 | AE41: =1.4899-2.1099*COS(RADIANS(G41))+0.6322*COS(RADIANS(2*G41))+0.0253*COS(RADIANS(3*G41))-1.0022*SIN(RADIANS(G41))+1.0077*SIN(RADIANS(2*G41))-0.2606*SIN(RADIANS(3*G41)) -> 0.0375 | AF41: =1.4899-2.1099*COS(RADIANS(H41))+0.6322*COS(RADIANS(2*H41))+0.0253*COS(RADIANS(3*H41))-1.0022*SIN(RADIANS(H41))+1.0077*SIN(RADIANS(2*H41))-0.2606*SIN(RADIANS(3*H41)) -> 0.0375 | AG41: =1.4899-2.1099*COS(RADIANS(I41))+0.6322*COS(RADIANS(2*I41))+0.0253*COS(RADIANS(3*I41))-1.0022*SIN(RADIANS(I41))+1.0077*SIN(RADIANS(2*I41))-0.2606*SIN(RADIANS(3*I41)) -> 0.0375 | AH41: =1.4899-2.1099*COS(RADIANS(J41))+0.6322*COS(RADIANS(2*J41))+0.0253*COS(RADIANS(3*J41))-1.0022*SIN(RADIANS(J41))+1.0077*SIN(RADIANS(2*J41))-0.2606*SIN(RADIANS(3*J41)) -> 0.0375 | AI41: =1.4899-2.1099*COS(RADIANS(K41))+0.6322*COS(RADIANS(2*K41))+0.0253*COS(RADIANS(3*K41))-1.0022*SIN(RADIANS(K41))+1.0077*SIN(RADIANS(2*K41))-0.2606*SIN(RADIANS(3*K41)) -> 0.0375 | AJ41: =1.4899-2.1099*COS(RADIANS(L41))+0.6322*COS(RADIANS(2*L41))+0.0253*COS(RADIANS(3*L41))-1.0022*SIN(RADIANS(L41))+1.0077*SIN(RADIANS(2*L41))-0.2606*SIN(RADIANS(3*L41)) -> 0.0375 | ... AN41: =1.4899-2.1099*COS(RADIANS(P41))+0.6322*COS(RADIANS(2*P41))+0.0253*COS(RADIANS(3*P41))-1.0022*SIN(RADIANS(P41))+1.0077*SIN(RADIANS(2*P41))-0.2606*SIN(RADIANS(3*P41)) -> 0.0375 | AO41: =0.992/(SIN(RADIANS(E41))+0.15*(PI()*E41/180+3.885)^(-1.253)) -> 36.218242 | AP41: =0.992/(SIN(RADIANS(F41))+0.15*(PI()*F41/180+3.885)^(-1.253)) -> 36.218242 | AQ41: =0.992/(SIN(RADIANS(G41))+0.15*(PI()*G41/180+3.885)^(-1.253)) -> 36.218242 | AR41: =0.992/(SIN(RADIANS(H41))+0.15*(PI()*H41/180+3.885)^(-1.253)) -> 36.218242 | AS41: =0.992/(SIN(RADIANS(I41))+0.15*(PI()*I41/180+3.885)^(-1.253)) -> 36.218242 | AT41: =0.992/(SIN(RADIANS(J41))+0.15*(PI()*J41/180+3.885)^(-1.253)) -> 36.218242 | AU41: =0.992/(SIN(RADIANS(K41))+0.15*(PI()*K41/180+3.885)^(-1.253)) -> 36.218242 | AV41: =0.992/(SIN(RADIANS(L41))+0.15*(PI()*L41/180+3.885)^(-1.253)) -> 36.218242 | ... AZ41: =0.992/(SIN(RADIANS(P41))+0.15*(PI()*P41/180+3.885)^(-1.253)) -> 36.218242 | BA41: =0.775*(SIN(E$36)*COS($G$11)+COS(E$36)*SIN($G$11)*COS($G$12)*COS($D41))-0.632*(SIN(E$36)*SIN($G$11)*COS($G$12)-COS(E$36)*COS($G$11)*COS($D41))+COS(E$36)*SIN($G$11)*SIN($G$12)*SIN($D41) -> -0.84943075 | BB41: =0.775*(SIN(F$36)*COS($G$11)+COS(F$36)*SIN($G$11)*COS($G$12)*COS($D41))-0.632*(SIN(F$36)*SIN($G$11)*COS($G$12)-COS(F$36)*COS($G$11)*COS($D41))+COS(F$36)*SIN($G$11)*SIN($G$12)*SIN($D41) -> -0.77040768 | BC41: =0.775*(SIN(G$36)*COS($G$11)+COS(G$36)*SIN($G$11)*COS($G$12)*COS($D41))-0.632*(SIN(G$36)*SIN($G$11)*COS($G$12)-COS(G$36)*COS($G$11)*COS($D41))+COS(G$36)*SIN($G$11)*SIN($G$12)*SIN($D41) -> -0.64810634 | BD41: =0.775*(SIN(H$36)*COS($G$11)+COS(H$36)*SIN($G$11)*COS($G$12)*COS($D41))-0.632*(SIN(H$36)*SIN($G$11)*COS($G$12)-COS(H$36)*COS($G$11)*COS($D41))+COS(H$36)*SIN($G$11)*SIN($G$12)*SIN($D41) -> -0.48017118 | BE41: =0.775*(SIN(I$36)*COS($G$11)+COS(I$36)*SIN($G$11)*COS($G$12)*COS($D41))-0.632*(SIN(I$36)*SIN($G$11)*COS($G$12)-COS(I$36)*COS($G$11)*COS($D41))+COS(I$36)*SIN($G$11)*SIN($G$12)*SIN($D41) -> -0.33245058 | BF41: =0.775*(SIN(J$36)*COS($G$11)+COS(J$36)*SIN($G$11)*COS($G$12)*COS($D41))-0.632*(SIN(J$36)*SIN($G$11)*COS($G$12)-COS(J$36)*COS($G$11)*COS($D41))+COS(J$36)*SIN($G$11)*SIN($G$12)*SIN($D41) -> -0.25422036 | BG41: =0.775*(SIN(K$36)*COS($G$11)+COS(K$36)*SIN($G$11)*COS($G$12)*COS($D41))-0.632*(SIN(K$36)*SIN($G$11)*COS($G$12)-COS(K$36)*COS($G$11)*COS($D41))+COS(K$36)*SIN($G$11)*SIN($G$12)*SIN($D41) -> -0.28463189 | BH41: =0.775*(SIN(L$36)*COS($G$11)+COS(L$36)*SIN($G$11)*COS($G$12)*COS($D41))-0.632*(SIN(L$36)*SIN($G$11)*COS($G$12)-COS(L$36)*COS($G$11)*COS($D41))+COS(L$36)*SIN($G$11)*SIN($G$12)*SIN($D41) -> -0.41097514 | ... BL41: =0.775*(SIN(P$36)*COS($G$11)+COS(P$36)*SIN($G$11)*COS($G$12)*COS($D41))-0.632*(SIN(P$36)*SIN($G$11)*COS($G$12)-COS(P$36)*COS($G$11)*COS($D41))+COS(P$36)*SIN($G$11)*SIN($G$12)*SIN($D41) -> -0.86737182 | BM41: =COS(RADIANS(90-E41)) -> 6.1257423e-17 | BN41: =COS(RADIANS(90-F41)) -> 6.1257423e-17 | BO41: =COS(RADIANS(90-G41)) -> 6.1257423e-17 | BP41: =COS(RADIANS(90-H41)) -> 6.1257423e-17 | BQ41: =COS(RADIANS(90-I41)) -> 6.1257423e-17 | BR41: =COS(RADIANS(90-J41)) -> 6.1257423e-17 | BS41: =COS(RADIANS(90-K41)) -> 6.1257423e-17 | BT41: =COS(RADIANS(90-L41)) -> 6.1257423e-17 | ... BX41: =COS(RADIANS(90-P41)) -> 6.1257423e-17 | BY41: =IF(BM41=$BM$40,0,BM41) -> 0 | BZ41: =IF(BN41=$BM$40,0,BN41) -> 0 | CA41: =IF(BO41=$BM$40,0,BO41) -> 0 | CB41: =IF(BP41=$BM$40,0,BP41) -> 0 | CC41: =IF(BQ41=$BM$40,0,BQ41) -> 0 | CD41: =IF(BR41=$BM$40,0,BR41) -> 0 | CE41: =IF(BS41=$BM$40,0,BS41) -> 0 | CF41: =IF(BT41=$BM$40,0,BT41) -> 0 | ... CJ41: =IF(BX41=$BM$40,0,BX41) -> 0 | CK41: =MAX(0,1353*(1+0.033*COS(RADIANS(360*E$35/365)))*EXP(-AO41*AC41*Q41)) -> 20.284401 | CL41: =MAX(0,1353*(1+0.033*COS(RADIANS(360*F$35/365)))*EXP(-AP41*AD41*R41)) -> 17.360768 | CM41: =MAX(0,1353*(1+0.033*COS(RADIANS(360*G$35/365)))*EXP(-AQ41*AE41*S41)) -> 14.011696 | CN41: =MAX(0,1353*(1+0.033*COS(RADIANS(360*H$35/365)))*EXP(-AR41*AF41*T41)) -> 11.262779 | CO41: =MAX(0,1353*(1+0.033*COS(RADIANS(360*I$35/365)))*EXP(-AS41*AG41*U41)) -> 9.5763195 | CP41: =MAX(0,1353*(1+0.033*COS(RADIANS(360*J$35/365)))*EXP(-AT41*AH41*V41)) -> 8.9896155 | CQ41: =MAX(0,1353*(1+0.033*COS(RADIANS(360*K$35/365)))*EXP(-AU41*AI41*W41)) -> 9.4828169 | CR41: =MAX(0,1353*(1+0.033*COS(RADIANS(360*L$35/365)))*EXP(-AV41*AJ41*X41)) -> 11.080672 | ... CV41: =MAX(0,1353*(1+0.033*COS(RADIANS(360*P$35/365)))*EXP(-AZ41*AN41*AB41)) -> 21.403786 | CW41: =IF(AND(BY41>0,BA41>0),1,0) -> 0 | CX41: =IF(AND(BZ41>0,BB41>0),1,0) -> 0 | CY41: =IF(AND(CA41>0,BC41>0),1,0) -> 0 | CZ41: =IF(AND(CB41>0,BD41>0),1,0) -> 0 | DA41: =IF(AND(CC41>0,BE41>0),1,0) -> 0 | DB41: =IF(AND(CD41>0,BF41>0),1,0) -> 0 | DC41: =IF(AND(CE41>0,BG41>0),1,0) -> 0 | DD41: =IF(AND(CF41>0,BH41>0),1,0) -> 0 | ... DH41: =IF(AND(CJ41>0,BL41>0),1,0) -> 0 | DI41: =IF(BY41>0,1,0) -> 0 | DJ41: =IF(BZ41>0,1,0) -> 0 | DK41: =IF(CA41>0,1,0) -> 0 | DL41: =IF(CB41>0,1,0) -> 0 | DM41: =IF(CC41>0,1,0) -> 0 | DN41: =IF(CD41>0,1,0) -> 0 | DO41: =IF(CE41>0,1,0) -> 0 | DP41: =IF(CF41>0,1,0) -> 0 | ... DT41: =IF(CJ41>0,1,0) -> 0 | DU41: =CW41*MAX(0,(CK41*BA41*15)) -> 0 | DV41: =CX41*MAX(0,(CL41*BB41*15)) -> 0 | DW41: =CY41*MAX(0,(CM41*BC41*15)) -> 0 | DX41: =CZ41*MAX(0,(CN41*BD41*15)) -> 0 | DY41: =DA41*MAX(0,(CO41*BE41*15)) -> 0 | DZ41: =DB41*MAX(0,(CP41*BF41*15)) -> 0 | EA41: =DC41*MAX(0,(CQ41*BG41*15)) -> 0 | EB41: =DD41*MAX(0,(CR41*BH41*15)) -> 0 | ... EF41: =DH41*MAX(0,(CV41*BL41*15)) -> 0 | EG41: =DI41*MAX(0,(CK41*BY41*15)) -> 0 | EH41: =DJ41*MAX(0,(CL41*BZ41*15)) -> 0 | EI41: =DK41*MAX(0,(CM41*CA41*15)) -> 0 | EJ41: =DL41*MAX(0,(CN41*CB41*15)) -> 0 | EK41: =DM41*MAX(0,(CO41*CC41*15)) -> 0 | EL41: =DN41*MAX(0,(CP41*CD41*15)) -> 0 | EM41: =DO41*MAX(0,(CQ41*CE41*15)) -> 0 | EN41: =DP41*MAX(0,(CR41*CF41*15)) -> 0 | ... ER41: =DT41*MAX(0,(CV41*CJ41*15)) -> 0
B42: 0.083333333 | C42: =C41-15 -> 150 | D42: =RADIANS(C42) -> 2.6179939 | E42: =MAX(0,90-DEGREES(ACOS(COS($G$10)*COS(E$36)*COS($D42)+SIN($G$10)*SIN(E$36)))) -> 0 | F42: =MAX(0,90-DEGREES(ACOS(COS($G$10)*COS(F$36)*COS($D42)+SIN($G$10)*SIN(F$36)))) -> 0 | G42: =MAX(0,90-DEGREES(ACOS(COS($G$10)*COS(G$36)*COS($D42)+SIN($G$10)*SIN(G$36)))) -> 0 | H42: =MAX(0,90-DEGREES(ACOS(COS($G$10)*COS(H$36)*COS($D42)+SIN($G$10)*SIN(H$36)))) -> 0 | I42: =MAX(0,90-DEGREES(ACOS(COS($G$10)*COS(I$36)*COS($D42)+SIN($G$10)*SIN(I$36)))) -> 0 | J42: =MAX(0,90-DEGREES(ACOS(COS($G$10)*COS(J$36)*COS($D42)+SIN($G$10)*SIN(J$36)))) -> 0 | K42: =MAX(0,90-DEGREES(ACOS(COS($G$10)*COS(K$36)*COS($D42)+SIN($G$10)*SIN(K$36)))) -> 0 | L42: =MAX(0,90-DEGREES(ACOS(COS($G$10)*COS(L$36)*COS($D42)+SIN($G$10)*SIN(L$36)))) -> 0 | ... P42: =MAX(0,90-DEGREES(ACOS(COS($G$10)*COS(P$36)*COS($D42)+SIN($G$10)*SIN(P$36)))) -> 0 | Q42: =3.372+0.053*(PI()*E42/180)-0.296*COS(RADIANS(30*E$22)) -> 3.1156565 | R42: =3.372+0.053*(PI()*F42/180)-0.296*COS(RADIANS(30*F$22)) -> 3.224 | S42: =3.372+0.053*(PI()*G42/180)-0.296*COS(RADIANS(30*G$22)) -> 3.372 | T42: =3.372+0.053*(PI()*H42/180)-0.296*COS(RADIANS(30*H$22)) -> 3.52 | U42: =3.372+0.053*(PI()*I42/180)-0.296*COS(RADIANS(30*I$22)) -> 3.6283435 | V42: =3.372+0.053*(PI()*J42/180)-0.296*COS(RADIANS(30*J$22)) -> 3.668 | W42: =3.372+0.053*(PI()*K42/180)-0.296*COS(RADIANS(30*K$22)) -> 3.6283435 | X42: =3.372+0.053*(PI()*L42/180)-0.296*COS(RADIANS(30*L$22)) -> 3.52 | ... AB42: =3.372+0.053*(PI()*P42/180)-0.296*COS(RADIANS(30*P$22)) -> 3.076 | AC42: =1.4899-2.1099*COS(RADIANS(E42))+0.6322*COS(RADIANS(2*E42))+0.0253*COS(RADIANS(3*E42))-1.0022*SIN(RADIANS(E42))+1.0077*SIN(RADIANS(2*E42))-0.2606*SIN(RADIANS(3*E42)) -> 0.0375 | AD42: =1.4899-2.1099*COS(RADIANS(F42))+0.6322*COS(RADIANS(2*F42))+0.0253*COS(RADIANS(3*F42))-1.0022*SIN(RADIANS(F42))+1.0077*SIN(RADIANS(2*F42))-0.2606*SIN(RADIANS(3*F42)) -> 0.0375 | AE42: =1.4899-2.1099*COS(RADIANS(G42))+0.6322*COS(RADIANS(2*G42))+0.0253*COS(RADIANS(3*G42))-1.0022*SIN(RADIANS(G42))+1.0077*SIN(RADIANS(2*G42))-0.2606*SIN(RADIANS(3*G42)) -> 0.0375 | AF42: =1.4899-2.1099*COS(RADIANS(H42))+0.6322*COS(RADIANS(2*H42))+0.0253*COS(RADIANS(3*H42))-1.0022*SIN(RADIANS(H42))+1.0077*SIN(RADIANS(2*H42))-0.2606*SIN(RADIANS(3*H42)) -> 0.0375 | AG42: =1.4899-2.1099*COS(RADIANS(I42))+0.6322*COS(RADIANS(2*I42))+0.0253*COS(RADIANS(3*I42))-1.0022*SIN(RADIANS(I42))+1.0077*SIN(RADIANS(2*I42))-0.2606*SIN(RADIANS(3*I42)) -> 0.0375 | AH42: =1.4899-2.1099*COS(RADIANS(J42))+0.6322*COS(RADIANS(2*J42))+0.0253*COS(RADIANS(3*J42))-1.0022*SIN(RADIANS(J42))+1.0077*SIN(RADIANS(2*J42))-0.2606*SIN(RADIANS(3*J42)) -> 0.0375 | AI42: =1.4899-2.1099*COS(RADIANS(K42))+0.6322*COS(RADIANS(2*K42))+0.0253*COS(RADIANS(3*K42))-1.0022*SIN(RADIANS(K42))+1.0077*SIN(RADIANS(2*K42))-0.2606*SIN(RADIANS(3*K42)) -> 0.0375 | AJ42: =1.4899-2.1099*COS(RADIANS(L42))+0.6322*COS(RADIANS(2*L42))+0.0253*COS(RADIANS(3*L42))-1.0022*SIN(RADIANS(L42))+1.0077*SIN(RADIANS(2*L42))-0.2606*SIN(RADIANS(3*L42)) -> 0.0375 | ... AN42: =1.4899-2.1099*COS(RADIANS(P42))+0.6322*COS(RADIANS(2*P42))+0.0253*COS(RADIANS(3*P42))-1.0022*SIN(RADIANS(P42))+1.0077*SIN(RADIANS(2*P42))-0.2606*SIN(RADIANS(3*P42)) -> 0.0375 | AO42: =0.992/(SIN(RADIANS(E42))+0.15*(PI()*E42/180+3.885)^(-1.253)) -> 36.218242 | AP42: =0.992/(SIN(RADIANS(F42))+0.15*(PI()*F42/180+3.885)^(-1.253)) -> 36.218242 | AQ42: =0.992/(SIN(RADIANS(G42))+0.15*(PI()*G42/180+3.885)^(-1.253)) -> 36.218242 | AR42: =0.992/(SIN(RADIANS(H42))+0.15*(PI()*H42/180+3.885)^(-1.253)) -> 36.218242 | AS42: =0.992/(SIN(RADIANS(I42))+0.15*(PI()*I42/180+3.885)^(-1.253)) -> 36.218242 | AT42: =0.992/(SIN(RADIANS(J42))+0.15*(PI()*J42/180+3.885)^(-1.253)) -> 36.218242 | AU42: =0.992/(SIN(RADIANS(K42))+0.15*(PI()*K42/180+3.885)^(-1.253)) -> 36.218242 | AV42: =0.992/(SIN(RADIANS(L42))+0.15*(PI()*L42/180+3.885)^(-1.253)) -> 36.218242 | ... AZ42: =0.992/(SIN(RADIANS(P42))+0.15*(PI()*P42/180+3.885)^(-1.253)) -> 36.218242 | BA42: =0.775*(SIN(E$36)*COS($G$11)+COS(E$36)*SIN($G$11)*COS($G$12)*COS($D42))-0.632*(SIN(E$36)*SIN($G$11)*COS($G$12)-COS(E$36)*COS($G$11)*COS($D42))+COS(E$36)*SIN($G$11)*SIN($G$12)*SIN($D42) -> -0.79056749 | BB42: =0.775*(SIN(F$36)*COS($G$11)+COS(F$36)*SIN($G$11)*COS($G$12)*COS($D42))-0.632*(SIN(F$36)*SIN($G$11)*COS($G$12)-COS(F$36)*COS($G$11)*COS($D42))+COS(F$36)*SIN($G$11)*SIN($G$12)*SIN($D42) -> -0.70891775 | BC42: =0.775*(SIN(G$36)*COS($G$11)+COS(G$36)*SIN($G$11)*COS($G$12)*COS($D42))-0.632*(SIN(G$36)*SIN($G$11)*COS($G$12)-COS(G$36)*COS($G$11)*COS($D42))+COS(G$36)*SIN($G$11)*SIN($G$12)*SIN($D42) -> -0.58504679 | BD42: =0.775*(SIN(H$36)*COS($G$11)+COS(H$36)*SIN($G$11)*COS($G$12)*COS($D42))-0.632*(SIN(H$36)*SIN($G$11)*COS($G$12)-COS(H$36)*COS($G$11)*COS($D42))+COS(H$36)*SIN($G$11)*SIN($G$12)*SIN($D42) -> -0.41782921 | BE42: =0.775*(SIN(I$36)*COS($G$11)+COS(I$36)*SIN($G$11)*COS($G$12)*COS($D42))-0.632*(SIN(I$36)*SIN($G$11)*COS($G$12)-COS(I$36)*COS($G$11)*COS($D42))+COS(I$36)*SIN($G$11)*SIN($G$12)*SIN($D42) -> -0.27258823 | BF42: =0.775*(SIN(J$36)*COS($G$11)+COS(J$36)*SIN($G$11)*COS($G$12)*COS($D42))-0.632*(SIN(J$36)*SIN($G$11)*COS($G$12)-COS(J$36)*COS($G$11)*COS($D42))+COS(J$36)*SIN($G$11)*SIN($G$12)*SIN($D42) -> -0.19623003 | BG42: =0.775*(SIN(K$36)*COS($G$11)+COS(K$36)*SIN($G$11)*COS($G$12)*COS($D42))-0.632*(SIN(K$36)*SIN($G$11)*COS($G$12)-COS(K$36)*COS($G$11)*COS($D42))+COS(K$36)*SIN($G$11)*SIN($G$12)*SIN($D42) -> -0.22587134 | BH42: =0.775*(SIN(L$36)*COS($G$11)+COS(L$36)*SIN($G$11)*COS($G$12)*COS($D42))-0.632*(SIN(L$36)*SIN($G$11)*COS($G$12)-COS(L$36)*COS($G$11)*COS($D42))+COS(L$36)*SIN($G$11)*SIN($G$12)*SIN($D42) -> -0.34961066 | ... BL42: =0.775*(SIN(P$36)*COS($G$11)+COS(P$36)*SIN($G$11)*COS($G$12)*COS($D42))-0.632*(SIN(P$36)*SIN($G$11)*COS($G$12)-COS(P$36)*COS($G$11)*COS($D42))+COS(P$36)*SIN($G$11)*SIN($G$12)*SIN($D42) -> -0.8093915 | BM42: =COS(RADIANS(90-E42)) -> 6.1257423e-17 | BN42: =COS(RADIANS(90-F42)) -> 6.1257423e-17 | BO42: =COS(RADIANS(90-G42)) -> 6.1257423e-17 | BP42: =COS(RADIANS(90-H42)) -> 6.1257423e-17 | BQ42: =COS(RADIANS(90-I42)) -> 6.1257423e-17 | BR42: =COS(RADIANS(90-J42)) -> 6.1257423e-17 | BS42: =COS(RADIANS(90-K42)) -> 6.1257423e-17 | BT42: =COS(RADIANS(90-L42)) -> 6.1257423e-17 | ... BX42: =COS(RADIANS(90-P42)) -> 6.1257423e-17 | BY42: =IF(BM42=$BM$40,0,BM42) -> 0 | BZ42: =IF(BN42=$BM$40,0,BN42) -> 0 | CA42: =IF(BO42=$BM$40,0,BO42) -> 0 | CB42: =IF(BP42=$BM$40,0,BP42) -> 0 | CC42: =IF(BQ42=$BM$40,0,BQ42) -> 0 | CD42: =IF(BR42=$BM$40,0,BR42) -> 0 | CE42: =IF(BS42=$BM$40,0,BS42) -> 0 | CF42: =IF(BT42=$BM$40,0,BT42) -> 0 | ... CJ42: =IF(BX42=$BM$40,0,BX42) -> 0 | CK42: =MAX(0,1353*(1+0.033*COS(RADIANS(360*E$35/365)))*EXP(-AO42*AC42*Q42)) -> 20.284401 | CL42: =MAX(0,1353*(1+0.033*COS(RADIANS(360*F$35/365)))*EXP(-AP42*AD42*R42)) -> 17.360768 | CM42: =MAX(0,1353*(1+0.033*COS(RADIANS(360*G$35/365)))*EXP(-AQ42*AE42*S42)) -> 14.011696 | CN42: =MAX(0,1353*(1+0.033*COS(RADIANS(360*H$35/365)))*EXP(-AR42*AF42*T42)) -> 11.262779 | CO42: =MAX(0,1353*(1+0.033*COS(RADIANS(360*I$35/365)))*EXP(-AS42*AG42*U42)) -> 9.5763195 | CP42: =MAX(0,1353*(1+0.033*COS(RADIANS(360*J$35/365)))*EXP(-AT42*AH42*V42)) -> 8.9896155 | CQ42: =MAX(0,1353*(1+0.033*COS(RADIANS(360*K$35/365)))*EXP(-AU42*AI42*W42)) -> 9.4828169 | CR42: =MAX(0,1353*(1+0.033*COS(RADIANS(360*L$35/365)))*EXP(-AV42*AJ42*X42)) -> 11.080672 | ... CV42: =MAX(0,1353*(1+0.033*COS(RADIANS(360*P$35/365)))*EXP(-AZ42*AN42*AB42)) -> 21.403786 | CW42: =IF(AND(BY42>0,BA42>0),1,0) -> 0 | CX42: =IF(AND(BZ42>0,BB42>0),1,0) -> 0 | CY42: =IF(AND(CA42>0,BC42>0),1,0) -> 0 | CZ42: =IF(AND(CB42>0,BD42>0),1,0) -> 0 | DA42: =IF(AND(CC42>0,BE42>0),1,0) -> 0 | DB42: =IF(AND(CD42>0,BF42>0),1,0) -> 0 | DC42: =IF(AND(CE42>0,BG42>0),1,0) -> 0 | DD42: =IF(AND(CF42>0,BH42>0),1,0) -> 0 | ... DH42: =IF(AND(CJ42>0,BL42>0),1,0) -> 0 | DI42: =IF(BY42>0,1,0) -> 0 | DJ42: =IF(BZ42>0,1,0) -> 0 | DK42: =IF(CA42>0,1,0) -> 0 | DL42: =IF(CB42>0,1,0) -> 0 | DM42: =IF(CC42>0,1,0) -> 0 | DN42: =IF(CD42>0,1,0) -> 0 | DO42: =IF(CE42>0,1,0) -> 0 | DP42: =IF(CF42>0,1,0) -> 0 | ... DT42: =IF(CJ42>0,1,0) -> 0 | DU42: =CW42*MAX(0,(CK42*BA42*15)) -> 0 | DV42: =CX42*MAX(0,(CL42*BB42*15)) -> 0 | DW42: =CY42*MAX(0,(CM42*BC42*15)) -> 0 | DX42: =CZ42*MAX(0,(CN42*BD42*15)) -> 0 | DY42: =DA42*MAX(0,(CO42*BE42*15)) -> 0 | DZ42: =DB42*MAX(0,(CP42*BF42*15)) -> 0 | EA42: =DC42*MAX(0,(CQ42*BG42*15)) -> 0 | EB42: =DD42*MAX(0,(CR42*BH42*15)) -> 0 | ... EF42: =DH42*MAX(0,(CV42*BL42*15)) -> 0 | EG42: =DI42*MAX(0,(CK42*BY42*15)) -> 0 | EH42: =DJ42*MAX(0,(CL42*BZ42*15)) -> 0 | EI42: =DK42*MAX(0,(CM42*CA42*15)) -> 0 | EJ42: =DL42*MAX(0,(CN42*CB42*15)) -> 0 | EK42: =DM42*MAX(0,(CO42*CC42*15)) -> 0 | EL42: =DN42*MAX(0,(CP42*CD42*15)) -> 0 | EM42: =DO42*MAX(0,(CQ42*CE42*15)) -> 0 | EN42: =DP42*MAX(0,(CR42*CF42*15)) -> 0 | ... ER42: =DT42*MAX(0,(CV42*CJ42*15)) -> 0
B43: 0.125 | C43: =C42-15 -> 135 | D43: =RADIANS(C43) -> 2.3561945 | E43: =MAX(0,90-DEGREES(ACOS(COS($G$10)*COS(E$36)*COS($D43)+SIN($G$10)*SIN(E$36)))) -> 0 | F43: =MAX(0,90-DEGREES(ACOS(COS($G$10)*COS(F$36)*COS($D43)+SIN($G$10)*SIN(F$36)))) -> 0 | G43: =MAX(0,90-DEGREES(ACOS(COS($G$10)*COS(G$36)*COS($D43)+SIN($G$10)*SIN(G$36)))) -> 0 | H43: =MAX(0,90-DEGREES(ACOS(COS($G$10)*COS(H$36)*COS($D43)+SIN($G$10)*SIN(H$36)))) -> 0 | I43: =MAX(0,90-DEGREES(ACOS(COS($G$10)*COS(I$36)*COS($D43)+SIN($G$10)*SIN(I$36)))) -> 0 | J43: =MAX(0,90-DEGREES(ACOS(COS($G$10)*COS(J$36)*COS($D43)+SIN($G$10)*SIN(J$36)))) -> 0 | K43: =MAX(0,90-DEGREES(ACOS(COS($G$10)*COS(K$36)*COS($D43)+SIN($G$10)*SIN(K$36)))) -> 0 | L43: =MAX(0,90-DEGREES(ACOS(COS($G$10)*COS(L$36)*COS($D43)+SIN($G$10)*SIN(L$36)))) -> 0 | ... P43: =MAX(0,90-DEGREES(ACOS(COS($G$10)*COS(P$36)*COS($D43)+SIN($G$10)*SIN(P$36)))) -> 0 | Q43: =3.372+0.053*(PI()*E43/180)-0.296*COS(RADIANS(30*E$22)) -> 3.1156565 | R43: =3.372+0.053*(PI()*F43/180)-0.296*COS(RADIANS(30*F$22)) -> 3.224 | S43: =3.372+0.053*(PI()*G43/180)-0.296*COS(RADIANS(30*G$22)) -> 3.372 | T43: =3.372+0.053*(PI()*H43/180)-0.296*COS(RADIANS(30*H$22)) -> 3.52 | U43: =3.372+0.053*(PI()*I43/180)-0.296*COS(RADIANS(30*I$22)) -> 3.6283435 | V43: =3.372+0.053*(PI()*J43/180)-0.296*COS(RADIANS(30*J$22)) -> 3.668 | W43: =3.372+0.053*(PI()*K43/180)-0.296*COS(RADIANS(30*K$22)) -> 3.6283435 | X43: =3.372+0.053*(PI()*L43/180)-0.296*COS(RADIANS(30*L$22)) -> 3.52 | ... AB43: =3.372+0.053*(PI()*P43/180)-0.296*COS(RADIANS(30*P$22)) -> 3.076 | AC43: =1.4899-2.1099*COS(RADIANS(E43))+0.6322*COS(RADIANS(2*E43))+0.0253*COS(RADIANS(3*E43))-1.0022*SIN(RADIANS(E43))+1.0077*SIN(RADIANS(2*E43))-0.2606*SIN(RADIANS(3*E43)) -> 0.0375 | AD43: =1.4899-2.1099*COS(RADIANS(F43))+0.6322*COS(RADIANS(2*F43))+0.0253*COS(RADIANS(3*F43))-1.0022*SIN(RADIANS(F43))+1.0077*SIN(RADIANS(2*F43))-0.2606*SIN(RADIANS(3*F43)) -> 0.0375 | AE43: =1.4899-2.1099*COS(RADIANS(G43))+0.6322*COS(RADIANS(2*G43))+0.0253*COS(RADIANS(3*G43))-1.0022*SIN(RADIANS(G43))+1.0077*SIN(RADIANS(2*G43))-0.2606*SIN(RADIANS(3*G43)) -> 0.0375 | AF43: =1.4899-2.1099*COS(RADIANS(H43))+0.6322*COS(RADIANS(2*H43))+0.0253*COS(RADIANS(3*H43))-1.0022*SIN(RADIANS(H43))+1.0077*SIN(RADIANS(2*H43))-0.2606*SIN(RADIANS(3*H43)) -> 0.0375 | AG43: =1.4899-2.1099*COS(RADIANS(I43))+0.6322*COS(RADIANS(2*I43))+0.0253*COS(RADIANS(3*I43))-1.0022*SIN(RADIANS(I43))+1.0077*SIN(RADIANS(2*I43))-0.2606*SIN(RADIANS(3*I43)) -> 0.0375 | AH43: =1.4899-2.1099*COS(RADIANS(J43))+0.6322*COS(RADIANS(2*J43))+0.0253*COS(RADIANS(3*J43))-1.0022*SIN(RADIANS(J43))+1.0077*SIN(RADIANS(2*J43))-0.2606*SIN(RADIANS(3*J43)) -> 0.0375 | AI43: =1.4899-2.1099*COS(RADIANS(K43))+0.6322*COS(RADIANS(2*K43))+0.0253*COS(RADIANS(3*K43))-1.0022*SIN(RADIANS(K43))+1.0077*SIN(RADIANS(2*K43))-0.2606*SIN(RADIANS(3*K43)) -> 0.0375 | AJ43: =1.4899-2.1099*COS(RADIANS(L43))+0.6322*COS(RADIANS(2*L43))+0.0253*COS(RADIANS(3*L43))-1.0022*SIN(RADIANS(L43))+1.0077*SIN(RADIANS(2*L43))-0.2606*SIN(RADIANS(3*L43)) -> 0.0375 | ... AN43: =1.4899-2.1099*COS(RADIANS(P43))+0.6322*COS(RADIANS(2*P43))+0.0253*COS(RADIANS(3*P43))-1.0022*SIN(RADIANS(P43))+1.0077*SIN(RADIANS(2*P43))-0.2606*SIN(RADIANS(3*P43)) -> 0.0375 | AO43: =0.992/(SIN(RADIANS(E43))+0.15*(PI()*E43/180+3.885)^(-1.253)) -> 36.218242 | AP43: =0.992/(SIN(RADIANS(F43))+0.15*(PI()*F43/180+3.885)^(-1.253)) -> 36.218242 | AQ43: =0.992/(SIN(RADIANS(G43))+0.15*(PI()*G43/180+3.885)^(-1.253)) -> 36.218242 | AR43: =0.992/(SIN(RADIANS(H43))+0.15*(PI()*H43/180+3.885)^(-1.253)) -> 36.218242 | AS43: =0.992/(SIN(RADIANS(I43))+0.15*(PI()*I43/180+3.885)^(-1.253)) -> 36.218242 | AT43: =0.992/(SIN(RADIANS(J43))+0.15*(PI()*J43/180+3.885)^(-1.253)) -> 36.218242 | AU43: =0.992/(SIN(RADIANS(K43))+0.15*(PI()*K43/180+3.885)^(-1.253)) -> 36.218242 | AV43: =0.992/(SIN(RADIANS(L43))+0.15*(PI()*L43/180+3.885)^(-1.253)) -> 36.218242 | ... AZ43: =0.992/(SIN(RADIANS(P43))+0.15*(PI()*P43/180+3.885)^(-1.253)) -> 36.218242 | BA43: =0.775*(SIN(E$36)*COS($G$11)+COS(E$36)*SIN($G$11)*COS($G$12)*COS($D43))-0.632*(SIN(E$36)*SIN($G$11)*COS($G$12)-COS(E$36)*COS($G$11)*COS($D43))+COS(E$36)*SIN($G$11)*SIN($G$12)*SIN($D43) -> -0.69692957 | BB43: =0.775*(SIN(F$36)*COS($G$11)+COS(F$36)*SIN($G$11)*COS($G$12)*COS($D43))-0.632*(SIN(F$36)*SIN($G$11)*COS($G$12)-COS(F$36)*COS($G$11)*COS($D43))+COS(F$36)*SIN($G$11)*SIN($G$12)*SIN($D43) -> -0.6111014 | BC43: =0.775*(SIN(G$36)*COS($G$11)+COS(G$36)*SIN($G$11)*COS($G$12)*COS($D43))-0.632*(SIN(G$36)*SIN($G$11)*COS($G$12)-COS(G$36)*COS($G$11)*COS($D43))+COS(G$36)*SIN($G$11)*SIN($G$12)*SIN($D43) -> -0.48473352 | BD43: =0.775*(SIN(H$36)*COS($G$11)+COS(H$36)*SIN($G$11)*COS($G$12)*COS($D43))-0.632*(SIN(H$36)*SIN($G$11)*COS($G$12)-COS(H$36)*COS($G$11)*COS($D43))+COS(H$36)*SIN($G$11)*SIN($G$12)*SIN($D43) -> -0.31865745 | BE43: =0.775*(SIN(I$36)*COS($G$11)+COS(I$36)*SIN($G$11)*COS($G$12)*COS($D43))-0.632*(SIN(I$36)*SIN($G$11)*COS($G$12)-COS(I$36)*COS($G$11)*COS($D43))+COS(I$36)*SIN($G$11)*SIN($G$12)*SIN($D43) -> -0.17736098 | BF43: =0.775*(SIN(J$36)*COS($G$11)+COS(J$36)*SIN($G$11)*COS($G$12)*COS($D43))-0.632*(SIN(J$36)*SIN($G$11)*COS($G$12)-COS(J$36)*COS($G$11)*COS($D43))+COS(J$36)*SIN($G$11)*SIN($G$12)*SIN($D43) -> -0.10398073 | BG43: =0.775*(SIN(K$36)*COS($G$11)+COS(K$36)*SIN($G$11)*COS($G$12)*COS($D43))-0.632*(SIN(K$36)*SIN($G$11)*COS($G$12)-COS(K$36)*COS($G$11)*COS($D43))+COS(K$36)*SIN($G$11)*SIN($G$12)*SIN($D43) -> -0.13239681 | BH43: =0.775*(SIN(L$36)*COS($G$11)+COS(L$36)*SIN($G$11)*COS($G$12)*COS($D43))-0.632*(SIN(L$36)*SIN($G$11)*COS($G$12)-COS(L$36)*COS($G$11)*COS($D43))+COS(L$36)*SIN($G$11)*SIN($G$12)*SIN($D43) -> -0.25199387 | ... BL43: =0.775*(SIN(P$36)*COS($G$11)+COS(P$36)*SIN($G$11)*COS($G$12)*COS($D43))-0.632*(SIN(P$36)*SIN($G$11)*COS($G$12)-COS(P$36)*COS($G$11)*COS($D43))+COS(P$36)*SIN($G$11)*SIN($G$12)*SIN($D43) -> -0.71715811 | BM43: =COS(RADIANS(90-E43)) -> 6.1257423e-17 | BN43: =COS(RADIANS(90-F43)) -> 6.1257423e-17 | BO43: =COS(RADIANS(90-G43)) -> 6.1257423e-17 | BP43: =COS(RADIANS(90-H43)) -> 6.1257423e-17 | BQ43: =COS(RADIANS(90-I43)) -> 6.1257423e-17 | BR43: =COS(RADIANS(90-J43)) -> 6.1257423e-17 | BS43: =COS(RADIANS(90-K43)) -> 6.1257423e-17 | BT43: =COS(RADIANS(90-L43)) -> 6.1257423e-17 | ... BX43: =COS(RADIANS(90-P43)) -> 6.1257423e-17 | BY43: =IF(BM43=$BM$40,0,BM43) -> 0 | BZ43: =IF(BN43=$BM$40,0,BN43) -> 0 | CA43: =IF(BO43=$BM$40,0,BO43) -> 0 | CB43: =IF(BP43=$BM$40,0,BP43) -> 0 | CC43: =IF(BQ43=$BM$40,0,BQ43) -> 0 | CD43: =IF(BR43=$BM$40,0,BR43) -> 0 | CE43: =IF(BS43=$BM$40,0,BS43) -> 0 | CF43: =IF(BT43=$BM$40,0,BT43) -> 0 | ... CJ43: =IF(BX43=$BM$40,0,BX43) -> 0 | CK43: =MAX(0,1353*(1+0.033*COS(RADIANS(360*E$35/365)))*EXP(-AO43*AC43*Q43)) -> 20.284401 | CL43: =MAX(0,1353*(1+0.033*COS(RADIANS(360*F$35/365)))*EXP(-AP43*AD43*R43)) -> 17.360768 | CM43: =MAX(0,1353*(1+0.033*COS(RADIANS(360*G$35/365)))*EXP(-AQ43*AE43*S43)) -> 14.011696 | CN43: =MAX(0,1353*(1+0.033*COS(RADIANS(360*H$35/365)))*EXP(-AR43*AF43*T43)) -> 11.262779 | CO43: =MAX(0,1353*(1+0.033*COS(RADIANS(360*I$35/365)))*EXP(-AS43*AG43*U43)) -> 9.5763195 | CP43: =MAX(0,1353*(1+0.033*COS(RADIANS(360*J$35/365)))*EXP(-AT43*AH43*V43)) -> 8.9896155 | CQ43: =MAX(0,1353*(1+0.033*COS(RADIANS(360*K$35/365)))*EXP(-AU43*AI43*W43)) -> 9.4828169 | CR43: =MAX(0,1353*(1+0.033*COS(RADIANS(360*L$35/365)))*EXP(-AV43*AJ43*X43)) -> 11.080672 | ... CV43: =MAX(0,1353*(1+0.033*COS(RADIANS(360*P$35/365)))*EXP(-AZ43*AN43*AB43)) -> 21.403786 | CW43: =IF(AND(BY43>0,BA43>0),1,0) -> 0 | CX43: =IF(AND(BZ43>0,BB43>0),1,0) -> 0 | CY43: =IF(AND(CA43>0,BC43>0),1,0) -> 0 | CZ43: =IF(AND(CB43>0,BD43>0),1,0) -> 0 | DA43: =IF(AND(CC43>0,BE43>0),1,0) -> 0 | DB43: =IF(AND(CD43>0,BF43>0),1,0) -> 0 | DC43: =IF(AND(CE43>0,BG43>0),1,0) -> 0 | DD43: =IF(AND(CF43>0,BH43>0),1,0) -> 0 | ... DH43: =IF(AND(CJ43>0,BL43>0),1,0) -> 0 | DI43: =IF(BY43>0,1,0) -> 0 | DJ43: =IF(BZ43>0,1,0) -> 0 | DK43: =IF(CA43>0,1,0) -> 0 | DL43: =IF(CB43>0,1,0) -> 0 | DM43: =IF(CC43>0,1,0) -> 0 | DN43: =IF(CD43>0,1,0) -> 0 | DO43: =IF(CE43>0,1,0) -> 0 | DP43: =IF(CF43>0,1,0) -> 0 | ... DT43: =IF(CJ43>0,1,0) -> 0 | DU43: =CW43*MAX(0,(CK43*BA43*15)) -> 0 | DV43: =CX43*MAX(0,(CL43*BB43*15)) -> 0 | DW43: =CY43*MAX(0,(CM43*BC43*15)) -> 0 | DX43: =CZ43*MAX(0,(CN43*BD43*15)) -> 0 | DY43: =DA43*MAX(0,(CO43*BE43*15)) -> 0 | DZ43: =DB43*MAX(0,(CP43*BF43*15)) -> 0 | EA43: =DC43*MAX(0,(CQ43*BG43*15)) -> 0 | EB43: =DD43*MAX(0,(CR43*BH43*15)) -> 0 | ... EF43: =DH43*MAX(0,(CV43*BL43*15)) -> 0 | EG43: =DI43*MAX(0,(CK43*BY43*15)) -> 0 | EH43: =DJ43*MAX(0,(CL43*BZ43*15)) -> 0 | EI43: =DK43*MAX(0,(CM43*CA43*15)) -> 0 | EJ43: =DL43*MAX(0,(CN43*CB43*15)) -> 0 | EK43: =DM43*MAX(0,(CO43*CC43*15)) -> 0 | EL43: =DN43*MAX(0,(CP43*CD43*15)) -> 0 | EM43: =DO43*MAX(0,(CQ43*CE43*15)) -> 0 | EN43: =DP43*MAX(0,(CR43*CF43*15)) -> 0 | ... ER43: =DT43*MAX(0,(CV43*CJ43*15)) -> 0
B44: 0.16666667 | C44: =C43-15 -> 120 | D44: =RADIANS(C44) -> 2.0943951 | E44: =MAX(0,90-DEGREES(ACOS(COS($G$10)*COS(E$36)*COS($D44)+SIN($G$10)*SIN(E$36)))) -> 0 | F44: =MAX(0,90-DEGREES(ACOS(COS($G$10)*COS(F$36)*COS($D44)+SIN($G$10)*SIN(F$36)))) -> 0 | G44: =MAX(0,90-DEGREES(ACOS(COS($G$10)*COS(G$36)*COS($D44)+SIN($G$10)*SIN(G$36)))) -> 0 | H44: =MAX(0,90-DEGREES(ACOS(COS($G$10)*COS(H$36)*COS($D44)+SIN($G$10)*SIN(H$36)))) -> 0 | I44: =MAX(0,90-DEGREES(ACOS(COS($G$10)*COS(I$36)*COS($D44)+SIN($G$10)*SIN(I$36)))) -> 0 | J44: =MAX(0,90-DEGREES(ACOS(COS($G$10)*COS(J$36)*COS($D44)+SIN($G$10)*SIN(J$36)))) -> 0.9164282 | K44: =MAX(0,90-DEGREES(ACOS(COS($G$10)*COS(K$36)*COS($D44)+SIN($G$10)*SIN(K$36)))) -> 0 | L44: =MAX(0,90-DEGREES(ACOS(COS($G$10)*COS(L$36)*COS($D44)+SIN($G$10)*SIN(L$36)))) -> 0 | ... P44: =MAX(0,90-DEGREES(ACOS(COS($G$10)*COS(P$36)*COS($D44)+SIN($G$10)*SIN(P$36)))) -> 0 | Q44: =3.372+0.053*(PI()*E44/180)-0.296*COS(RADIANS(30*E$22)) -> 3.1156565 | R44: =3.372+0.053*(PI()*F44/180)-0.296*COS(RADIANS(30*F$22)) -> 3.224 | S44: =3.372+0.053*(PI()*G44/180)-0.296*COS(RADIANS(30*G$22)) -> 3.372 | T44: =3.372+0.053*(PI()*H44/180)-0.296*COS(RADIANS(30*H$22)) -> 3.52 | U44: =3.372+0.053*(PI()*I44/180)-0.296*COS(RADIANS(30*I$22)) -> 3.6283435 | V44: =3.372+0.053*(PI()*J44/180)-0.296*COS(RADIANS(30*J$22)) -> 3.6688477 | W44: =3.372+0.053*(PI()*K44/180)-0.296*COS(RADIANS(30*K$22)) -> 3.6283435 | X44: =3.372+0.053*(PI()*L44/180)-0.296*COS(RADIANS(30*L$22)) -> 3.52 | ... AB44: =3.372+0.053*(PI()*P44/180)-0.296*COS(RADIANS(30*P$22)) -> 3.076 | AC44: =1.4899-2.1099*COS(RADIANS(E44))+0.6322*COS(RADIANS(2*E44))+0.0253*COS(RADIANS(3*E44))-1.0022*SIN(RADIANS(E44))+1.0077*SIN(RADIANS(2*E44))-0.2606*SIN(RADIANS(3*E44)) -> 0.0375 | AD44: =1.4899-2.1099*COS(RADIANS(F44))+0.6322*COS(RADIANS(2*F44))+0.0253*COS(RADIANS(3*F44))-1.0022*SIN(RADIANS(F44))+1.0077*SIN(RADIANS(2*F44))-0.2606*SIN(RADIANS(3*F44)) -> 0.0375 | AE44: =1.4899-2.1099*COS(RADIANS(G44))+0.6322*COS(RADIANS(2*G44))+0.0253*COS(RADIANS(3*G44))-1.0022*SIN(RADIANS(G44))+1.0077*SIN(RADIANS(2*G44))-0.2606*SIN(RADIANS(3*G44)) -> 0.0375 | AF44: =1.4899-2.1099*COS(RADIANS(H44))+0.6322*COS(RADIANS(2*H44))+0.0253*COS(RADIANS(3*H44))-1.0022*SIN(RADIANS(H44))+1.0077*SIN(RADIANS(2*H44))-0.2606*SIN(RADIANS(3*H44)) -> 0.0375 | AG44: =1.4899-2.1099*COS(RADIANS(I44))+0.6322*COS(RADIANS(2*I44))+0.0253*COS(RADIANS(3*I44))-1.0022*SIN(RADIANS(I44))+1.0077*SIN(RADIANS(2*I44))-0.2606*SIN(RADIANS(3*I44)) -> 0.0375 | AH44: =1.4899-2.1099*COS(RADIANS(J44))+0.6322*COS(RADIANS(2*J44))+0.0253*COS(RADIANS(3*J44))-1.0022*SIN(RADIANS(J44))+1.0077*SIN(RADIANS(2*J44))-0.2606*SIN(RADIANS(3*J44)) -> 0.041118473 | AI44: =1.4899-2.1099*COS(RADIANS(K44))+0.6322*COS(RADIANS(2*K44))+0.0253*COS(RADIANS(3*K44))-1.0022*SIN(RADIANS(K44))+1.0077*SIN(RADIANS(2*K44))-0.2606*SIN(RADIANS(3*K44)) -> 0.0375 | AJ44: =1.4899-2.1099*COS(RADIANS(L44))+0.6322*COS(RADIANS(2*L44))+0.0253*COS(RADIANS(3*L44))-1.0022*SIN(RADIANS(L44))+1.0077*SIN(RADIANS(2*L44))-0.2606*SIN(RADIANS(3*L44)) -> 0.0375 | ... AN44: =1.4899-2.1099*COS(RADIANS(P44))+0.6322*COS(RADIANS(2*P44))+0.0253*COS(RADIANS(3*P44))-1.0022*SIN(RADIANS(P44))+1.0077*SIN(RADIANS(2*P44))-0.2606*SIN(RADIANS(3*P44)) -> 0.0375 | AO44: =0.992/(SIN(RADIANS(E44))+0.15*(PI()*E44/180+3.885)^(-1.253)) -> 36.218242 | AP44: =0.992/(SIN(RADIANS(F44))+0.15*(PI()*F44/180+3.885)^(-1.253)) -> 36.218242 | AQ44: =0.992/(SIN(RADIANS(G44))+0.15*(PI()*G44/180+3.885)^(-1.253)) -> 36.218242 | AR44: =0.992/(SIN(RADIANS(H44))+0.15*(PI()*H44/180+3.885)^(-1.253)) -> 36.218242 | AS44: =0.992/(SIN(RADIANS(I44))+0.15*(PI()*I44/180+3.885)^(-1.253)) -> 36.218242 | AT44: =0.992/(SIN(RADIANS(J44))+0.15*(PI()*J44/180+3.885)^(-1.253)) -> 22.940193 | AU44: =0.992/(SIN(RADIANS(K44))+0.15*(PI()*K44/180+3.885)^(-1.253)) -> 36.218242 | AV44: =0.992/(SIN(RADIANS(L44))+0.15*(PI()*L44/180+3.885)^(-1.253)) -> 36.218242 | ... AZ44: =0.992/(SIN(RADIANS(P44))+0.15*(PI()*P44/180+3.885)^(-1.253)) -> 36.218242 | BA44: =0.775*(SIN(E$36)*COS($G$11)+COS(E$36)*SIN($G$11)*COS($G$12)*COS($D44))-0.632*(SIN(E$36)*SIN($G$11)*COS($G$12)-COS(E$36)*COS($G$11)*COS($D44))+COS(E$36)*SIN($G$11)*SIN($G$12)*SIN($D44) -> -0.57489826 | BB44: =0.775*(SIN(F$36)*COS($G$11)+COS(F$36)*SIN($G$11)*COS($G$12)*COS($D44))-0.632*(SIN(F$36)*SIN($G$11)*COS($G$12)-COS(F$36)*COS($G$11)*COS($D44))+COS(F$36)*SIN($G$11)*SIN($G$12)*SIN($D44) -> -0.48362464 | BC44: =0.775*(SIN(G$36)*COS($G$11)+COS(G$36)*SIN($G$11)*COS($G$12)*COS($D44))-0.632*(SIN(G$36)*SIN($G$11)*COS($G$12)-COS(G$36)*COS($G$11)*COS($D44))+COS(G$36)*SIN($G$11)*SIN($G$12)*SIN($D44) -> -0.35400273 | BD44: =0.775*(SIN(H$36)*COS($G$11)+COS(H$36)*SIN($G$11)*COS($G$12)*COS($D44))-0.632*(SIN(H$36)*SIN($G$11)*COS($G$12)-COS(H$36)*COS($G$11)*COS($D44))+COS(H$36)*SIN($G$11)*SIN($G$12)*SIN($D44) -> -0.1894143 | BE44: =0.775*(SIN(I$36)*COS($G$11)+COS(I$36)*SIN($G$11)*COS($G$12)*COS($D44))-0.632*(SIN(I$36)*SIN($G$11)*COS($G$12)-COS(I$36)*COS($G$11)*COS($D44))+COS(I$36)*SIN($G$11)*SIN($G$12)*SIN($D44) -> -0.053258409 | BF44: =0.775*(SIN(J$36)*COS($G$11)+COS(J$36)*SIN($G$11)*COS($G$12)*COS($D44))-0.632*(SIN(J$36)*SIN($G$11)*COS($G$12)-COS(J$36)*COS($G$11)*COS($D44))+COS(J$36)*SIN($G$11)*SIN($G$12)*SIN($D44) -> 0.016240892 | BG44: =0.775*(SIN(K$36)*COS($G$11)+COS(K$36)*SIN($G$11)*COS($G$12)*COS($D44))-0.632*(SIN(K$36)*SIN($G$11)*COS($G$12)-COS(K$36)*COS($G$11)*COS($D44))+COS(K$36)*SIN($G$11)*SIN($G$12)*SIN($D44) -> -0.010578429 | BH44: =0.775*(SIN(L$36)*COS($G$11)+COS(L$36)*SIN($G$11)*COS($G$12)*COS($D44))-0.632*(SIN(L$36)*SIN($G$11)*COS($G$12)-COS(L$36)*COS($G$11)*COS($D44))+COS(L$36)*SIN($G$11)*SIN($G$12)*SIN($D44) -> -0.12477718 | ... BL44: =0.775*(SIN(P$36)*COS($G$11)+COS(P$36)*SIN($G$11)*COS($G$12)*COS($D44))-0.632*(SIN(P$36)*SIN($G$11)*COS($G$12)-COS(P$36)*COS($G$11)*COS($D44))+COS(P$36)*SIN($G$11)*SIN($G$12)*SIN($D44) -> -0.59695723 | BM44: =COS(RADIANS(90-E44)) -> 6.1257423e-17 | BN44: =COS(RADIANS(90-F44)) -> 6.1257423e-17 | BO44: =COS(RADIANS(90-G44)) -> 6.1257423e-17 | BP44: =COS(RADIANS(90-H44)) -> 6.1257423e-17 | BQ44: =COS(RADIANS(90-I44)) -> 6.1257423e-17 | BR44: =COS(RADIANS(90-J44)) -> 0.015994008 | BS44: =COS(RADIANS(90-K44)) -> 6.1257423e-17 | BT44: =COS(RADIANS(90-L44)) -> 6.1257423e-17 | ... BX44: =COS(RADIANS(90-P44)) -> 6.1257423e-17 | BY44: =IF(BM44=$BM$40,0,BM44) -> 0 | BZ44: =IF(BN44=$BM$40,0,BN44) -> 0 | CA44: =IF(BO44=$BM$40,0,BO44) -> 0 | CB44: =IF(BP44=$BM$40,0,BP44) -> 0 | CC44: =IF(BQ44=$BM$40,0,BQ44) -> 0 | CD44: =IF(BR44=$BM$40,0,BR44) -> 0.015994008 | CE44: =IF(BS44=$BM$40,0,BS44) -> 0 | CF44: =IF(BT44=$BM$40,0,BT44) -> 0 | ... CJ44: =IF(BX44=$BM$40,0,BX44) -> 0 | CK44: =MAX(0,1353*(1+0.033*COS(RADIANS(360*E$35/365)))*EXP(-AO44*AC44*Q44)) -> 20.284401 | CL44: =MAX(0,1353*(1+0.033*COS(RADIANS(360*F$35/365)))*EXP(-AP44*AD44*R44)) -> 17.360768 | CM44: =MAX(0,1353*(1+0.033*COS(RADIANS(360*G$35/365)))*EXP(-AQ44*AE44*S44)) -> 14.011696 | CN44: =MAX(0,1353*(1+0.033*COS(RADIANS(360*H$35/365)))*EXP(-AR44*AF44*T44)) -> 11.262779 | CO44: =MAX(0,1353*(1+0.033*COS(RADIANS(360*I$35/365)))*EXP(-AS44*AG44*U44)) -> 9.5763195 | CP44: =MAX(0,1353*(1+0.033*COS(RADIANS(360*J$35/365)))*EXP(-AT44*AH44*V44)) -> 41.148649 | CQ44: =MAX(0,1353*(1+0.033*COS(RADIANS(360*K$35/365)))*EXP(-AU44*AI44*W44)) -> 9.4828169 | CR44: =MAX(0,1353*(1+0.033*COS(RADIANS(360*L$35/365)))*EXP(-AV44*AJ44*X44)) -> 11.080672 | ... CV44: =MAX(0,1353*(1+0.033*COS(RADIANS(360*P$35/365)))*EXP(-AZ44*AN44*AB44)) -> 21.403786 | CW44: =IF(AND(BY44>0,BA44>0),1,0) -> 0 | CX44: =IF(AND(BZ44>0,BB44>0),1,0) -> 0 | CY44: =IF(AND(CA44>0,BC44>0),1,0) -> 0 | CZ44: =IF(AND(CB44>0,BD44>0),1,0) -> 0 | DA44: =IF(AND(CC44>0,BE44>0),1,0) -> 0 | DB44: =IF(AND(CD44>0,BF44>0),1,0) -> 1 | DC44: =IF(AND(CE44>0,BG44>0),1,0) -> 0 | DD44: =IF(AND(CF44>0,BH44>0),1,0) -> 0 | ... DH44: =IF(AND(CJ44>0,BL44>0),1,0) -> 0 | DI44: =IF(BY44>0,1,0) -> 0 | DJ44: =IF(BZ44>0,1,0) -> 0 | DK44: =IF(CA44>0,1,0) -> 0 | DL44: =IF(CB44>0,1,0) -> 0 | DM44: =IF(CC44>0,1,0) -> 0 | DN44: =IF(CD44>0,1,0) -> 1 | DO44: =IF(CE44>0,1,0) -> 0 | DP44: =IF(CF44>0,1,0) -> 0 | ... DT44: =IF(CJ44>0,1,0) -> 0 | DU44: =CW44*MAX(0,(CK44*BA44*15)) -> 0 | DV44: =CX44*MAX(0,(CL44*BB44*15)) -> 0 | DW44: =CY44*MAX(0,(CM44*BC44*15)) -> 0 | DX44: =CZ44*MAX(0,(CN44*BD44*15)) -> 0 | DY44: =DA44*MAX(0,(CO44*BE44*15)) -> 0 | DZ44: =DB44*MAX(0,(CP44*BF44*15)) -> 10.024362 | EA44: =DC44*MAX(0,(CQ44*BG44*15)) -> 0 | EB44: =DD44*MAX(0,(CR44*BH44*15)) -> 0 | ... EF44: =DH44*MAX(0,(CV44*BL44*15)) -> 0 | EG44: =DI44*MAX(0,(CK44*BY44*15)) -> 0 | EH44: =DJ44*MAX(0,(CL44*BZ44*15)) -> 0 | EI44: =DK44*MAX(0,(CM44*CA44*15)) -> 0 | EJ44: =DL44*MAX(0,(CN44*CB44*15)) -> 0 | EK44: =DM44*MAX(0,(CO44*CC44*15)) -> 0 | EL44: =DN44*MAX(0,(CP44*CD44*15)) -> 9.8719769 | EM44: =DO44*MAX(0,(CQ44*CE44*15)) -> 0 | EN44: =DP44*MAX(0,(CR44*CF44*15)) -> 0 | ... ER44: =DT44*MAX(0,(CV44*CJ44*15)) -> 0
B45: 0.20833333 | C45: =C44-15 -> 105 | D45: =RADIANS(C45) -> 1.8325957 | E45: =MAX(0,90-DEGREES(ACOS(COS($G$10)*COS(E$36)*COS($D45)+SIN($G$10)*SIN(E$36)))) -> 0 | F45: =MAX(0,90-DEGREES(ACOS(COS($G$10)*COS(F$36)*COS($D45)+SIN($G$10)*SIN(F$36)))) -> 0 | G45: =MAX(0,90-DEGREES(ACOS(COS($G$10)*COS(G$36)*COS($D45)+SIN($G$10)*SIN(G$36)))) -> 0 | H45: =MAX(0,90-DEGREES(ACOS(COS($G$10)*COS(H$36)*COS($D45)+SIN($G$10)*SIN(H$36)))) -> 0 | I45: =MAX(0,90-DEGREES(ACOS(COS($G$10)*COS(I$36)*COS($D45)+SIN($G$10)*SIN(I$36)))) -> 5.2269351 | J45: =MAX(0,90-DEGREES(ACOS(COS($G$10)*COS(J$36)*COS($D45)+SIN($G$10)*SIN(J$36)))) -> 8.9783627 | K45: =MAX(0,90-DEGREES(ACOS(COS($G$10)*COS(K$36)*COS($D45)+SIN($G$10)*SIN(K$36)))) -> 7.5336725 | L45: =MAX(0,90-DEGREES(ACOS(COS($G$10)*COS(L$36)*COS($D45)+SIN($G$10)*SIN(L$36)))) -> 1.3310657 | ... P45: =MAX(0,90-DEGREES(ACOS(COS($G$10)*COS(P$36)*COS($D45)+SIN($G$10)*SIN(P$36)))) -> 0 | Q45: =3.372+0.053*(PI()*E45/180)-0.296*COS(RADIANS(30*E$22)) -> 3.1156565 | R45: =3.372+0.053*(PI()*F45/180)-0.296*COS(RADIANS(30*F$22)) -> 3.224 | S45: =3.372+0.053*(PI()*G45/180)-0.296*COS(RADIANS(30*G$22)) -> 3.372 | T45: =3.372+0.053*(PI()*H45/180)-0.296*COS(RADIANS(30*H$22)) -> 3.52 | U45: =3.372+0.053*(PI()*I45/180)-0.296*COS(RADIANS(30*I$22)) -> 3.6331786 | V45: =3.372+0.053*(PI()*J45/180)-0.296*COS(RADIANS(30*J$22)) -> 3.6763052 | W45: =3.372+0.053*(PI()*K45/180)-0.296*COS(RADIANS(30*K$22)) -> 3.6353124 | X45: =3.372+0.053*(PI()*L45/180)-0.296*COS(RADIANS(30*L$22)) -> 3.5212313 | ... AB45: =3.372+0.053*(PI()*P45/180)-0.296*COS(RADIANS(30*P$22)) -> 3.076 | AC45: =1.4899-2.1099*COS(RADIANS(E45))+0.6322*COS(RADIANS(2*E45))+0.0253*COS(RADIANS(3*E45))-1.0022*SIN(RADIANS(E45))+1.0077*SIN(RADIANS(2*E45))-0.2606*SIN(RADIANS(3*E45)) -> 0.0375 | AD45: =1.4899-2.1099*COS(RADIANS(F45))+0.6322*COS(RADIANS(2*F45))+0.0253*COS(RADIANS(3*F45))-1.0022*SIN(RADIANS(F45))+1.0077*SIN(RADIANS(2*F45))-0.2606*SIN(RADIANS(3*F45)) -> 0.0375 | AE45: =1.4899-2.1099*COS(RADIANS(G45))+0.6322*COS(RADIANS(2*G45))+0.0253*COS(RADIANS(3*G45))-1.0022*SIN(RADIANS(G45))+1.0077*SIN(RADIANS(2*G45))-0.2606*SIN(RADIANS(3*G45)) -> 0.0375 | AF45: =1.4899-2.1099*COS(RADIANS(H45))+0.6322*COS(RADIANS(2*H45))+0.0253*COS(RADIANS(3*H45))-1.0022*SIN(RADIANS(H45))+1.0077*SIN(RADIANS(2*H45))-0.2606*SIN(RADIANS(3*H45)) -> 0.0375 | AG45: =1.4899-2.1099*COS(RADIANS(I45))+0.6322*COS(RADIANS(2*I45))+0.0253*COS(RADIANS(3*I45))-1.0022*SIN(RADIANS(I45))+1.0077*SIN(RADIANS(2*I45))-0.2606*SIN(RADIANS(3*I45)) -> 0.055943698 | AH45: =1.4899-2.1099*COS(RADIANS(J45))+0.6322*COS(RADIANS(2*J45))+0.0253*COS(RADIANS(3*J45))-1.0022*SIN(RADIANS(J45))+1.0077*SIN(RADIANS(2*J45))-0.2606*SIN(RADIANS(3*J45)) -> 0.066033552 | AI45: =1.4899-2.1099*COS(RADIANS(K45))+0.6322*COS(RADIANS(2*K45))+0.0253*COS(RADIANS(3*K45))-1.0022*SIN(RADIANS(K45))+1.0077*SIN(RADIANS(2*K45))-0.2606*SIN(RADIANS(3*K45)) -> 0.06244225 | AJ45: =1.4899-2.1099*COS(RADIANS(L45))+0.6322*COS(RADIANS(2*L45))+0.0253*COS(RADIANS(3*L45))-1.0022*SIN(RADIANS(L45))+1.0077*SIN(RADIANS(2*L45))-0.2606*SIN(RADIANS(3*L45)) -> 0.04270135 | ... AN45: =1.4899-2.1099*COS(RADIANS(P45))+0.6322*COS(RADIANS(2*P45))+0.0253*COS(RADIANS(3*P45))-1.0022*SIN(RADIANS(P45))+1.0077*SIN(RADIANS(2*P45))-0.2606*SIN(RADIANS(3*P45)) -> 0.0375 | AO45: =0.992/(SIN(RADIANS(E45))+0.15*(PI()*E45/180+3.885)^(-1.253)) -> 36.218242 | AP45: =0.992/(SIN(RADIANS(F45))+0.15*(PI()*F45/180+3.885)^(-1.253)) -> 36.218242 | AQ45: =0.992/(SIN(RADIANS(G45))+0.15*(PI()*G45/180+3.885)^(-1.253)) -> 36.218242 | AR45: =0.992/(SIN(RADIANS(H45))+0.15*(PI()*H45/180+3.885)^(-1.253)) -> 36.218242 | AS45: =0.992/(SIN(RADIANS(I45))+0.15*(PI()*I45/180+3.885)^(-1.253)) -> 8.4278374 | AT45: =0.992/(SIN(RADIANS(J45))+0.15*(PI()*J45/180+3.885)^(-1.253)) -> 5.4467496 | AU45: =0.992/(SIN(RADIANS(K45))+0.15*(PI()*K45/180+3.885)^(-1.253)) -> 6.3032335 | AV45: =0.992/(SIN(RADIANS(L45))+0.15*(PI()*L45/180+3.885)^(-1.253)) -> 19.676662 | ... AZ45: =0.992/(SIN(RADIANS(P45))+0.15*(PI()*P45/180+3.885)^(-1.253)) -> 36.218242 | BA45: =0.775*(SIN(E$36)*COS($G$11)+COS(E$36)*SIN($G$11)*COS($G$12)*COS($D45))-0.632*(SIN(E$36)*SIN($G$11)*COS($G$12)-COS(E$36)*COS($G$11)*COS($D45))+COS(E$36)*SIN($G$11)*SIN($G$12)*SIN($D45) -> -0.43278979 | BB45: =0.775*(SIN(F$36)*COS($G$11)+COS(F$36)*SIN($G$11)*COS($G$12)*COS($D45))-0.632*(SIN(F$36)*SIN($G$11)*COS($G$12)-COS(F$36)*COS($G$11)*COS($D45))+COS(F$36)*SIN($G$11)*SIN($G$12)*SIN($D45) -> -0.33517482 | BC45: =0.775*(SIN(G$36)*COS($G$11)+COS(G$36)*SIN($G$11)*COS($G$12)*COS($D45))-0.632*(SIN(G$36)*SIN($G$11)*COS($G$12)-COS(G$36)*COS($G$11)*COS($D45))+COS(G$36)*SIN($G$11)*SIN($G$12)*SIN($D45) -> -0.20176349 | BD45: =0.775*(SIN(H$36)*COS($G$11)+COS(H$36)*SIN($G$11)*COS($G$12)*COS($D45))-0.632*(SIN(H$36)*SIN($G$11)*COS($G$12)-COS(H$36)*COS($G$11)*COS($D45))+COS(H$36)*SIN($G$11)*SIN($G$12)*SIN($D45) -> -0.038907471 | BE45: =0.775*(SIN(I$36)*COS($G$11)+COS(I$36)*SIN($G$11)*COS($G$12)*COS($D45))-0.632*(SIN(I$36)*SIN($G$11)*COS($G$12)-COS(I$36)*COS($G$11)*COS($D45))+COS(I$36)*SIN($G$11)*SIN($G$12)*SIN($D45) -> 0.091262094 | BF45: =0.775*(SIN(J$36)*COS($G$11)+COS(J$36)*SIN($G$11)*COS($G$12)*COS($D45))-0.632*(SIN(J$36)*SIN($G$11)*COS($G$12)-COS(J$36)*COS($G$11)*COS($D45))+COS(J$36)*SIN($G$11)*SIN($G$12)*SIN($D45) -> 0.15624194 | BG45: =0.775*(SIN(K$36)*COS($G$11)+COS(K$36)*SIN($G$11)*COS($G$12)*COS($D45))-0.632*(SIN(K$36)*SIN($G$11)*COS($G$12)-COS(K$36)*COS($G$11)*COS($D45))+COS(K$36)*SIN($G$11)*SIN($G$12)*SIN($D45) -> 0.13128208 | BH45: =0.775*(SIN(L$36)*COS($G$11)+COS(L$36)*SIN($G$11)*COS($G$12)*COS($D45))-0.632*(SIN(L$36)*SIN($G$11)*COS($G$12)-COS(L$36)*COS($G$11)*COS($D45))+COS(L$36)*SIN($G$11)*SIN($G$12)*SIN($D45) -> 0.02336978 | ... BL45: =0.775*(SIN(P$36)*COS($G$11)+COS(P$36)*SIN($G$11)*COS($G$12)*COS($D45))-0.632*(SIN(P$36)*SIN($G$11)*COS($G$12)-COS(P$36)*COS($G$11)*COS($D45))+COS(P$36)*SIN($G$11)*SIN($G$12)*SIN($D45) -> -0.45698033 | BM45: =COS(RADIANS(90-E45)) -> 6.1257423e-17 | BN45: =COS(RADIANS(90-F45)) -> 6.1257423e-17 | BO45: =COS(RADIANS(90-G45)) -> 6.1257423e-17 | BP45: =COS(RADIANS(90-H45)) -> 6.1257423e-17 | BQ45: =COS(RADIANS(90-I45)) -> 0.091100742 | BR45: =COS(RADIANS(90-J45)) -> 0.15606146 | BS45: =COS(RADIANS(90-K45)) -> 0.13110884 | BT45: =COS(RADIANS(90-L45)) -> 0.023229389 | ... BX45: =COS(RADIANS(90-P45)) -> 6.1257423e-17 | BY45: =IF(BM45=$BM$40,0,BM45) -> 0 | BZ45: =IF(BN45=$BM$40,0,BN45) -> 0 | CA45: =IF(BO45=$BM$40,0,BO45) -> 0 | CB45: =IF(BP45=$BM$40,0,BP45) -> 0 | CC45: =IF(BQ45=$BM$40,0,BQ45) -> 0.091100742 | CD45: =IF(BR45=$BM$40,0,BR45) -> 0.15606146 | CE45: =IF(BS45=$BM$40,0,BS45) -> 0.13110884 | CF45: =IF(BT45=$BM$40,0,BT45) -> 0.023229389 | ... CJ45: =IF(BX45=$BM$40,0,BX45) -> 0 | CK45: =MAX(0,1353*(1+0.033*COS(RADIANS(360*E$35/365)))*EXP(-AO45*AC45*Q45)) -> 20.284401 | CL45: =MAX(0,1353*(1+0.033*COS(RADIANS(360*F$35/365)))*EXP(-AP45*AD45*R45)) -> 17.360768 | CM45: =MAX(0,1353*(1+0.033*COS(RADIANS(360*G$35/365)))*EXP(-AQ45*AE45*S45)) -> 14.011696 | CN45: =MAX(0,1353*(1+0.033*COS(RADIANS(360*H$35/365)))*EXP(-AR45*AF45*T45)) -> 11.262779 | CO45: =MAX(0,1353*(1+0.033*COS(RADIANS(360*I$35/365)))*EXP(-AS45*AG45*U45)) -> 238.47506 | CP45: =MAX(0,1353*(1+0.033*COS(RADIANS(360*J$35/365)))*EXP(-AT45*AH45*V45)) -> 349.198 | CQ45: =MAX(0,1353*(1+0.033*COS(RADIANS(360*K$35/365)))*EXP(-AU45*AI45*W45)) -> 313.1318 | CR45: =MAX(0,1353*(1+0.033*COS(RADIANS(360*L$35/365)))*EXP(-AV45*AJ45*X45)) -> 68.538878 | ... CV45: =MAX(0,1353*(1+0.033*COS(RADIANS(360*P$35/365)))*EXP(-AZ45*AN45*AB45)) -> 21.403786 | CW45: =IF(AND(BY45>0,BA45>0),1,0) -> 0 | CX45: =IF(AND(BZ45>0,BB45>0),1,0) -> 0 | CY45: =IF(AND(CA45>0,BC45>0),1,0) -> 0 | CZ45: =IF(AND(CB45>0,BD45>0),1,0) -> 0 | DA45: =IF(AND(CC45>0,BE45>0),1,0) -> 1 | DB45: =IF(AND(CD45>0,BF45>0),1,0) -> 1 | DC45: =IF(AND(CE45>0,BG45>0),1,0) -> 1 | DD45: =IF(AND(CF45>0,BH45>0),1,0) -> 1 | ... DH45: =IF(AND(CJ45>0,BL45>0),1,0) -> 0 | DI45: =IF(BY45>0,1,0) -> 0 | DJ45: =IF(BZ45>0,1,0) -> 0 | DK45: =IF(CA45>0,1,0) -> 0 | DL45: =IF(CB45>0,1,0) -> 0 | DM45: =IF(CC45>0,1,0) -> 1 | DN45: =IF(CD45>0,1,0) -> 1 | DO45: =IF(CE45>0,1,0) -> 1 | DP45: =IF(CF45>0,1,0) -> 1 | ... DT45: =IF(CJ45>0,1,0) -> 0 | DU45: =CW45*MAX(0,(CK45*BA45*15)) -> 0 | DV45: =CX45*MAX(0,(CL45*BB45*15)) -> 0 | DW45: =CY45*MAX(0,(CM45*BC45*15)) -> 0 | DX45: =CZ45*MAX(0,(CN45*BD45*15)) -> 0 | DY45: =DA45*MAX(0,(CO45*BE45*15)) -> 326.456 | DZ45: =DB45*MAX(0,(CP45*BF45*15)) -> 818.39059 | EA45: =DC45*MAX(0,(CQ45*BG45*15)) -> 616.62891 | EB45: =DD45*MAX(0,(CR45*BH45*15)) -> 24.026077 | ... EF45: =DH45*MAX(0,(CV45*BL45*15)) -> 0 | EG45: =DI45*MAX(0,(CK45*BY45*15)) -> 0 | EH45: =DJ45*MAX(0,(CL45*BZ45*15)) -> 0 | EI45: =DK45*MAX(0,(CM45*CA45*15)) -> 0 | EJ45: =DL45*MAX(0,(CN45*CB45*15)) -> 0 | EK45: =DM45*MAX(0,(CO45*CC45*15)) -> 325.87883 | EL45: =DN45*MAX(0,(CP45*CD45*15)) -> 817.44525 | EM45: =DO45*MAX(0,(CQ45*CE45*15)) -> 615.8152 | EN45: =DP45*MAX(0,(CR45*CF45*15)) -> 23.881744 | ... ER45: =DT45*MAX(0,(CV45*CJ45*15)) -> 0
B46: 0.25 | C46: =C45-15 -> 90 | D46: =RADIANS(C46) -> 1.5707963 | E46: =MAX(0,90-DEGREES(ACOS(COS($G$10)*COS(E$36)*COS($D46)+SIN($G$10)*SIN(E$36)))) -> 0 | F46: =MAX(0,90-DEGREES(ACOS(COS($G$10)*COS(F$36)*COS($D46)+SIN($G$10)*SIN(F$36)))) -> 0 | G46: =MAX(0,90-DEGREES(ACOS(COS($G$10)*COS(G$36)*COS($D46)+SIN($G$10)*SIN(G$36)))) -> 0 | H46: =MAX(0,90-DEGREES(ACOS(COS($G$10)*COS(H$36)*COS($D46)+SIN($G$10)*SIN(H$36)))) -> 7.0400185 | I46: =MAX(0,90-DEGREES(ACOS(COS($G$10)*COS(I$36)*COS($D46)+SIN($G$10)*SIN(I$36)))) -> 14.256539 | J46: =MAX(0,90-DEGREES(ACOS(COS($G$10)*COS(J$36)*COS($D46)+SIN($G$10)*SIN(J$36)))) -> 17.840747 | K46: =MAX(0,90-DEGREES(ACOS(COS($G$10)*COS(K$36)*COS($D46)+SIN($G$10)*SIN(K$36)))) -> 16.464196 | L46: =MAX(0,90-DEGREES(ACOS(COS($G$10)*COS(L$36)*COS($D46)+SIN($G$10)*SIN(L$36)))) -> 10.502945 | ... P46: =MAX(0,90-DEGREES(ACOS(COS($G$10)*COS(P$36)*COS($D46)+SIN($G$10)*SIN(P$36)))) -> 0 | Q46: =3.372+0.053*(PI()*E46/180)-0.296*COS(RADIANS(30*E$22)) -> 3.1156565 | R46: =3.372+0.053*(PI()*F46/180)-0.296*COS(RADIANS(30*F$22)) -> 3.224 | S46: =3.372+0.053*(PI()*G46/180)-0.296*COS(RADIANS(30*G$22)) -> 3.372 | T46: =3.372+0.053*(PI()*H46/180)-0.296*COS(RADIANS(30*H$22)) -> 3.5265122 | U46: =3.372+0.053*(PI()*I46/180)-0.296*COS(RADIANS(30*I$22)) -> 3.6415312 | V46: =3.372+0.053*(PI()*J46/180)-0.296*COS(RADIANS(30*J$22)) -> 3.6845031 | W46: =3.372+0.053*(PI()*K46/180)-0.296*COS(RADIANS(30*K$22)) -> 3.6435733 | X46: =3.372+0.053*(PI()*L46/180)-0.296*COS(RADIANS(30*L$22)) -> 3.5297155 | ... AB46: =3.372+0.053*(PI()*P46/180)-0.296*COS(RADIANS(30*P$22)) -> 3.076 | AC46: =1.4899-2.1099*COS(RADIANS(E46))+0.6322*COS(RADIANS(2*E46))+0.0253*COS(RADIANS(3*E46))-1.0022*SIN(RADIANS(E46))+1.0077*SIN(RADIANS(2*E46))-0.2606*SIN(RADIANS(3*E46)) -> 0.0375 | AD46: =1.4899-2.1099*COS(RADIANS(F46))+0.6322*COS(RADIANS(2*F46))+0.0253*COS(RADIANS(3*F46))-1.0022*SIN(RADIANS(F46))+1.0077*SIN(RADIANS(2*F46))-0.2606*SIN(RADIANS(3*F46)) -> 0.0375 | AE46: =1.4899-2.1099*COS(RADIANS(G46))+0.6322*COS(RADIANS(2*G46))+0.0253*COS(RADIANS(3*G46))-1.0022*SIN(RADIANS(G46))+1.0077*SIN(RADIANS(2*G46))-0.2606*SIN(RADIANS(3*G46)) -> 0.0375 | AF46: =1.4899-2.1099*COS(RADIANS(H46))+0.6322*COS(RADIANS(2*H46))+0.0253*COS(RADIANS(3*H46))-1.0022*SIN(RADIANS(H46))+1.0077*SIN(RADIANS(2*H46))-0.2606*SIN(RADIANS(3*H46)) -> 0.06113207 | AG46: =1.4899-2.1099*COS(RADIANS(I46))+0.6322*COS(RADIANS(2*I46))+0.0253*COS(RADIANS(3*I46))-1.0022*SIN(RADIANS(I46))+1.0077*SIN(RADIANS(2*I46))-0.2606*SIN(RADIANS(3*I46)) -> 0.076339115 | AH46: =1.4899-2.1099*COS(RADIANS(J46))+0.6322*COS(RADIANS(2*J46))+0.0253*COS(RADIANS(3*J46))-1.0022*SIN(RADIANS(J46))+1.0077*SIN(RADIANS(2*J46))-0.2606*SIN(RADIANS(3*J46)) -> 0.08119936 | AI46: =1.4899-2.1099*COS(RADIANS(K46))+0.6322*COS(RADIANS(2*K46))+0.0253*COS(RADIANS(3*K46))-1.0022*SIN(RADIANS(K46))+1.0077*SIN(RADIANS(2*K46))-0.2606*SIN(RADIANS(3*K46)) -> 0.07950898 | AJ46: =1.4899-2.1099*COS(RADIANS(L46))+0.6322*COS(RADIANS(2*L46))+0.0253*COS(RADIANS(3*L46))-1.0022*SIN(RADIANS(L46))+1.0077*SIN(RADIANS(2*L46))-0.2606*SIN(RADIANS(3*L46)) -> 0.069445858 | ... AN46: =1.4899-2.1099*COS(RADIANS(P46))+0.6322*COS(RADIANS(2*P46))+0.0253*COS(RADIANS(3*P46))-1.0022*SIN(RADIANS(P46))+1.0077*SIN(RADIANS(2*P46))-0.2606*SIN(RADIANS(3*P46)) -> 0.0375 | AO46: =0.992/(SIN(RADIANS(E46))+0.15*(PI()*E46/180+3.885)^(-1.253)) -> 36.218242 | AP46: =0.992/(SIN(RADIANS(F46))+0.15*(PI()*F46/180+3.885)^(-1.253)) -> 36.218242 | AQ46: =0.992/(SIN(RADIANS(G46))+0.15*(PI()*G46/180+3.885)^(-1.253)) -> 36.218242 | AR46: =0.992/(SIN(RADIANS(H46))+0.15*(PI()*H46/180+3.885)^(-1.253)) -> 6.6620082 | AS46: =0.992/(SIN(RADIANS(I46))+0.15*(PI()*I46/180+3.885)^(-1.253)) -> 3.6523809 | AT46: =0.992/(SIN(RADIANS(J46))+0.15*(PI()*J46/180+3.885)^(-1.253)) -> 2.9948103 | AU46: =0.992/(SIN(RADIANS(K46))+0.15*(PI()*K46/180+3.885)^(-1.253)) -> 3.2159448 | AV46: =0.992/(SIN(RADIANS(L46))+0.15*(PI()*L46/180+3.885)^(-1.253)) -> 4.7660654 | ... AZ46: =0.992/(SIN(RADIANS(P46))+0.15*(PI()*P46/180+3.885)^(-1.253)) -> 36.218242 | BA46: =0.775*(SIN(E$36)*COS($G$11)+COS(E$36)*SIN($G$11)*COS($G$12)*COS($D46))-0.632*(SIN(E$36)*SIN($G$11)*COS($G$12)-COS(E$36)*COS($G$11)*COS($D46))+COS(E$36)*SIN($G$11)*SIN($G$12)*SIN($D46) -> -0.28028862 | BB46: =0.775*(SIN(F$36)*COS($G$11)+COS(F$36)*SIN($G$11)*COS($G$12)*COS($D46))-0.632*(SIN(F$36)*SIN($G$11)*COS($G$12)-COS(F$36)*COS($G$11)*COS($D46))+COS(F$36)*SIN($G$11)*SIN($G$12)*SIN($D46) -> -0.17586853 | BC46: =0.775*(SIN(G$36)*COS($G$11)+COS(G$36)*SIN($G$11)*COS($G$12)*COS($D46))-0.632*(SIN(G$36)*SIN($G$11)*COS($G$12)-COS(G$36)*COS($G$11)*COS($D46))+COS(G$36)*SIN($G$11)*SIN($G$12)*SIN($D46) -> -0.038390673 | BD46: =0.775*(SIN(H$36)*COS($G$11)+COS(H$36)*SIN($G$11)*COS($G$12)*COS($D46))-0.632*(SIN(H$36)*SIN($G$11)*COS($G$12)-COS(H$36)*COS($G$11)*COS($D46))+COS(H$36)*SIN($G$11)*SIN($G$12)*SIN($D46) -> 0.12260625 | BE46: =0.775*(SIN(I$36)*COS($G$11)+COS(I$36)*SIN($G$11)*COS($G$12)*COS($D46))-0.632*(SIN(I$36)*SIN($G$11)*COS($G$12)-COS(I$36)*COS($G$11)*COS($D46))+COS(I$36)*SIN($G$11)*SIN($G$12)*SIN($D46) -> 0.2463517 | BF46: =0.775*(SIN(J$36)*COS($G$11)+COS(J$36)*SIN($G$11)*COS($G$12)*COS($D46))-0.632*(SIN(J$36)*SIN($G$11)*COS($G$12)-COS(J$36)*COS($G$11)*COS($D46))+COS(J$36)*SIN($G$11)*SIN($G$12)*SIN($D46) -> 0.30648157 | BG46: =0.775*(SIN(K$36)*COS($G$11)+COS(K$36)*SIN($G$11)*COS($G$12)*COS($D46))-0.632*(SIN(K$36)*SIN($G$11)*COS($G$12)-COS(K$36)*COS($G$11)*COS($D46))+COS(K$36)*SIN($G$11)*SIN($G$12)*SIN($D46) -> 0.28351716 | BH46: =0.775*(SIN(L$36)*COS($G$11)+COS(L$36)*SIN($G$11)*COS($G$12)*COS($D46))-0.632*(SIN(L$36)*SIN($G$11)*COS($G$12)-COS(L$36)*COS($G$11)*COS($D46))+COS(L$36)*SIN($G$11)*SIN($G$12)*SIN($D46) -> 0.18235105 | ... BL46: =0.775*(SIN(P$36)*COS($G$11)+COS(P$36)*SIN($G$11)*COS($G$12)*COS($D46))-0.632*(SIN(P$36)*SIN($G$11)*COS($G$12)-COS(P$36)*COS($G$11)*COS($D46))+COS(P$36)*SIN($G$11)*SIN($G$12)*SIN($D46) -> -0.30676662 | BM46: =COS(RADIANS(90-E46)) -> 6.1257423e-17 | BN46: =COS(RADIANS(90-F46)) -> 6.1257423e-17 | BO46: =COS(RADIANS(90-G46)) -> 6.1257423e-17 | BP46: =COS(RADIANS(90-H46)) -> 0.12256256 | BQ46: =COS(RADIANS(90-I46)) -> 0.24626391 | BR46: =COS(RADIANS(90-J46)) -> 0.30637235 | BS46: =COS(RADIANS(90-K46)) -> 0.28341613 | BT46: =COS(RADIANS(90-L46)) -> 0.18228607 | ... BX46: =COS(RADIANS(90-P46)) -> 6.1257423e-17 | BY46: =IF(BM46=$BM$40,0,BM46) -> 0 | BZ46: =IF(BN46=$BM$40,0,BN46) -> 0 | CA46: =IF(BO46=$BM$40,0,BO46) -> 0 | CB46: =IF(BP46=$BM$40,0,BP46) -> 0.12256256 | CC46: =IF(BQ46=$BM$40,0,BQ46) -> 0.24626391 | CD46: =IF(BR46=$BM$40,0,BR46) -> 0.30637235 | CE46: =IF(BS46=$BM$40,0,BS46) -> 0.28341613 | CF46: =IF(BT46=$BM$40,0,BT46) -> 0.18228607 | ... CJ46: =IF(BX46=$BM$40,0,BX46) -> 0 | CK46: =MAX(0,1353*(1+0.033*COS(RADIANS(360*E$35/365)))*EXP(-AO46*AC46*Q46)) -> 20.284401 | CL46: =MAX(0,1353*(1+0.033*COS(RADIANS(360*F$35/365)))*EXP(-AP46*AD46*R46)) -> 17.360768 | CM46: =MAX(0,1353*(1+0.033*COS(RADIANS(360*G$35/365)))*EXP(-AQ46*AE46*S46)) -> 14.011696 | CN46: =MAX(0,1353*(1+0.033*COS(RADIANS(360*H$35/365)))*EXP(-AR46*AF46*T46)) -> 319.28869 | CO46: =MAX(0,1353*(1+0.033*COS(RADIANS(360*I$35/365)))*EXP(-AS46*AG46*U46)) -> 479.10593 | CP46: =MAX(0,1353*(1+0.033*COS(RADIANS(360*J$35/365)))*EXP(-AT46*AH46*V46)) -> 534.80598 | CQ46: =MAX(0,1353*(1+0.033*COS(RADIANS(360*K$35/365)))*EXP(-AU46*AI46*W46)) -> 515.83703 | CR46: =MAX(0,1353*(1+0.033*COS(RADIANS(360*L$35/365)))*EXP(-AV46*AJ46*X46)) -> 410.64647 | ... CV46: =MAX(0,1353*(1+0.033*COS(RADIANS(360*P$35/365)))*EXP(-AZ46*AN46*AB46)) -> 21.403786 | CW46: =IF(AND(BY46>0,BA46>0),1,0) -> 0 | CX46: =IF(AND(BZ46>0,BB46>0),1,0) -> 0 | CY46: =IF(AND(CA46>0,BC46>0),1,0) -> 0 | CZ46: =IF(AND(CB46>0,BD46>0),1,0) -> 1 | DA46: =IF(AND(CC46>0,BE46>0),1,0) -> 1 | DB46: =IF(AND(CD46>0,BF46>0),1,0) -> 1 | DC46: =IF(AND(CE46>0,BG46>0),1,0) -> 1 | DD46: =IF(AND(CF46>0,BH46>0),1,0) -> 1 | ... DH46: =IF(AND(CJ46>0,BL46>0),1,0) -> 0 | DI46: =IF(BY46>0,1,0) -> 0 | DJ46: =IF(BZ46>0,1,0) -> 0 | DK46: =IF(CA46>0,1,0) -> 0 | DL46: =IF(CB46>0,1,0) -> 1 | DM46: =IF(CC46>0,1,0) -> 1 | DN46: =IF(CD46>0,1,0) -> 1 | DO46: =IF(CE46>0,1,0) -> 1 | DP46: =IF(CF46>0,1,0) -> 1 | ... DT46: =IF(CJ46>0,1,0) -> 0 | DU46: =CW46*MAX(0,(CK46*BA46*15)) -> 0 | DV46: =CX46*MAX(0,(CL46*BB46*15)) -> 0 | DW46: =CY46*MAX(0,(CM46*BC46*15)) -> 0 | DX46: =CZ46*MAX(0,(CN46*BD46*15)) -> 587.20185 | DY46: =DA46*MAX(0,(CO46*BE46*15)) -> 1770.4284 | DZ46: =DB46*MAX(0,(CP46*BF46*15)) -> 2458.6227 | EA46: =DC46*MAX(0,(CQ46*BG46*15)) -> 2193.7298 | EB46: =DD46*MAX(0,(CR46*BH46*15)) -> 1123.2272 | ... EF46: =DH46*MAX(0,(CV46*BL46*15)) -> 0 | EG46: =DI46*MAX(0,(CK46*BY46*15)) -> 0 | EH46: =DJ46*MAX(0,(CL46*BZ46*15)) -> 0 | EI46: =DK46*MAX(0,(CM46*CA46*15)) -> 0 | EJ46: =DL46*MAX(0,(CN46*CB46*15)) -> 586.99259 | EK46: =DM46*MAX(0,(CO46*CC46*15)) -> 1769.7975 | EL46: =DN46*MAX(0,(CP46*CD46*15)) -> 2457.7465 | EM46: =DO46*MAX(0,(CQ46*CE46*15)) -> 2192.948 | EN46: =DP46*MAX(0,(CR46*CF46*15)) -> 1122.827 | ... ER46: =DT46*MAX(0,(CV46*CJ46*15)) -> 0
B47: 0.29166667 | C47: =C46-15 -> 75 | D47: =RADIANS(C47) -> 1.3089969 | E47: =MAX(0,90-DEGREES(ACOS(COS($G$10)*COS(E$36)*COS($D47)+SIN($G$10)*SIN(E$36)))) -> 0 | F47: =MAX(0,90-DEGREES(ACOS(COS($G$10)*COS(F$36)*COS($D47)+SIN($G$10)*SIN(F$36)))) -> 0 | G47: =MAX(0,90-DEGREES(ACOS(COS($G$10)*COS(G$36)*COS($D47)+SIN($G$10)*SIN(G$36)))) -> 7.1849899 | H47: =MAX(0,90-DEGREES(ACOS(COS($G$10)*COS(H$36)*COS($D47)+SIN($G$10)*SIN(H$36)))) -> 16.50822 | I47: =MAX(0,90-DEGREES(ACOS(COS($G$10)*COS(I$36)*COS($D47)+SIN($G$10)*SIN(I$36)))) -> 23.667422 | J47: =MAX(0,90-DEGREES(ACOS(COS($G$10)*COS(J$36)*COS($D47)+SIN($G$10)*SIN(J$36)))) -> 27.17329 | K47: =MAX(0,90-DEGREES(ACOS(COS($G$10)*COS(K$36)*COS($D47)+SIN($G$10)*SIN(K$36)))) -> 25.831335 | L47: =MAX(0,90-DEGREES(ACOS(COS($G$10)*COS(L$36)*COS($D47)+SIN($G$10)*SIN(L$36)))) -> 19.958703 | ... P47: =MAX(0,90-DEGREES(ACOS(COS($G$10)*COS(P$36)*COS($D47)+SIN($G$10)*SIN(P$36)))) -> 0 | Q47: =3.372+0.053*(PI()*E47/180)-0.296*COS(RADIANS(30*E$22)) -> 3.1156565 | R47: =3.372+0.053*(PI()*F47/180)-0.296*COS(RADIANS(30*F$22)) -> 3.224 | S47: =3.372+0.053*(PI()*G47/180)-0.296*COS(RADIANS(30*G$22)) -> 3.3786463 | T47: =3.372+0.053*(PI()*H47/180)-0.296*COS(RADIANS(30*H$22)) -> 3.5352705 | U47: =3.372+0.053*(PI()*I47/180)-0.296*COS(RADIANS(30*I$22)) -> 3.6502365 | V47: =3.372+0.053*(PI()*J47/180)-0.296*COS(RADIANS(30*J$22)) -> 3.693136 | W47: =3.372+0.053*(PI()*K47/180)-0.296*COS(RADIANS(30*K$22)) -> 3.6522381 | X47: =3.372+0.053*(PI()*L47/180)-0.296*COS(RADIANS(30*L$22)) -> 3.5384623 | ... AB47: =3.372+0.053*(PI()*P47/180)-0.296*COS(RADIANS(30*P$22)) -> 3.076 | AC47: =1.4899-2.1099*COS(RADIANS(E47))+0.6322*COS(RADIANS(2*E47))+0.0253*COS(RADIANS(3*E47))-1.0022*SIN(RADIANS(E47))+1.0077*SIN(RADIANS(2*E47))-0.2606*SIN(RADIANS(3*E47)) -> 0.0375 | AD47: =1.4899-2.1099*COS(RADIANS(F47))+0.6322*COS(RADIANS(2*F47))+0.0253*COS(RADIANS(3*F47))-1.0022*SIN(RADIANS(F47))+1.0077*SIN(RADIANS(2*F47))-0.2606*SIN(RADIANS(3*F47)) -> 0.0375 | AE47: =1.4899-2.1099*COS(RADIANS(G47))+0.6322*COS(RADIANS(2*G47))+0.0253*COS(RADIANS(3*G47))-1.0022*SIN(RADIANS(G47))+1.0077*SIN(RADIANS(2*G47))-0.2606*SIN(RADIANS(3*G47)) -> 0.061521298 | AF47: =1.4899-2.1099*COS(RADIANS(H47))+0.6322*COS(RADIANS(2*H47))+0.0253*COS(RADIANS(3*H47))-1.0022*SIN(RADIANS(H47))+1.0077*SIN(RADIANS(2*H47))-0.2606*SIN(RADIANS(3*H47)) -> 0.079566273 | AG47: =1.4899-2.1099*COS(RADIANS(I47))+0.6322*COS(RADIANS(2*I47))+0.0253*COS(RADIANS(3*I47))-1.0022*SIN(RADIANS(I47))+1.0077*SIN(RADIANS(2*I47))-0.2606*SIN(RADIANS(3*I47)) -> 0.086420627 | AH47: =1.4899-2.1099*COS(RADIANS(J47))+0.6322*COS(RADIANS(2*J47))+0.0253*COS(RADIANS(3*J47))-1.0022*SIN(RADIANS(J47))+1.0077*SIN(RADIANS(2*J47))-0.2606*SIN(RADIANS(3*J47)) -> 0.088474679 | AI47: =1.4899-2.1099*COS(RADIANS(K47))+0.6322*COS(RADIANS(2*K47))+0.0253*COS(RADIANS(3*K47))-1.0022*SIN(RADIANS(K47))+1.0077*SIN(RADIANS(2*K47))-0.2606*SIN(RADIANS(3*K47)) -> 0.087759118 | AJ47: =1.4899-2.1099*COS(RADIANS(L47))+0.6322*COS(RADIANS(2*L47))+0.0253*COS(RADIANS(3*L47))-1.0022*SIN(RADIANS(L47))+1.0077*SIN(RADIANS(2*L47))-0.2606*SIN(RADIANS(3*L47)) -> 0.083424832 | ... AN47: =1.4899-2.1099*COS(RADIANS(P47))+0.6322*COS(RADIANS(2*P47))+0.0253*COS(RADIANS(3*P47))-1.0022*SIN(RADIANS(P47))+1.0077*SIN(RADIANS(2*P47))-0.2606*SIN(RADIANS(3*P47)) -> 0.0375 | AO47: =0.992/(SIN(RADIANS(E47))+0.15*(PI()*E47/180+3.885)^(-1.253)) -> 36.218242 | AP47: =0.992/(SIN(RADIANS(F47))+0.15*(PI()*F47/180+3.885)^(-1.253)) -> 36.218242 | AQ47: =0.992/(SIN(RADIANS(G47))+0.15*(PI()*G47/180+3.885)^(-1.253)) -> 6.55244 | AR47: =0.992/(SIN(RADIANS(H47))+0.15*(PI()*H47/180+3.885)^(-1.253)) -> 3.2083417 | AS47: =0.992/(SIN(RADIANS(I47))+0.15*(PI()*I47/180+3.885)^(-1.253)) -> 2.3310495 | AT47: =0.992/(SIN(RADIANS(J47))+0.15*(PI()*J47/180+3.885)^(-1.253)) -> 2.0649808 | AU47: =0.992/(SIN(RADIANS(K47))+0.15*(PI()*K47/180+3.885)^(-1.253)) -> 2.1584332 | AV47: =0.992/(SIN(RADIANS(L47))+0.15*(PI()*L47/180+3.885)^(-1.253)) -> 2.7108394 | ... AZ47: =0.992/(SIN(RADIANS(P47))+0.15*(PI()*P47/180+3.885)^(-1.253)) -> 36.218242 | BA47: =0.775*(SIN(E$36)*COS($G$11)+COS(E$36)*SIN($G$11)*COS($G$12)*COS($D47))-0.632*(SIN(E$36)*SIN($G$11)*COS($G$12)-COS(E$36)*COS($G$11)*COS($D47))+COS(E$36)*SIN($G$11)*SIN($G$12)*SIN($D47) -> -0.12778745 | BB47: =0.775*(SIN(F$36)*COS($G$11)+COS(F$36)*SIN($G$11)*COS($G$12)*COS($D47))-0.632*(SIN(F$36)*SIN($G$11)*COS($G$12)-COS(F$36)*COS($G$11)*COS($D47))+COS(F$36)*SIN($G$11)*SIN($G$12)*SIN($D47) -> -0.016562249 | BC47: =0.775*(SIN(G$36)*COS($G$11)+COS(G$36)*SIN($G$11)*COS($G$12)*COS($D47))-0.632*(SIN(G$36)*SIN($G$11)*COS($G$12)-COS(G$36)*COS($G$11)*COS($D47))+COS(G$36)*SIN($G$11)*SIN($G$12)*SIN($D47) -> 0.12498215 | BD47: =0.775*(SIN(H$36)*COS($G$11)+COS(H$36)*SIN($G$11)*COS($G$12)*COS($D47))-0.632*(SIN(H$36)*SIN($G$11)*COS($G$12)-COS(H$36)*COS($G$11)*COS($D47))+COS(H$36)*SIN($G$11)*SIN($G$12)*SIN($D47) -> 0.28411998 | BE47: =0.775*(SIN(I$36)*COS($G$11)+COS(I$36)*SIN($G$11)*COS($G$12)*COS($D47))-0.632*(SIN(I$36)*SIN($G$11)*COS($G$12)-COS(I$36)*COS($G$11)*COS($D47))+COS(I$36)*SIN($G$11)*SIN($G$12)*SIN($D47) -> 0.4014413 | BF47: =0.775*(SIN(J$36)*COS($G$11)+COS(J$36)*SIN($G$11)*COS($G$12)*COS($D47))-0.632*(SIN(J$36)*SIN($G$11)*COS($G$12)-COS(J$36)*COS($G$11)*COS($D47))+COS(J$36)*SIN($G$11)*SIN($G$12)*SIN($D47) -> 0.4567212 | BG47: =0.775*(SIN(K$36)*COS($G$11)+COS(K$36)*SIN($G$11)*COS($G$12)*COS($D47))-0.632*(SIN(K$36)*SIN($G$11)*COS($G$12)-COS(K$36)*COS($G$11)*COS($D47))+COS(K$36)*SIN($G$11)*SIN($G$12)*SIN($D47) -> 0.43575224 | BH47: =0.775*(SIN(L$36)*COS($G$11)+COS(L$36)*SIN($G$11)*COS($G$12)*COS($D47))-0.632*(SIN(L$36)*SIN($G$11)*COS($G$12)-COS(L$36)*COS($G$11)*COS($D47))+COS(L$36)*SIN($G$11)*SIN($G$12)*SIN($D47) -> 0.34133233 | ... BL47: =0.775*(SIN(P$36)*COS($G$11)+COS(P$36)*SIN($G$11)*COS($G$12)*COS($D47))-0.632*(SIN(P$36)*SIN($G$11)*COS($G$12)-COS(P$36)*COS($G$11)*COS($D47))+COS(P$36)*SIN($G$11)*SIN($G$12)*SIN($D47) -> -0.1565529 | BM47: =COS(RADIANS(90-E47)) -> 6.1257423e-17 | BN47: =COS(RADIANS(90-F47)) -> 6.1257423e-17 | BO47: =COS(RADIANS(90-G47)) -> 0.12507332 | BP47: =COS(RADIANS(90-H47)) -> 0.2841529 | BQ47: =COS(RADIANS(90-I47)) -> 0.40142707 | BR47: =COS(RADIANS(90-J47)) -> 0.45668325 | BS47: =COS(RADIANS(90-K47)) -> 0.43572341 | BT47: =COS(RADIANS(90-L47)) -> 0.34134275 | ... BX47: =COS(RADIANS(90-P47)) -> 6.1257423e-17 | BY47: =IF(BM47=$BM$40,0,BM47) -> 0 | BZ47: =IF(BN47=$BM$40,0,BN47) -> 0 | CA47: =IF(BO47=$BM$40,0,BO47) -> 0.12507332 | CB47: =IF(BP47=$BM$40,0,BP47) -> 0.2841529 | CC47: =IF(BQ47=$BM$40,0,BQ47) -> 0.40142707 | CD47: =IF(BR47=$BM$40,0,BR47) -> 0.45668325 | CE47: =IF(BS47=$BM$40,0,BS47) -> 0.43572341 | CF47: =IF(BT47=$BM$40,0,BT47) -> 0.34134275 | ... CJ47: =IF(BX47=$BM$40,0,BX47) -> 0 | CK47: =MAX(0,1353*(1+0.033*COS(RADIANS(360*E$35/365)))*EXP(-AO47*AC47*Q47)) -> 20.284401 | CL47: =MAX(0,1353*(1+0.033*COS(RADIANS(360*F$35/365)))*EXP(-AP47*AD47*R47)) -> 17.360768 | CM47: =MAX(0,1353*(1+0.033*COS(RADIANS(360*G$35/365)))*EXP(-AQ47*AE47*S47)) -> 349.921 | CN47: =MAX(0,1353*(1+0.033*COS(RADIANS(360*H$35/365)))*EXP(-AR47*AF47*T47)) -> 544.48606 | CO47: =MAX(0,1353*(1+0.033*COS(RADIANS(360*I$35/365)))*EXP(-AS47*AG47*U47)) -> 633.91114 | CP47: =MAX(0,1353*(1+0.033*COS(RADIANS(360*J$35/365)))*EXP(-AT47*AH47*V47)) -> 667.24602 | CQ47: =MAX(0,1353*(1+0.033*COS(RADIANS(360*K$35/365)))*EXP(-AU47*AI47*W47)) -> 655.64851 | CR47: =MAX(0,1353*(1+0.033*COS(RADIANS(360*L$35/365)))*EXP(-AV47*AJ47*X47)) -> 593.34874 | ... CV47: =MAX(0,1353*(1+0.033*COS(RADIANS(360*P$35/365)))*EXP(-AZ47*AN47*AB47)) -> 21.403786 | CW47: =IF(AND(BY47>0,BA47>0),1,0) -> 0 | CX47: =IF(AND(BZ47>0,BB47>0),1,0) -> 0 | CY47: =IF(AND(CA47>0,BC47>0),1,0) -> 1 | CZ47: =IF(AND(CB47>0,BD47>0),1,0) -> 1 | DA47: =IF(AND(CC47>0,BE47>0),1,0) -> 1 | DB47: =IF(AND(CD47>0,BF47>0),1,0) -> 1 | DC47: =IF(AND(CE47>0,BG47>0),1,0) -> 1 | DD47: =IF(AND(CF47>0,BH47>0),1,0) -> 1 | ... DH47: =IF(AND(CJ47>0,BL47>0),1,0) -> 0 | DI47: =IF(BY47>0,1,0) -> 0 | DJ47: =IF(BZ47>0,1,0) -> 0 | DK47: =IF(CA47>0,1,0) -> 1 | DL47: =IF(CB47>0,1,0) -> 1 | DM47: =IF(CC47>0,1,0) -> 1 | DN47: =IF(CD47>0,1,0) -> 1 | DO47: =IF(CE47>0,1,0) -> 1 | DP47: =IF(CF47>0,1,0) -> 1 | ... DT47: =IF(CJ47>0,1,0) -> 0 | DU47: =CW47*MAX(0,(CK47*BA47*15)) -> 0 | DV47: =CX47*MAX(0,(CL47*BB47*15)) -> 0 | DW47: =CY47*MAX(0,(CM47*BC47*15)) -> 656.00817 | DX47: =CZ47*MAX(0,(CN47*BD47*15)) -> 2320.4905 | DY47: =DA47*MAX(0,(CO47*BE47*15)) -> 3817.1717 | DZ47: =DB47*MAX(0,(CP47*BF47*15)) -> 4571.181 | EA47: =DC47*MAX(0,(CQ47*BG47*15)) -> 4285.5046 | EB47: =DD47*MAX(0,(CR47*BH47*15)) -> 3037.9366 | ... EF47: =DH47*MAX(0,(CV47*BL47*15)) -> 0 | EG47: =DI47*MAX(0,(CK47*BY47*15)) -> 0 | EH47: =DJ47*MAX(0,(CL47*BZ47*15)) -> 0 | EI47: =DK47*MAX(0,(CM47*CA47*15)) -> 656.48671 | EJ47: =DL47*MAX(0,(CN47*CB47*15)) -> 2320.7594 | EK47: =DM47*MAX(0,(CO47*CC47*15)) -> 3817.0364 | EL47: =DN47*MAX(0,(CP47*CD47*15)) -> 4570.8012 | EM47: =DO47*MAX(0,(CQ47*CE47*15)) -> 4285.2211 | EN47: =DP47*MAX(0,(CR47*CF47*15)) -> 3038.0294 | ... ER47: =DT47*MAX(0,(CV47*CJ47*15)) -> 0
B48: 0.33333333 | C48: =C47-15 -> 60 | D48: =RADIANS(C48) -> 1.0471976 | E48: =MAX(0,90-DEGREES(ACOS(COS($G$10)*COS(E$36)*COS($D48)+SIN($G$10)*SIN(E$36)))) -> 0.83429307 | F48: =MAX(0,90-DEGREES(ACOS(COS($G$10)*COS(F$36)*COS($D48)+SIN($G$10)*SIN(F$36)))) -> 7.5907419 | G48: =MAX(0,90-DEGREES(ACOS(COS($G$10)*COS(G$36)*COS($D48)+SIN($G$10)*SIN(G$36)))) -> 16.104181 | H48: =MAX(0,90-DEGREES(ACOS(COS($G$10)*COS(H$36)*COS($D48)+SIN($G$10)*SIN(H$36)))) -> 25.768186 | I48: =MAX(0,90-DEGREES(ACOS(COS($G$10)*COS(I$36)*COS($D48)+SIN($G$10)*SIN(I$36)))) -> 33.094129 | J48: =MAX(0,90-DEGREES(ACOS(COS($G$10)*COS(J$36)*COS($D48)+SIN($G$10)*SIN(J$36)))) -> 36.637536 | K48: =MAX(0,90-DEGREES(ACOS(COS($G$10)*COS(K$36)*COS($D48)+SIN($G$10)*SIN(K$36)))) -> 35.28551 | L48: =MAX(0,90-DEGREES(ACOS(COS($G$10)*COS(L$36)*COS($D48)+SIN($G$10)*SIN(L$36)))) -> 29.311665 | ... P48: =MAX(0,90-DEGREES(ACOS(COS($G$10)*COS(P$36)*COS($D48)+SIN($G$10)*SIN(P$36)))) -> 0 | Q48: =3.372+0.053*(PI()*E48/180)-0.296*COS(RADIANS(30*E$22)) -> 3.1164282 | R48: =3.372+0.053*(PI()*F48/180)-0.296*COS(RADIANS(30*F$22)) -> 3.2310216 | S48: =3.372+0.053*(PI()*G48/180)-0.296*COS(RADIANS(30*G$22)) -> 3.3868968 | T48: =3.372+0.053*(PI()*H48/180)-0.296*COS(RADIANS(30*H$22)) -> 3.5438362 | U48: =3.372+0.053*(PI()*I48/180)-0.296*COS(RADIANS(30*I$22)) -> 3.6589564 | V48: =3.372+0.053*(PI()*J48/180)-0.296*COS(RADIANS(30*J$22)) -> 3.7018906 | W48: =3.372+0.053*(PI()*K48/180)-0.296*COS(RADIANS(30*K$22)) -> 3.6609835 | X48: =3.372+0.053*(PI()*L48/180)-0.296*COS(RADIANS(30*L$22)) -> 3.547114 | ... AB48: =3.372+0.053*(PI()*P48/180)-0.296*COS(RADIANS(30*P$22)) -> 3.076 | AC48: =1.4899-2.1099*COS(RADIANS(E48))+0.6322*COS(RADIANS(2*E48))+0.0253*COS(RADIANS(3*E48))-1.0022*SIN(RADIANS(E48))+1.0077*SIN(RADIANS(2*E48))-0.2606*SIN(RADIANS(3*E48)) -> 0.040800911 | AD48: =1.4899-2.1099*COS(RADIANS(F48))+0.6322*COS(RADIANS(2*F48))+0.0253*COS(RADIANS(3*F48))-1.0022*SIN(RADIANS(F48))+1.0077*SIN(RADIANS(2*F48))-0.2606*SIN(RADIANS(3*F48)) -> 0.062590947 | AE48: =1.4899-2.1099*COS(RADIANS(G48))+0.6322*COS(RADIANS(2*G48))+0.0253*COS(RADIANS(3*G48))-1.0022*SIN(RADIANS(G48))+1.0077*SIN(RADIANS(2*G48))-0.2606*SIN(RADIANS(3*G48)) -> 0.079032104 | AF48: =1.4899-2.1099*COS(RADIANS(H48))+0.6322*COS(RADIANS(2*H48))+0.0253*COS(RADIANS(3*H48))-1.0022*SIN(RADIANS(H48))+1.0077*SIN(RADIANS(2*H48))-0.2606*SIN(RADIANS(3*H48)) -> 0.087723476 | AG48: =1.4899-2.1099*COS(RADIANS(I48))+0.6322*COS(RADIANS(2*I48))+0.0253*COS(RADIANS(3*I48))-1.0022*SIN(RADIANS(I48))+1.0077*SIN(RADIANS(2*I48))-0.2606*SIN(RADIANS(3*I48)) -> 0.090954808 | AH48: =1.4899-2.1099*COS(RADIANS(J48))+0.6322*COS(RADIANS(2*J48))+0.0253*COS(RADIANS(3*J48))-1.0022*SIN(RADIANS(J48))+1.0077*SIN(RADIANS(2*J48))-0.2606*SIN(RADIANS(3*J48)) -> 0.092164369 | AI48: =1.4899-2.1099*COS(RADIANS(K48))+0.6322*COS(RADIANS(2*K48))+0.0253*COS(RADIANS(3*K48))-1.0022*SIN(RADIANS(K48))+1.0077*SIN(RADIANS(2*K48))-0.2606*SIN(RADIANS(3*K48)) -> 0.091714292 | AJ48: =1.4899-2.1099*COS(RADIANS(L48))+0.6322*COS(RADIANS(2*L48))+0.0253*COS(RADIANS(3*L48))-1.0022*SIN(RADIANS(L48))+1.0077*SIN(RADIANS(2*L48))-0.2606*SIN(RADIANS(3*L48)) -> 0.089474546 | ... AN48: =1.4899-2.1099*COS(RADIANS(P48))+0.6322*COS(RADIANS(2*P48))+0.0253*COS(RADIANS(3*P48))-1.0022*SIN(RADIANS(P48))+1.0077*SIN(RADIANS(2*P48))-0.2606*SIN(RADIANS(3*P48)) -> 0.0375 | AO48: =0.992/(SIN(RADIANS(E48))+0.15*(PI()*E48/180+3.885)^(-1.253)) -> 23.719533 | AP48: =0.992/(SIN(RADIANS(F48))+0.15*(PI()*F48/180+3.885)^(-1.253)) -> 6.2642569 | AQ48: =0.992/(SIN(RADIANS(G48))+0.15*(PI()*G48/180+3.885)^(-1.253)) -> 3.2795667 | AR48: =0.992/(SIN(RADIANS(H48))+0.15*(PI()*H48/180+3.885)^(-1.253)) -> 2.1630676 | AS48: =0.992/(SIN(RADIANS(I48))+0.15*(PI()*I48/180+3.885)^(-1.253)) -> 1.7432904 | AT48: =0.992/(SIN(RADIANS(J48))+0.15*(PI()*J48/180+3.885)^(-1.253)) -> 1.601602 | AU48: =0.992/(SIN(RADIANS(K48))+0.15*(PI()*K48/180+3.885)^(-1.253)) -> 1.6521518 | AV48: =0.992/(SIN(RADIANS(L48))+0.15*(PI()*L48/180+3.885)^(-1.253)) -> 1.9336602 | ... AZ48: =0.992/(SIN(RADIANS(P48))+0.15*(PI()*P48/180+3.885)^(-1.253)) -> 36.218242 | BA48: =0.775*(SIN(E$36)*COS($G$11)+COS(E$36)*SIN($G$11)*COS($G$12)*COS($D48))-0.632*(SIN(E$36)*SIN($G$11)*COS($G$12)-COS(E$36)*COS($G$11)*COS($D48))+COS(E$36)*SIN($G$11)*SIN($G$12)*SIN($D48) -> 0.014321024 | BB48: =0.775*(SIN(F$36)*COS($G$11)+COS(F$36)*SIN($G$11)*COS($G$12)*COS($D48))-0.632*(SIN(F$36)*SIN($G$11)*COS($G$12)-COS(F$36)*COS($G$11)*COS($D48))+COS(F$36)*SIN($G$11)*SIN($G$12)*SIN($D48) -> 0.13188758 | BC48: =0.775*(SIN(G$36)*COS($G$11)+COS(G$36)*SIN($G$11)*COS($G$12)*COS($D48))-0.632*(SIN(G$36)*SIN($G$11)*COS($G$12)-COS(G$36)*COS($G$11)*COS($D48))+COS(G$36)*SIN($G$11)*SIN($G$12)*SIN($D48) -> 0.27722138 | BD48: =0.775*(SIN(H$36)*COS($G$11)+COS(H$36)*SIN($G$11)*COS($G$12)*COS($D48))-0.632*(SIN(H$36)*SIN($G$11)*COS($G$12)-COS(H$36)*COS($G$11)*COS($D48))+COS(H$36)*SIN($G$11)*SIN($G$12)*SIN($D48) -> 0.43462681 | BE48: =0.775*(SIN(I$36)*COS($G$11)+COS(I$36)*SIN($G$11)*COS($G$12)*COS($D48))-0.632*(SIN(I$36)*SIN($G$11)*COS($G$12)-COS(I$36)*COS($G$11)*COS($D48))+COS(I$36)*SIN($G$11)*SIN($G$12)*SIN($D48) -> 0.5459618 | BF48: =0.775*(SIN(J$36)*COS($G$11)+COS(J$36)*SIN($G$11)*COS($G$12)*COS($D48))-0.632*(SIN(J$36)*SIN($G$11)*COS($G$12)-COS(J$36)*COS($G$11)*COS($D48))+COS(J$36)*SIN($G$11)*SIN($G$12)*SIN($D48) -> 0.59672225 | BG48: =0.775*(SIN(K$36)*COS($G$11)+COS(K$36)*SIN($G$11)*COS($G$12)*COS($D48))-0.632*(SIN(K$36)*SIN($G$11)*COS($G$12)-COS(K$36)*COS($G$11)*COS($D48))+COS(K$36)*SIN($G$11)*SIN($G$12)*SIN($D48) -> 0.57761275 | BH48: =0.775*(SIN(L$36)*COS($G$11)+COS(L$36)*SIN($G$11)*COS($G$12)*COS($D48))-0.632*(SIN(L$36)*SIN($G$11)*COS($G$12)-COS(L$36)*COS($G$11)*COS($D48))+COS(L$36)*SIN($G$11)*SIN($G$12)*SIN($D48) -> 0.48947929 | ... BL48: =0.775*(SIN(P$36)*COS($G$11)+COS(P$36)*SIN($G$11)*COS($G$12)*COS($D48))-0.632*(SIN(P$36)*SIN($G$11)*COS($G$12)-COS(P$36)*COS($G$11)*COS($D48))+COS(P$36)*SIN($G$11)*SIN($G$12)*SIN($D48) -> -0.016576006 | BM48: =COS(RADIANS(90-E48)) -> 0.014560646 | BN48: =COS(RADIANS(90-F48)) -> 0.13209622 | BO48: =COS(RADIANS(90-G48)) -> 0.27738476 | BP48: =COS(RADIANS(90-H48)) -> 0.43473112 | BQ48: =COS(RADIANS(90-I48)) -> 0.54601613 | BR48: =COS(RADIANS(90-J48)) -> 0.5967507 | BS48: =COS(RADIANS(90-K48)) -> 0.57765121 | BT48: =COS(RADIANS(90-L48)) -> 0.48955999 | ... BX48: =COS(RADIANS(90-P48)) -> 6.1257423e-17 | BY48: =IF(BM48=$BM$40,0,BM48) -> 0.014560646 | BZ48: =IF(BN48=$BM$40,0,BN48) -> 0.13209622 | CA48: =IF(BO48=$BM$40,0,BO48) -> 0.27738476 | CB48: =IF(BP48=$BM$40,0,BP48) -> 0.43473112 | CC48: =IF(BQ48=$BM$40,0,BQ48) -> 0.54601613 | CD48: =IF(BR48=$BM$40,0,BR48) -> 0.5967507 | CE48: =IF(BS48=$BM$40,0,BS48) -> 0.57765121 | CF48: =IF(BT48=$BM$40,0,BT48) -> 0.48955999 | ... CJ48: =IF(BX48=$BM$40,0,BX48) -> 0 | CK48: =MAX(0,1353*(1+0.033*COS(RADIANS(360*E$35/365)))*EXP(-AO48*AC48*Q48)) -> 68.406972 | CL48: =MAX(0,1353*(1+0.033*COS(RADIANS(360*F$35/365)))*EXP(-AP48*AD48*R48)) -> 390.00547 | CM48: =MAX(0,1353*(1+0.033*COS(RADIANS(360*G$35/365)))*EXP(-AQ48*AE48*S48)) -> 567.83778 | CN48: =MAX(0,1353*(1+0.033*COS(RADIANS(360*H$35/365)))*EXP(-AR48*AF48*T48)) -> 685.30362 | CO48: =MAX(0,1353*(1+0.033*COS(RADIANS(360*I$35/365)))*EXP(-AS48*AG48*U48)) -> 740.322 | CP48: =MAX(0,1353*(1+0.033*COS(RADIANS(360*J$35/365)))*EXP(-AT48*AH48*V48)) -> 758.58192 | CQ48: =MAX(0,1353*(1+0.033*COS(RADIANS(360*K$35/365)))*EXP(-AU48*AI48*W48)) -> 751.97709 | CR48: =MAX(0,1353*(1+0.033*COS(RADIANS(360*L$35/365)))*EXP(-AV48*AJ48*X48)) -> 715.02115 | ... CV48: =MAX(0,1353*(1+0.033*COS(RADIANS(360*P$35/365)))*EXP(-AZ48*AN48*AB48)) -> 21.403786 | CW48: =IF(AND(BY48>0,BA48>0),1,0) -> 1 | CX48: =IF(AND(BZ48>0,BB48>0),1,0) -> 1 | CY48: =IF(AND(CA48>0,BC48>0),1,0) -> 1 | CZ48: =IF(AND(CB48>0,BD48>0),1,0) -> 1 | DA48: =IF(AND(CC48>0,BE48>0),1,0) -> 1 | DB48: =IF(AND(CD48>0,BF48>0),1,0) -> 1 | DC48: =IF(AND(CE48>0,BG48>0),1,0) -> 1 | DD48: =IF(AND(CF48>0,BH48>0),1,0) -> 1 | ... DH48: =IF(AND(CJ48>0,BL48>0),1,0) -> 0 | DI48: =IF(BY48>0,1,0) -> 1 | DJ48: =IF(BZ48>0,1,0) -> 1 | DK48: =IF(CA48>0,1,0) -> 1 | DL48: =IF(CB48>0,1,0) -> 1 | DM48: =IF(CC48>0,1,0) -> 1 | DN48: =IF(CD48>0,1,0) -> 1 | DO48: =IF(CE48>0,1,0) -> 1 | DP48: =IF(CF48>0,1,0) -> 1 | ... DT48: =IF(CJ48>0,1,0) -> 0 | DU48: =CW48*MAX(0,(CK48*BA48*15)) -> 14.694868 | DV48: =CX48*MAX(0,(CL48*BB48*15)) -> 771.55314 | DW48: =CY48*MAX(0,(CM48*BC48*15)) -> 2361.2516 | DX48: =CZ48*MAX(0,(CN48*BD48*15)) -> 4467.7699 | DY48: =DA48*MAX(0,(CO48*BE48*15)) -> 6062.8131 | DZ48: =DB48*MAX(0,(CP48*BF48*15)) -> 6789.9407 | EA48: =DC48*MAX(0,(CQ48*BG48*15)) -> 6515.2733 | EB48: =DD48*MAX(0,(CR48*BH48*15)) -> 5249.8207 | ... EF48: =DH48*MAX(0,(CV48*BL48*15)) -> 0 | EG48: =DI48*MAX(0,(CK48*BY48*15)) -> 14.940746 | EH48: =DJ48*MAX(0,(CL48*BZ48*15)) -> 772.77374 | EI48: =DK48*MAX(0,(CM48*CA48*15)) -> 2362.6432 | EJ48: =DL48*MAX(0,(CN48*CB48*15)) -> 4468.8421 | EK48: =DM48*MAX(0,(CO48*CC48*15)) -> 6063.4163 | EL48: =DN48*MAX(0,(CP48*CD48*15)) -> 6790.2644 | EM48: =DO48*MAX(0,(CQ48*CE48*15)) -> 6515.7072 | EN48: =DP48*MAX(0,(CR48*CF48*15)) -> 5250.6862 | ... ER48: =DT48*MAX(0,(CV48*CJ48*15)) -> 0
B49: 0.375 | C49: =C48-15 -> 45 | D49: =RADIANS(C49) -> 0.78539816 | E49: =MAX(0,90-DEGREES(ACOS(COS($G$10)*COS(E$36)*COS($D49)+SIN($G$10)*SIN(E$36)))) -> 7.8540329 | F49: =MAX(0,90-DEGREES(ACOS(COS($G$10)*COS(F$36)*COS($D49)+SIN($G$10)*SIN(F$36)))) -> 15.048313 | G49: =MAX(0,90-DEGREES(ACOS(COS($G$10)*COS(G$36)*COS($D49)+SIN($G$10)*SIN(G$36)))) -> 24.090404 | H49: =MAX(0,90-DEGREES(ACOS(COS($G$10)*COS(H$36)*COS($D49)+SIN($G$10)*SIN(H$36)))) -> 34.335346 | I49: =MAX(0,90-DEGREES(ACOS(COS($G$10)*COS(I$36)*COS($D49)+SIN($G$10)*SIN(I$36)))) -> 42.08077 | J49: =MAX(0,90-DEGREES(ACOS(COS($G$10)*COS(J$36)*COS($D49)+SIN($G$10)*SIN(J$36)))) -> 45.809759 | K49: =MAX(0,90-DEGREES(ACOS(COS($G$10)*COS(K$36)*COS($D49)+SIN($G$10)*SIN(K$36)))) -> 44.389097 | L49: =MAX(0,90-DEGREES(ACOS(COS($G$10)*COS(L$36)*COS($D49)+SIN($G$10)*SIN(L$36)))) -> 38.085522 | ... P49: =MAX(0,90-DEGREES(ACOS(COS($G$10)*COS(P$36)*COS($D49)+SIN($G$10)*SIN(P$36)))) -> 5.9654569 | Q49: =3.372+0.053*(PI()*E49/180)-0.296*COS(RADIANS(30*E$22)) -> 3.1229217 | R49: =3.372+0.053*(PI()*F49/180)-0.296*COS(RADIANS(30*F$22)) -> 3.2379201 | S49: =3.372+0.053*(PI()*G49/180)-0.296*COS(RADIANS(30*G$22)) -> 3.3942842 | T49: =3.372+0.053*(PI()*H49/180)-0.296*COS(RADIANS(30*H$22)) -> 3.551761 | U49: =3.372+0.053*(PI()*I49/180)-0.296*COS(RADIANS(30*I$22)) -> 3.6672693 | V49: =3.372+0.053*(PI()*J49/180)-0.296*COS(RADIANS(30*J$22)) -> 3.7103751 | W49: =3.372+0.053*(PI()*K49/180)-0.296*COS(RADIANS(30*K$22)) -> 3.6694045 | X49: =3.372+0.053*(PI()*L49/180)-0.296*COS(RADIANS(30*L$22)) -> 3.55523 | ... AB49: =3.372+0.053*(PI()*P49/180)-0.296*COS(RADIANS(30*P$22)) -> 3.0815182 | AC49: =1.4899-2.1099*COS(RADIANS(E49))+0.6322*COS(RADIANS(2*E49))+0.0253*COS(RADIANS(3*E49))-1.0022*SIN(RADIANS(E49))+1.0077*SIN(RADIANS(2*E49))-0.2606*SIN(RADIANS(3*E49)) -> 0.063269605 | AD49: =1.4899-2.1099*COS(RADIANS(F49))+0.6322*COS(RADIANS(2*F49))+0.0253*COS(RADIANS(3*F49))-1.0022*SIN(RADIANS(F49))+1.0077*SIN(RADIANS(2*F49))-0.2606*SIN(RADIANS(3*F49)) -> 0.07754499 | AE49: =1.4899-2.1099*COS(RADIANS(G49))+0.6322*COS(RADIANS(2*G49))+0.0253*COS(RADIANS(3*G49))-1.0022*SIN(RADIANS(G49))+1.0077*SIN(RADIANS(2*G49))-0.2606*SIN(RADIANS(3*G49)) -> 0.086702555 | AF49: =1.4899-2.1099*COS(RADIANS(H49))+0.6322*COS(RADIANS(2*H49))+0.0253*COS(RADIANS(3*H49))-1.0022*SIN(RADIANS(H49))+1.0077*SIN(RADIANS(2*H49))-0.2606*SIN(RADIANS(3*H49)) -> 0.091390644 | AG49: =1.4899-2.1099*COS(RADIANS(I49))+0.6322*COS(RADIANS(2*I49))+0.0253*COS(RADIANS(3*I49))-1.0022*SIN(RADIANS(I49))+1.0077*SIN(RADIANS(2*I49))-0.2606*SIN(RADIANS(3*I49)) -> 0.0939237 | AH49: =1.4899-2.1099*COS(RADIANS(J49))+0.6322*COS(RADIANS(2*J49))+0.0253*COS(RADIANS(3*J49))-1.0022*SIN(RADIANS(J49))+1.0077*SIN(RADIANS(2*J49))-0.2606*SIN(RADIANS(3*J49)) -> 0.095104495 | AI49: =1.4899-2.1099*COS(RADIANS(K49))+0.6322*COS(RADIANS(2*K49))+0.0253*COS(RADIANS(3*K49))-1.0022*SIN(RADIANS(K49))+1.0077*SIN(RADIANS(2*K49))-0.2606*SIN(RADIANS(3*K49)) -> 0.094658574 | AJ49: =1.4899-2.1099*COS(RADIANS(L49))+0.6322*COS(RADIANS(2*L49))+0.0253*COS(RADIANS(3*L49))-1.0022*SIN(RADIANS(L49))+1.0077*SIN(RADIANS(2*L49))-0.2606*SIN(RADIANS(3*L49)) -> 0.092637601 | ... AN49: =1.4899-2.1099*COS(RADIANS(P49))+0.6322*COS(RADIANS(2*P49))+0.0253*COS(RADIANS(3*P49))-1.0022*SIN(RADIANS(P49))+1.0077*SIN(RADIANS(2*P49))-0.2606*SIN(RADIANS(3*P49)) -> 0.058129474 | AO49: =0.992/(SIN(RADIANS(E49))+0.15*(PI()*E49/180+3.885)^(-1.253)) -> 6.0905681 | AP49: =0.992/(SIN(RADIANS(F49))+0.15*(PI()*F49/180+3.885)^(-1.253)) -> 3.4823214 | AQ49: =0.992/(SIN(RADIANS(G49))+0.15*(PI()*G49/180+3.885)^(-1.253)) -> 2.2949255 | AR49: =0.992/(SIN(RADIANS(H49))+0.15*(PI()*H49/180+3.885)^(-1.253)) -> 1.690182 | AS49: =0.992/(SIN(RADIANS(I49))+0.15*(PI()*I49/180+3.885)^(-1.253)) -> 1.4330599 | AT49: =0.992/(SIN(RADIANS(J49))+0.15*(PI()*J49/180+3.885)^(-1.253)) -> 1.3429111 | AU49: =0.992/(SIN(RADIANS(K49))+0.15*(PI()*K49/180+3.885)^(-1.253)) -> 1.3752254 | AV49: =0.992/(SIN(RADIANS(L49))+0.15*(PI()*L49/180+3.885)^(-1.253)) -> 1.5516759 | ... AZ49: =0.992/(SIN(RADIANS(P49))+0.15*(PI()*P49/180+3.885)^(-1.253)) -> 7.6058682 | BA49: =0.775*(SIN(E$36)*COS($G$11)+COS(E$36)*SIN($G$11)*COS($G$12)*COS($D49))-0.632*(SIN(E$36)*SIN($G$11)*COS($G$12)-COS(E$36)*COS($G$11)*COS($D49))+COS(E$36)*SIN($G$11)*SIN($G$12)*SIN($D49) -> 0.13635233 | BB49: =0.775*(SIN(F$36)*COS($G$11)+COS(F$36)*SIN($G$11)*COS($G$12)*COS($D49))-0.632*(SIN(F$36)*SIN($G$11)*COS($G$12)-COS(F$36)*COS($G$11)*COS($D49))+COS(F$36)*SIN($G$11)*SIN($G$12)*SIN($D49) -> 0.25936433 | BC49: =0.775*(SIN(G$36)*COS($G$11)+COS(G$36)*SIN($G$11)*COS($G$12)*COS($D49))-0.632*(SIN(G$36)*SIN($G$11)*COS($G$12)-COS(G$36)*COS($G$11)*COS($D49))+COS(G$36)*SIN($G$11)*SIN($G$12)*SIN($D49) -> 0.40795217 | BD49: =0.775*(SIN(H$36)*COS($G$11)+COS(H$36)*SIN($G$11)*COS($G$12)*COS($D49))-0.632*(SIN(H$36)*SIN($G$11)*COS($G$12)-COS(H$36)*COS($G$11)*COS($D49))+COS(H$36)*SIN($G$11)*SIN($G$12)*SIN($D49) -> 0.56386996 | BE49: =0.775*(SIN(I$36)*COS($G$11)+COS(I$36)*SIN($G$11)*COS($G$12)*COS($D49))-0.632*(SIN(I$36)*SIN($G$11)*COS($G$12)-COS(I$36)*COS($G$11)*COS($D49))+COS(I$36)*SIN($G$11)*SIN($G$12)*SIN($D49) -> 0.67006437 | BF49: =0.775*(SIN(J$36)*COS($G$11)+COS(J$36)*SIN($G$11)*COS($G$12)*COS($D49))-0.632*(SIN(J$36)*SIN($G$11)*COS($G$12)-COS(J$36)*COS($G$11)*COS($D49))+COS(J$36)*SIN($G$11)*SIN($G$12)*SIN($D49) -> 0.71694388 | BG49: =0.775*(SIN(K$36)*COS($G$11)+COS(K$36)*SIN($G$11)*COS($G$12)*COS($D49))-0.632*(SIN(K$36)*SIN($G$11)*COS($G$12)-COS(K$36)*COS($G$11)*COS($D49))+COS(K$36)*SIN($G$11)*SIN($G$12)*SIN($D49) -> 0.69943113 | BH49: =0.775*(SIN(L$36)*COS($G$11)+COS(L$36)*SIN($G$11)*COS($G$12)*COS($D49))-0.632*(SIN(L$36)*SIN($G$11)*COS($G$12)-COS(L$36)*COS($G$11)*COS($D49))+COS(L$36)*SIN($G$11)*SIN($G$12)*SIN($D49) -> 0.61669597 | ... BL49: =0.775*(SIN(P$36)*COS($G$11)+COS(P$36)*SIN($G$11)*COS($G$12)*COS($D49))-0.632*(SIN(P$36)*SIN($G$11)*COS($G$12)-COS(P$36)*COS($G$11)*COS($D49))+COS(P$36)*SIN($G$11)*SIN($G$12)*SIN($D49) -> 0.10362488 | BM49: =COS(RADIANS(90-E49)) -> 0.13664984 | BN49: =COS(RADIANS(90-F49)) -> 0.25963344 | BO49: =COS(RADIANS(90-G49)) -> 0.40817756 | BP49: =COS(RADIANS(90-H49)) -> 0.56403557 | BQ49: =COS(RADIANS(90-I49)) -> 0.67017756 | BR49: =COS(RADIANS(90-J49)) -> 0.71702935 | BS49: =COS(RADIANS(90-K49)) -> 0.69952737 | BT49: =COS(RADIANS(90-L49)) -> 0.61683701 | ... BX49: =COS(RADIANS(90-P49)) -> 0.10392886 | BY49: =IF(BM49=$BM$40,0,BM49) -> 0.13664984 | BZ49: =IF(BN49=$BM$40,0,BN49) -> 0.25963344 | CA49: =IF(BO49=$BM$40,0,BO49) -> 0.40817756 | CB49: =IF(BP49=$BM$40,0,BP49) -> 0.56403557 | CC49: =IF(BQ49=$BM$40,0,BQ49) -> 0.67017756 | CD49: =IF(BR49=$BM$40,0,BR49) -> 0.71702935 | CE49: =IF(BS49=$BM$40,0,BS49) -> 0.69952737 | CF49: =IF(BT49=$BM$40,0,BT49) -> 0.61683701 | ... CJ49: =IF(BX49=$BM$40,0,BX49) -> 0.10392886 | CK49: =MAX(0,1353*(1+0.033*COS(RADIANS(360*E$35/365)))*EXP(-AO49*AC49*Q49)) -> 419.08597 | CL49: =MAX(0,1353*(1+0.033*COS(RADIANS(360*F$35/365)))*EXP(-AP49*AD49*R49)) -> 577.46136 | CM49: =MAX(0,1353*(1+0.033*COS(RADIANS(360*G$35/365)))*EXP(-AQ49*AE49*S49)) -> 695.27563 | CN49: =MAX(0,1353*(1+0.033*COS(RADIANS(360*H$35/365)))*EXP(-AR49*AF49*T49)) -> 775.63503 | CO49: =MAX(0,1353*(1+0.033*COS(RADIANS(360*I$35/365)))*EXP(-AS49*AG49*U49)) -> 807.25818 | CP49: =MAX(0,1353*(1+0.033*COS(RADIANS(360*J$35/365)))*EXP(-AT49*AH49*V49)) -> 815.67152 | CQ49: =MAX(0,1353*(1+0.033*COS(RADIANS(360*K$35/365)))*EXP(-AU49*AI49*W49)) -> 812.21752 | CR49: =MAX(0,1353*(1+0.033*COS(RADIANS(360*L$35/365)))*EXP(-AV49*AJ49*X49)) -> 792.32283 | ... CV49: =MAX(0,1353*(1+0.033*COS(RADIANS(360*P$35/365)))*EXP(-AZ49*AN49*AB49)) -> 357.42496 | CW49: =IF(AND(BY49>0,BA49>0),1,0) -> 1 | CX49: =IF(AND(BZ49>0,BB49>0),1,0) -> 1 | CY49: =IF(AND(CA49>0,BC49>0),1,0) -> 1 | CZ49: =IF(AND(CB49>0,BD49>0),1,0) -> 1 | DA49: =IF(AND(CC49>0,BE49>0),1,0) -> 1 | DB49: =IF(AND(CD49>0,BF49>0),1,0) -> 1 | DC49: =IF(AND(CE49>0,BG49>0),1,0) -> 1 | DD49: =IF(AND(CF49>0,BH49>0),1,0) -> 1 | ... DH49: =IF(AND(CJ49>0,BL49>0),1,0) -> 1 | DI49: =IF(BY49>0,1,0) -> 1 | DJ49: =IF(BZ49>0,1,0) -> 1 | DK49: =IF(CA49>0,1,0) -> 1 | DL49: =IF(CB49>0,1,0) -> 1 | DM49: =IF(CC49>0,1,0) -> 1 | DN49: =IF(CD49>0,1,0) -> 1 | DO49: =IF(CE49>0,1,0) -> 1 | DP49: =IF(CF49>0,1,0) -> 1 | ... DT49: =IF(CJ49>0,1,0) -> 1 | DU49: =CW49*MAX(0,(CK49*BA49*15)) -> 857.15025 | DV49: =CX49*MAX(0,(CL49*BB49*15)) -> 2246.5932 | DW49: =CY49*MAX(0,(CM49*BC49*15)) -> 4254.5881 | DX49: =CZ49*MAX(0,(CN49*BD49*15)) -> 6560.3594 | DY49: =DA49*MAX(0,(CO49*BE49*15)) -> 8113.7242 | DZ49: =DB49*MAX(0,(CP49*BF49*15)) -> 8771.8605 | EA49: =DC49*MAX(0,(CQ49*BG49*15)) -> 8521.3533 | EB49: =DD49*MAX(0,(CR49*BH49*15)) -> 7329.3345 | ... EF49: =DH49*MAX(0,(CV49*BL49*15)) -> 555.57179 | EG49: =DI49*MAX(0,(CK49*BY49*15)) -> 859.02045 | EH49: =DJ49*MAX(0,(CL49*BZ49*15)) -> 2248.9242 | EI49: =DK49*MAX(0,(CM49*CA49*15)) -> 4256.9387 | EJ49: =DL49*MAX(0,(CN49*CB49*15)) -> 6562.2862 | EK49: =DM49*MAX(0,(CO49*CC49*15)) -> 8115.0947 | EL49: =DN49*MAX(0,(CP49*CD49*15)) -> 8772.9062 | EM49: =DO49*MAX(0,(CQ49*CE49*15)) -> 8522.5258 | EN49: =DP49*MAX(0,(CR49*CF49*15)) -> 7331.0107 | ... ER49: =DT49*MAX(0,(CV49*CJ49*15)) -> 557.20152
B50: 0.41666667 | C50: =C49-15 -> 30 | D50: =RADIANS(C50) -> 0.52359878 | E50: =MAX(0,90-DEGREES(ACOS(COS($G$10)*COS(E$36)*COS($D50)+SIN($G$10)*SIN(E$36)))) -> 13.316629 | F50: =MAX(0,90-DEGREES(ACOS(COS($G$10)*COS(F$36)*COS($D50)+SIN($G$10)*SIN(F$36)))) -> 20.946508 | G50: =MAX(0,90-DEGREES(ACOS(COS($G$10)*COS(G$36)*COS($D50)+SIN($G$10)*SIN(G$36)))) -> 30.566523 | H50: =MAX(0,90-DEGREES(ACOS(COS($G$10)*COS(H$36)*COS($D50)+SIN($G$10)*SIN(H$36)))) -> 41.548544 | I50: =MAX(0,90-DEGREES(ACOS(COS($G$10)*COS(I$36)*COS($D50)+SIN($G$10)*SIN(I$36)))) -> 49.947041 | J50: =MAX(0,90-DEGREES(ACOS(COS($G$10)*COS(J$36)*COS($D50)+SIN($G$10)*SIN(J$36)))) -> 54.029781 | K50: =MAX(0,90-DEGREES(ACOS(COS($G$10)*COS(K$36)*COS($D50)+SIN($G$10)*SIN(K$36)))) -> 52.471106 | L50: =MAX(0,90-DEGREES(ACOS(COS($G$10)*COS(L$36)*COS($D50)+SIN($G$10)*SIN(L$36)))) -> 45.602246 | ... P50: =MAX(0,90-DEGREES(ACOS(COS($G$10)*COS(P$36)*COS($D50)+SIN($G$10)*SIN(P$36)))) -> 11.315183 | Q50: =3.372+0.053*(PI()*E50/180)-0.296*COS(RADIANS(30*E$22)) -> 3.1279747 | R50: =3.372+0.053*(PI()*F50/180)-0.296*COS(RADIANS(30*F$22)) -> 3.243376 | S50: =3.372+0.053*(PI()*G50/180)-0.296*COS(RADIANS(30*G$22)) -> 3.4002748 | T50: =3.372+0.053*(PI()*H50/180)-0.296*COS(RADIANS(30*H$22)) -> 3.5584334 | U50: =3.372+0.053*(PI()*I50/180)-0.296*COS(RADIANS(30*I$22)) -> 3.6745458 | V50: =3.372+0.053*(PI()*J50/180)-0.296*COS(RADIANS(30*J$22)) -> 3.7179789 | W50: =3.372+0.053*(PI()*K50/180)-0.296*COS(RADIANS(30*K$22)) -> 3.6768806 | X50: =3.372+0.053*(PI()*L50/180)-0.296*COS(RADIANS(30*L$22)) -> 3.5621832 | ... AB50: =3.372+0.053*(PI()*P50/180)-0.296*COS(RADIANS(30*P$22)) -> 3.0864668 | AC50: =1.4899-2.1099*COS(RADIANS(E50))+0.6322*COS(RADIANS(2*E50))+0.0253*COS(RADIANS(3*E50))-1.0022*SIN(RADIANS(E50))+1.0077*SIN(RADIANS(2*E50))-0.2606*SIN(RADIANS(3*E50)) -> 0.074800985 | AD50: =1.4899-2.1099*COS(RADIANS(F50))+0.6322*COS(RADIANS(2*F50))+0.0253*COS(RADIANS(3*F50))-1.0022*SIN(RADIANS(F50))+1.0077*SIN(RADIANS(2*F50))-0.2606*SIN(RADIANS(3*F50)) -> 0.084324595 | AE50: =1.4899-2.1099*COS(RADIANS(G50))+0.6322*COS(RADIANS(2*G50))+0.0253*COS(RADIANS(3*G50))-1.0022*SIN(RADIANS(G50))+1.0077*SIN(RADIANS(2*G50))-0.2606*SIN(RADIANS(3*G50)) -> 0.089998446 | AF50: =1.4899-2.1099*COS(RADIANS(H50))+0.6322*COS(RADIANS(2*H50))+0.0253*COS(RADIANS(3*H50))-1.0022*SIN(RADIANS(H50))+1.0077*SIN(RADIANS(2*H50))-0.2606*SIN(RADIANS(3*H50)) -> 0.093753264 | AG50: =1.4899-2.1099*COS(RADIANS(I50))+0.6322*COS(RADIANS(2*I50))+0.0253*COS(RADIANS(3*I50))-1.0022*SIN(RADIANS(I50))+1.0077*SIN(RADIANS(2*I50))-0.2606*SIN(RADIANS(3*I50)) -> 0.096337808 | AH50: =1.4899-2.1099*COS(RADIANS(J50))+0.6322*COS(RADIANS(2*J50))+0.0253*COS(RADIANS(3*J50))-1.0022*SIN(RADIANS(J50))+1.0077*SIN(RADIANS(2*J50))-0.2606*SIN(RADIANS(3*J50)) -> 0.097369175 | AI50: =1.4899-2.1099*COS(RADIANS(K50))+0.6322*COS(RADIANS(2*K50))+0.0253*COS(RADIANS(3*K50))-1.0022*SIN(RADIANS(K50))+1.0077*SIN(RADIANS(2*K50))-0.2606*SIN(RADIANS(3*K50)) -> 0.097005027 | AJ50: =1.4899-2.1099*COS(RADIANS(L50))+0.6322*COS(RADIANS(2*L50))+0.0253*COS(RADIANS(3*L50))-1.0022*SIN(RADIANS(L50))+1.0077*SIN(RADIANS(2*L50))-0.2606*SIN(RADIANS(3*L50)) -> 0.095039814 | ... AN50: =1.4899-2.1099*COS(RADIANS(P50))+0.6322*COS(RADIANS(2*P50))+0.0253*COS(RADIANS(3*P50))-1.0022*SIN(RADIANS(P50))+1.0077*SIN(RADIANS(2*P50))-0.2606*SIN(RADIANS(3*P50)) -> 0.071112969 | AO50: =0.992/(SIN(RADIANS(E50))+0.15*(PI()*E50/180+3.885)^(-1.253)) -> 3.8780527 | AP50: =0.992/(SIN(RADIANS(F50))+0.15*(PI()*F50/180+3.885)^(-1.253)) -> 2.5970843 | AQ50: =0.992/(SIN(RADIANS(G50))+0.15*(PI()*G50/180+3.885)^(-1.253)) -> 1.8651891 | AR50: =0.992/(SIN(RADIANS(H50))+0.15*(PI()*H50/180+3.885)^(-1.253)) -> 1.4474196 | AS50: =0.992/(SIN(RADIANS(I50))+0.15*(PI()*I50/180+3.885)^(-1.253)) -> 1.2609586 | AT50: =0.992/(SIN(RADIANS(J50))+0.15*(PI()*J50/180+3.885)^(-1.253)) -> 1.194917 | AU50: =0.992/(SIN(RADIANS(K50))+0.15*(PI()*K50/180+3.885)^(-1.253)) -> 1.2185905 | AV50: =0.992/(SIN(RADIANS(L50))+0.15*(PI()*L50/180+3.885)^(-1.253)) -> 1.3474865 | ... AZ50: =0.992/(SIN(RADIANS(P50))+0.15*(PI()*P50/180+3.885)^(-1.253)) -> 4.4695632 | BA50: =0.775*(SIN(E$36)*COS($G$11)+COS(E$36)*SIN($G$11)*COS($G$12)*COS($D50))-0.632*(SIN(E$36)*SIN($G$11)*COS($G$12)-COS(E$36)*COS($G$11)*COS($D50))+COS(E$36)*SIN($G$11)*SIN($G$12)*SIN($D50) -> 0.22999025 | BB50: =0.775*(SIN(F$36)*COS($G$11)+COS(F$36)*SIN($G$11)*COS($G$12)*COS($D50))-0.632*(SIN(F$36)*SIN($G$11)*COS($G$12)-COS(F$36)*COS($G$11)*COS($D50))+COS(F$36)*SIN($G$11)*SIN($G$12)*SIN($D50) -> 0.35718068 | BC50: =0.775*(SIN(G$36)*COS($G$11)+COS(G$36)*SIN($G$11)*COS($G$12)*COS($D50))-0.632*(SIN(G$36)*SIN($G$11)*COS($G$12)-COS(G$36)*COS($G$11)*COS($D50))+COS(G$36)*SIN($G$11)*SIN($G$12)*SIN($D50) -> 0.50826544 | BD50: =0.775*(SIN(H$36)*COS($G$11)+COS(H$36)*SIN($G$11)*COS($G$12)*COS($D50))-0.632*(SIN(H$36)*SIN($G$11)*COS($G$12)-COS(H$36)*COS($G$11)*COS($D50))+COS(H$36)*SIN($G$11)*SIN($G$12)*SIN($D50) -> 0.66304171 | BE50: =0.775*(SIN(I$36)*COS($G$11)+COS(I$36)*SIN($G$11)*COS($G$12)*COS($D50))-0.632*(SIN(I$36)*SIN($G$11)*COS($G$12)-COS(I$36)*COS($G$11)*COS($D50))+COS(I$36)*SIN($G$11)*SIN($G$12)*SIN($D50) -> 0.76529162 | BF50: =0.775*(SIN(J$36)*COS($G$11)+COS(J$36)*SIN($G$11)*COS($G$12)*COS($D50))-0.632*(SIN(J$36)*SIN($G$11)*COS($G$12)-COS(J$36)*COS($G$11)*COS($D50))+COS(J$36)*SIN($G$11)*SIN($G$12)*SIN($D50) -> 0.80919317 | BG50: =0.775*(SIN(K$36)*COS($G$11)+COS(K$36)*SIN($G$11)*COS($G$12)*COS($D50))-0.632*(SIN(K$36)*SIN($G$11)*COS($G$12)-COS(K$36)*COS($G$11)*COS($D50))+COS(K$36)*SIN($G$11)*SIN($G$12)*SIN($D50) -> 0.79290566 | BH50: =0.775*(SIN(L$36)*COS($G$11)+COS(L$36)*SIN($G$11)*COS($G$12)*COS($D50))-0.632*(SIN(L$36)*SIN($G$11)*COS($G$12)-COS(L$36)*COS($G$11)*COS($D50))+COS(L$36)*SIN($G$11)*SIN($G$12)*SIN($D50) -> 0.71431277 | ... BL50: =0.775*(SIN(P$36)*COS($G$11)+COS(P$36)*SIN($G$11)*COS($G$12)*COS($D50))-0.632*(SIN(P$36)*SIN($G$11)*COS($G$12)-COS(P$36)*COS($G$11)*COS($D50))+COS(P$36)*SIN($G$11)*SIN($G$12)*SIN($D50) -> 0.19585826 | BM50: =COS(RADIANS(90-E50)) -> 0.23033217 | BN50: =COS(RADIANS(90-F50)) -> 0.35749619 | BO50: =COS(RADIANS(90-G50)) -> 0.50853841 | BP50: =COS(RADIANS(90-H50)) -> 0.66325436 | BQ50: =COS(RADIANS(90-I50)) -> 0.76544998 | BR50: =COS(RADIANS(90-J50)) -> 0.8093224 | BS50: =COS(RADIANS(90-K50)) -> 0.79304624 | BT50: =COS(RADIANS(90-L50)) -> 0.7145001 | ... BX50: =COS(RADIANS(90-P50)) -> 0.19620599 | BY50: =IF(BM50=$BM$40,0,BM50) -> 0.23033217 | BZ50: =IF(BN50=$BM$40,0,BN50) -> 0.35749619 | CA50: =IF(BO50=$BM$40,0,BO50) -> 0.50853841 | CB50: =IF(BP50=$BM$40,0,BP50) -> 0.66325436 | CC50: =IF(BQ50=$BM$40,0,BQ50) -> 0.76544998 | CD50: =IF(BR50=$BM$40,0,BR50) -> 0.8093224 | CE50: =IF(BS50=$BM$40,0,BS50) -> 0.79304624 | CF50: =IF(BT50=$BM$40,0,BT50) -> 0.7145001 | ... CJ50: =IF(BX50=$BM$40,0,BX50) -> 0.19620599 | CK50: =MAX(0,1353*(1+0.033*COS(RADIANS(360*E$35/365)))*EXP(-AO50*AC50*Q50)) -> 563.47193 | CL50: =MAX(0,1353*(1+0.033*COS(RADIANS(360*F$35/365)))*EXP(-AP50*AD50*R50)) -> 680.4166 | CM50: =MAX(0,1353*(1+0.033*COS(RADIANS(360*G$35/365)))*EXP(-AQ50*AE50*S50)) -> 771.93857 | CN50: =MAX(0,1353*(1+0.033*COS(RADIANS(360*H$35/365)))*EXP(-AR50*AF50*T50)) -> 828.34587 | CO50: =MAX(0,1353*(1+0.033*COS(RADIANS(360*I$35/365)))*EXP(-AS50*AG50*U50)) -> 846.30117 | CP50: =MAX(0,1353*(1+0.033*COS(RADIANS(360*J$35/365)))*EXP(-AT50*AH50*V50)) -> 850.06223 | CQ50: =MAX(0,1353*(1+0.033*COS(RADIANS(360*K$35/365)))*EXP(-AU50*AI50*W50)) -> 847.92988 | CR50: =MAX(0,1353*(1+0.033*COS(RADIANS(360*L$35/365)))*EXP(-AV50*AJ50*X50)) -> 836.99639 | ... CV50: =MAX(0,1353*(1+0.033*COS(RADIANS(360*P$35/365)))*EXP(-AZ50*AN50*AB50)) -> 523.39024 | CW50: =IF(AND(BY50>0,BA50>0),1,0) -> 1 | CX50: =IF(AND(BZ50>0,BB50>0),1,0) -> 1 | CY50: =IF(AND(CA50>0,BC50>0),1,0) -> 1 | CZ50: =IF(AND(CB50>0,BD50>0),1,0) -> 1 | DA50: =IF(AND(CC50>0,BE50>0),1,0) -> 1 | DB50: =IF(AND(CD50>0,BF50>0),1,0) -> 1 | DC50: =IF(AND(CE50>0,BG50>0),1,0) -> 1 | DD50: =IF(AND(CF50>0,BH50>0),1,0) -> 1 | ... DH50: =IF(AND(CJ50>0,BL50>0),1,0) -> 1 | DI50: =IF(BY50>0,1,0) -> 1 | DJ50: =IF(BZ50>0,1,0) -> 1 | DK50: =IF(CA50>0,1,0) -> 1 | DL50: =IF(CB50>0,1,0) -> 1 | DM50: =IF(CC50>0,1,0) -> 1 | DN50: =IF(CD50>0,1,0) -> 1 | DO50: =IF(CE50>0,1,0) -> 1 | DP50: =IF(CF50>0,1,0) -> 1 | ... DT50: =IF(CJ50>0,1,0) -> 1 | DU50: =CW50*MAX(0,(CK50*BA50*15)) -> 1943.8958 | DV50: =CX50*MAX(0,(CL50*BB50*15)) -> 3645.475 | DW50: =CY50*MAX(0,(CM50*BC50*15)) -> 5885.2454 | DX50: =CZ50*MAX(0,(CN50*BD50*15)) -> 8238.418 | DY50: =DA50*MAX(0,(CO50*BE50*15)) -> 9715.008 | DZ50: =DB50*MAX(0,(CP50*BF50*15)) -> 10317.968 | EA50: =DC50*MAX(0,(CQ50*BG50*15)) -> 10084.926 | EB50: =DD50*MAX(0,(CR50*BH50*15)) -> 8968.1581 | ... EF50: =DH50*MAX(0,(CV50*BL50*15)) -> 1537.6546 | EG50: =DI50*MAX(0,(CK50*BY50*15)) -> 1946.7857 | EH50: =DJ50*MAX(0,(CL50*BZ50*15)) -> 3648.6952 | EI50: =DK50*MAX(0,(CM50*CA50*15)) -> 5888.4062 | EJ50: =DL50*MAX(0,(CN50*CB50*15)) -> 8241.0602 | EK50: =DM50*MAX(0,(CO50*CC50*15)) -> 9717.0182 | EL50: =DN50*MAX(0,(CP50*CD50*15)) -> 10319.616 | EM50: =DO50*MAX(0,(CQ50*CE50*15)) -> 10086.714 | EN50: =DP50*MAX(0,(CR50*CF50*15)) -> 8970.5101 | ... ER50: =DT50*MAX(0,(CV50*CJ50*15)) -> 1540.3845
B51: 0.45833333 | C51: =C50-15 -> 15 | D51: =RADIANS(C51) -> 0.26179939 | E51: =MAX(0,90-DEGREES(ACOS(COS($G$10)*COS(E$36)*COS($D51)+SIN($G$10)*SIN(E$36)))) -> 16.811465 | F51: =MAX(0,90-DEGREES(ACOS(COS($G$10)*COS(F$36)*COS($D51)+SIN($G$10)*SIN(F$36)))) -> 24.772434 | G51: =MAX(0,90-DEGREES(ACOS(COS($G$10)*COS(G$36)*COS($D51)+SIN($G$10)*SIN(G$36)))) -> 34.863821 | H51: =MAX(0,90-DEGREES(ACOS(COS($G$10)*COS(H$36)*COS($D51)+SIN($G$10)*SIN(H$36)))) -> 46.520941 | I51: =MAX(0,90-DEGREES(ACOS(COS($G$10)*COS(I$36)*COS($D51)+SIN($G$10)*SIN(I$36)))) -> 55.623051 | J51: =MAX(0,90-DEGREES(ACOS(COS($G$10)*COS(J$36)*COS($D51)+SIN($G$10)*SIN(J$36)))) -> 60.151014 | K51: =MAX(0,90-DEGREES(ACOS(COS($G$10)*COS(K$36)*COS($D51)+SIN($G$10)*SIN(K$36)))) -> 58.411781 | L51: =MAX(0,90-DEGREES(ACOS(COS($G$10)*COS(L$36)*COS($D51)+SIN($G$10)*SIN(L$36)))) -> 50.886128 | ... P51: =MAX(0,90-DEGREES(ACOS(COS($G$10)*COS(P$36)*COS($D51)+SIN($G$10)*SIN(P$36)))) -> 14.727005 | Q51: =3.372+0.053*(PI()*E51/180)-0.296*COS(RADIANS(30*E$22)) -> 3.1312075 | R51: =3.372+0.053*(PI()*F51/180)-0.296*COS(RADIANS(30*F$22)) -> 3.2469151 | S51: =3.372+0.053*(PI()*G51/180)-0.296*COS(RADIANS(30*G$22)) -> 3.4042499 | T51: =3.372+0.053*(PI()*H51/180)-0.296*COS(RADIANS(30*H$22)) -> 3.563033 | U51: =3.372+0.053*(PI()*I51/180)-0.296*COS(RADIANS(30*I$22)) -> 3.6797962 | V51: =3.372+0.053*(PI()*J51/180)-0.296*COS(RADIANS(30*J$22)) -> 3.7236412 | W51: =3.372+0.053*(PI()*K51/180)-0.296*COS(RADIANS(30*K$22)) -> 3.6823758 | X51: =3.372+0.053*(PI()*L51/180)-0.296*COS(RADIANS(30*L$22)) -> 3.5670709 | ... AB51: =3.372+0.053*(PI()*P51/180)-0.296*COS(RADIANS(30*P$22)) -> 3.0896228 | AC51: =1.4899-2.1099*COS(RADIANS(E51))+0.6322*COS(RADIANS(2*E51))+0.0253*COS(RADIANS(3*E51))-1.0022*SIN(RADIANS(E51))+1.0077*SIN(RADIANS(2*E51))-0.2606*SIN(RADIANS(3*E51)) -> 0.079954982 | AD51: =1.4899-2.1099*COS(RADIANS(F51))+0.6322*COS(RADIANS(2*F51))+0.0253*COS(RADIANS(3*F51))-1.0022*SIN(RADIANS(F51))+1.0077*SIN(RADIANS(2*F51))-0.2606*SIN(RADIANS(3*F51)) -> 0.087135519 | AE51: =1.4899-2.1099*COS(RADIANS(G51))+0.6322*COS(RADIANS(2*G51))+0.0253*COS(RADIANS(3*G51))-1.0022*SIN(RADIANS(G51))+1.0077*SIN(RADIANS(2*G51))-0.2606*SIN(RADIANS(3*G51)) -> 0.091571551 | AF51: =1.4899-2.1099*COS(RADIANS(H51))+0.6322*COS(RADIANS(2*H51))+0.0253*COS(RADIANS(3*H51))-1.0022*SIN(RADIANS(H51))+1.0077*SIN(RADIANS(2*H51))-0.2606*SIN(RADIANS(3*H51)) -> 0.095324692 | AG51: =1.4899-2.1099*COS(RADIANS(I51))+0.6322*COS(RADIANS(2*I51))+0.0253*COS(RADIANS(3*I51))-1.0022*SIN(RADIANS(I51))+1.0077*SIN(RADIANS(2*I51))-0.2606*SIN(RADIANS(3*I51)) -> 0.097695594 | AH51: =1.4899-2.1099*COS(RADIANS(J51))+0.6322*COS(RADIANS(2*J51))+0.0253*COS(RADIANS(3*J51))-1.0022*SIN(RADIANS(J51))+1.0077*SIN(RADIANS(2*J51))-0.2606*SIN(RADIANS(3*J51)) -> 0.098326647 | AI51: =1.4899-2.1099*COS(RADIANS(K51))+0.6322*COS(RADIANS(2*K51))+0.0253*COS(RADIANS(3*K51))-1.0022*SIN(RADIANS(K51))+1.0077*SIN(RADIANS(2*K51))-0.2606*SIN(RADIANS(3*K51)) -> 0.098139145 | AJ51: =1.4899-2.1099*COS(RADIANS(L51))+0.6322*COS(RADIANS(2*L51))+0.0253*COS(RADIANS(3*L51))-1.0022*SIN(RADIANS(L51))+1.0077*SIN(RADIANS(2*L51))-0.2606*SIN(RADIANS(3*L51)) -> 0.096595848 | ... AN51: =1.4899-2.1099*COS(RADIANS(P51))+0.6322*COS(RADIANS(2*P51))+0.0253*COS(RADIANS(3*P51))-1.0022*SIN(RADIANS(P51))+1.0077*SIN(RADIANS(2*P51))-0.2606*SIN(RADIANS(3*P51)) -> 0.077065274 | AO51: =0.992/(SIN(RADIANS(E51))+0.15*(PI()*E51/180+3.885)^(-1.253)) -> 3.1569764 | AP51: =0.992/(SIN(RADIANS(F51))+0.15*(PI()*F51/180+3.885)^(-1.253)) -> 2.2392139 | AQ51: =0.992/(SIN(RADIANS(G51))+0.15*(PI()*G51/180+3.885)^(-1.253)) -> 1.6687624 | AR51: =0.992/(SIN(RADIANS(H51))+0.15*(PI()*H51/180+3.885)^(-1.253)) -> 1.3275901 | AS51: =0.992/(SIN(RADIANS(I51))+0.15*(PI()*I51/180+3.885)^(-1.253)) -> 1.1725048 | AT51: =0.992/(SIN(RADIANS(J51))+0.15*(PI()*J51/180+3.885)^(-1.253)) -> 1.1175743 | AU51: =0.992/(SIN(RADIANS(K51))+0.15*(PI()*K51/180+3.885)^(-1.253)) -> 1.1372382 | AV51: =0.992/(SIN(RADIANS(L51))+0.15*(PI()*L51/180+3.885)^(-1.253)) -> 1.244581 | ... AZ51: =0.992/(SIN(RADIANS(P51))+0.15*(PI()*P51/180+3.885)^(-1.253)) -> 3.5493139 | BA51: =0.775*(SIN(E$36)*COS($G$11)+COS(E$36)*SIN($G$11)*COS($G$12)*COS($D51))-0.632*(SIN(E$36)*SIN($G$11)*COS($G$12)-COS(E$36)*COS($G$11)*COS($D51))+COS(E$36)*SIN($G$11)*SIN($G$12)*SIN($D51) -> 0.28885351 | BB51: =0.775*(SIN(F$36)*COS($G$11)+COS(F$36)*SIN($G$11)*COS($G$12)*COS($D51))-0.632*(SIN(F$36)*SIN($G$11)*COS($G$12)-COS(F$36)*COS($G$11)*COS($D51))+COS(F$36)*SIN($G$11)*SIN($G$12)*SIN($D51) -> 0.41867061 | BC51: =0.775*(SIN(G$36)*COS($G$11)+COS(G$36)*SIN($G$11)*COS($G$12)*COS($D51))-0.632*(SIN(G$36)*SIN($G$11)*COS($G$12)-COS(G$36)*COS($G$11)*COS($D51))+COS(G$36)*SIN($G$11)*SIN($G$12)*SIN($D51) -> 0.57132499 | BD51: =0.775*(SIN(H$36)*COS($G$11)+COS(H$36)*SIN($G$11)*COS($G$12)*COS($D51))-0.632*(SIN(H$36)*SIN($G$11)*COS($G$12)-COS(H$36)*COS($G$11)*COS($D51))+COS(H$36)*SIN($G$11)*SIN($G$12)*SIN($D51) -> 0.72538369 | BE51: =0.775*(SIN(I$36)*COS($G$11)+COS(I$36)*SIN($G$11)*COS($G$12)*COS($D51))-0.632*(SIN(I$36)*SIN($G$11)*COS($G$12)-COS(I$36)*COS($G$11)*COS($D51))+COS(I$36)*SIN($G$11)*SIN($G$12)*SIN($D51) -> 0.82515398 | BF51: =0.775*(SIN(J$36)*COS($G$11)+COS(J$36)*SIN($G$11)*COS($G$12)*COS($D51))-0.632*(SIN(J$36)*SIN($G$11)*COS($G$12)-COS(J$36)*COS($G$11)*COS($D51))+COS(J$36)*SIN($G$11)*SIN($G$12)*SIN($D51) -> 0.86718351 | BG51: =0.775*(SIN(K$36)*COS($G$11)+COS(K$36)*SIN($G$11)*COS($G$12)*COS($D51))-0.632*(SIN(K$36)*SIN($G$11)*COS($G$12)-COS(K$36)*COS($G$11)*COS($D51))+COS(K$36)*SIN($G$11)*SIN($G$12)*SIN($D51) -> 0.85166621 | BH51: =0.775*(SIN(L$36)*COS($G$11)+COS(L$36)*SIN($G$11)*COS($G$12)*COS($D51))-0.632*(SIN(L$36)*SIN($G$11)*COS($G$12)-COS(L$36)*COS($G$11)*COS($D51))+COS(L$36)*SIN($G$11)*SIN($G$12)*SIN($D51) -> 0.77567725 | ... BL51: =0.775*(SIN(P$36)*COS($G$11)+COS(P$36)*SIN($G$11)*COS($G$12)*COS($D51))-0.632*(SIN(P$36)*SIN($G$11)*COS($G$12)-COS(P$36)*COS($G$11)*COS($D51))+COS(P$36)*SIN($G$11)*SIN($G$12)*SIN($D51) -> 0.25383859 | BM51: =COS(RADIANS(90-E51)) -> 0.28922335 | BN51: =COS(RADIANS(90-F51)) -> 0.41901529 | BO51: =COS(RADIANS(90-G51)) -> 0.57162788 | BP51: =COS(RADIANS(90-H51)) -> 0.7256259 | BQ51: =COS(RADIANS(90-I51)) -> 0.82534072 | BR51: =COS(RADIANS(90-J51)) -> 0.86734024 | BS51: =COS(RADIANS(90-K51)) -> 0.85183466 | BT51: =COS(RADIANS(90-L51)) -> 0.77589369 | ... BX51: =COS(RADIANS(90-P51)) -> 0.25421382 | BY51: =IF(BM51=$BM$40,0,BM51) -> 0.28922335 | BZ51: =IF(BN51=$BM$40,0,BN51) -> 0.41901529 | CA51: =IF(BO51=$BM$40,0,BO51) -> 0.57162788 | CB51: =IF(BP51=$BM$40,0,BP51) -> 0.7256259 | CC51: =IF(BQ51=$BM$40,0,BQ51) -> 0.82534072 | CD51: =IF(BR51=$BM$40,0,BR51) -> 0.86734024 | CE51: =IF(BS51=$BM$40,0,BS51) -> 0.85183466 | CF51: =IF(BT51=$BM$40,0,BT51) -> 0.77589369 | ... CJ51: =IF(BX51=$BM$40,0,BX51) -> 0.25421382 | CK51: =MAX(0,1353*(1+0.033*COS(RADIANS(360*E$35/365)))*EXP(-AO51*AC51*Q51)) -> 633.41153 | CL51: =MAX(0,1353*(1+0.033*COS(RADIANS(360*F$35/365)))*EXP(-AP51*AD51*R51)) -> 734.71033 | CM51: =MAX(0,1353*(1+0.033*COS(RADIANS(360*G$35/365)))*EXP(-AQ51*AE51*S51)) -> 811.9849 | CN51: =MAX(0,1353*(1+0.033*COS(RADIANS(360*H$35/365)))*EXP(-AR51*AF51*T51)) -> 855.25694 | CO51: =MAX(0,1353*(1+0.033*COS(RADIANS(360*I$35/365)))*EXP(-AS51*AG51*U51)) -> 867.60484 | CP51: =MAX(0,1353*(1+0.033*COS(RADIANS(360*J$35/365)))*EXP(-AT51*AH51*V51)) -> 870.18711 | CQ51: =MAX(0,1353*(1+0.033*COS(RADIANS(360*K$35/365)))*EXP(-AU51*AI51*W51)) -> 868.23179 | CR51: =MAX(0,1353*(1+0.033*COS(RADIANS(360*L$35/365)))*EXP(-AV51*AJ51*X51)) -> 860.20622 | ... CV51: =MAX(0,1353*(1+0.033*COS(RADIANS(360*P$35/365)))*EXP(-AZ51*AN51*AB51)) -> 599.58698 | CW51: =IF(AND(BY51>0,BA51>0),1,0) -> 1 | CX51: =IF(AND(BZ51>0,BB51>0),1,0) -> 1 | CY51: =IF(AND(CA51>0,BC51>0),1,0) -> 1 | CZ51: =IF(AND(CB51>0,BD51>0),1,0) -> 1 | DA51: =IF(AND(CC51>0,BE51>0),1,0) -> 1 | DB51: =IF(AND(CD51>0,BF51>0),1,0) -> 1 | DC51: =IF(AND(CE51>0,BG51>0),1,0) -> 1 | DD51: =IF(AND(CF51>0,BH51>0),1,0) -> 1 | ... DH51: =IF(AND(CJ51>0,BL51>0),1,0) -> 1 | DI51: =IF(BY51>0,1,0) -> 1 | DJ51: =IF(BZ51>0,1,0) -> 1 | DK51: =IF(CA51>0,1,0) -> 1 | DL51: =IF(CB51>0,1,0) -> 1 | DM51: =IF(CC51>0,1,0) -> 1 | DN51: =IF(CD51>0,1,0) -> 1 | DO51: =IF(CE51>0,1,0) -> 1 | DP51: =IF(CF51>0,1,0) -> 1 | ... DT51: =IF(CJ51>0,1,0) -> 1 | DU51: =CW51*MAX(0,(CK51*BA51*15)) -> 2744.4471 | DV51: =CX51*MAX(0,(CL51*BB51*15)) -> 4614.0244 | DW51: =CY51*MAX(0,(CM51*BC51*15)) -> 6958.609 | DX51: =CZ51*MAX(0,(CN51*BD51*15)) -> 9305.8415 | DY51: =DA51*MAX(0,(CO51*BE51*15)) -> 10738.614 | DZ51: =DB51*MAX(0,(CP51*BF51*15)) -> 11319.179 | EA51: =DC51*MAX(0,(CQ51*BG51*15)) -> 11091.655 | EB51: =DD51*MAX(0,(CR51*BH51*15)) -> 10008.636 | ... EF51: =DH51*MAX(0,(CV51*BL51*15)) -> 2282.9747 | EG51: =DI51*MAX(0,(CK51*BY51*15)) -> 2747.961 | EH51: =DJ51*MAX(0,(CL51*BZ51*15)) -> 4617.8229 | EI51: =DK51*MAX(0,(CM51*CA51*15)) -> 6962.2981 | EJ51: =DL51*MAX(0,(CN51*CB51*15)) -> 9308.9489 | EK51: =DM51*MAX(0,(CO51*CC51*15)) -> 10741.044 | EL51: =DN51*MAX(0,(CP51*CD51*15)) -> 11321.224 | EM51: =DO51*MAX(0,(CQ51*CE51*15)) -> 11093.849 | EN51: =DP51*MAX(0,(CR51*CF51*15)) -> 10011.429 | ... ER51: =DT51*MAX(0,(CV51*CJ51*15)) -> 2286.3494
B52: 0.5 | C52: =C51-15 -> 0 | D52: =RADIANS(C52) -> 0 | E52: =MAX(0,90-DEGREES(ACOS(COS($G$10)*COS(E$36)*COS($D52)+SIN($G$10)*SIN(E$36)))) -> 18.017655 | F52: =MAX(0,90-DEGREES(ACOS(COS($G$10)*COS(F$36)*COS($D52)+SIN($G$10)*SIN(F$36)))) -> 26.103773 | G52: =MAX(0,90-DEGREES(ACOS(COS($G$10)*COS(G$36)*COS($D52)+SIN($G$10)*SIN(G$36)))) -> 36.380614 | H52: =MAX(0,90-DEGREES(ACOS(COS($G$10)*COS(H$36)*COS($D52)+SIN($G$10)*SIN(H$36)))) -> 48.322527 | I52: =MAX(0,90-DEGREES(ACOS(COS($G$10)*COS(I$36)*COS($D52)+SIN($G$10)*SIN(I$36)))) -> 57.754351 | J52: =MAX(0,90-DEGREES(ACOS(COS($G$10)*COS(J$36)*COS($D52)+SIN($G$10)*SIN(J$36)))) -> 62.514672 | K52: =MAX(0,90-DEGREES(ACOS(COS($G$10)*COS(K$36)*COS($D52)+SIN($G$10)*SIN(K$36)))) -> 60.678585 | L52: =MAX(0,90-DEGREES(ACOS(COS($G$10)*COS(L$36)*COS($D52)+SIN($G$10)*SIN(L$36)))) -> 52.828817 | ... P52: =MAX(0,90-DEGREES(ACOS(COS($G$10)*COS(P$36)*COS($D52)+SIN($G$10)*SIN(P$36)))) -> 15.902382 | Q52: =3.372+0.053*(PI()*E52/180)-0.296*COS(RADIANS(30*E$22)) -> 3.1323233 | R52: =3.372+0.053*(PI()*F52/180)-0.296*COS(RADIANS(30*F$22)) -> 3.2481466 | S52: =3.372+0.053*(PI()*G52/180)-0.296*COS(RADIANS(30*G$22)) -> 3.405653 | T52: =3.372+0.053*(PI()*H52/180)-0.296*COS(RADIANS(30*H$22)) -> 3.5646995 | U52: =3.372+0.053*(PI()*I52/180)-0.296*COS(RADIANS(30*I$22)) -> 3.6817677 | V52: =3.372+0.053*(PI()*J52/180)-0.296*COS(RADIANS(30*J$22)) -> 3.7258276 | W52: =3.372+0.053*(PI()*K52/180)-0.296*COS(RADIANS(30*K$22)) -> 3.6844727 | X52: =3.372+0.053*(PI()*L52/180)-0.296*COS(RADIANS(30*L$22)) -> 3.568868 | ... AB52: =3.372+0.053*(PI()*P52/180)-0.296*COS(RADIANS(30*P$22)) -> 3.0907101 | AC52: =1.4899-2.1099*COS(RADIANS(E52))+0.6322*COS(RADIANS(2*E52))+0.0253*COS(RADIANS(3*E52))-1.0022*SIN(RADIANS(E52))+1.0077*SIN(RADIANS(2*E52))-0.2606*SIN(RADIANS(3*E52)) -> 0.081401982 | AD52: =1.4899-2.1099*COS(RADIANS(F52))+0.6322*COS(RADIANS(2*F52))+0.0253*COS(RADIANS(3*F52))-1.0022*SIN(RADIANS(F52))+1.0077*SIN(RADIANS(2*F52))-0.2606*SIN(RADIANS(3*F52)) -> 0.087910758 | AE52: =1.4899-2.1099*COS(RADIANS(G52))+0.6322*COS(RADIANS(2*G52))+0.0253*COS(RADIANS(3*G52))-1.0022*SIN(RADIANS(G52))+1.0077*SIN(RADIANS(2*G52))-0.2606*SIN(RADIANS(3*G52)) -> 0.092079588 | AF52: =1.4899-2.1099*COS(RADIANS(H52))+0.6322*COS(RADIANS(2*H52))+0.0253*COS(RADIANS(3*H52))-1.0022*SIN(RADIANS(H52))+1.0077*SIN(RADIANS(2*H52))-0.2606*SIN(RADIANS(3*H52)) -> 0.095869267 | AG52: =1.4899-2.1099*COS(RADIANS(I52))+0.6322*COS(RADIANS(2*I52))+0.0253*COS(RADIANS(3*I52))-1.0022*SIN(RADIANS(I52))+1.0077*SIN(RADIANS(2*I52))-0.2606*SIN(RADIANS(3*I52)) -> 0.09805013 | AH52: =1.4899-2.1099*COS(RADIANS(J52))+0.6322*COS(RADIANS(2*J52))+0.0253*COS(RADIANS(3*J52))-1.0022*SIN(RADIANS(J52))+1.0077*SIN(RADIANS(2*J52))-0.2606*SIN(RADIANS(3*J52)) -> 0.098470926 | AI52: =1.4899-2.1099*COS(RADIANS(K52))+0.6322*COS(RADIANS(2*K52))+0.0253*COS(RADIANS(3*K52))-1.0022*SIN(RADIANS(K52))+1.0077*SIN(RADIANS(2*K52))-0.2606*SIN(RADIANS(3*K52)) -> 0.098369718 | AJ52: =1.4899-2.1099*COS(RADIANS(L52))+0.6322*COS(RADIANS(2*L52))+0.0253*COS(RADIANS(3*L52))-1.0022*SIN(RADIANS(L52))+1.0077*SIN(RADIANS(2*L52))-0.2606*SIN(RADIANS(3*L52)) -> 0.097092194 | ... AN52: =1.4899-2.1099*COS(RADIANS(P52))+0.6322*COS(RADIANS(2*P52))+0.0253*COS(RADIANS(3*P52))-1.0022*SIN(RADIANS(P52))+1.0077*SIN(RADIANS(2*P52))-0.2606*SIN(RADIANS(3*P52)) -> 0.078758213 | AO52: =0.992/(SIN(RADIANS(E52))+0.15*(PI()*E52/180+3.885)^(-1.253)) -> 2.9686871 | AP52: =0.992/(SIN(RADIANS(F52))+0.15*(PI()*F52/180+3.885)^(-1.253)) -> 2.1386926 | AQ52: =0.992/(SIN(RADIANS(G52))+0.15*(PI()*G52/180+3.885)^(-1.253)) -> 1.6109027 | AR52: =0.992/(SIN(RADIANS(H52))+0.15*(PI()*H52/180+3.885)^(-1.253)) -> 1.2911411 | AS52: =0.992/(SIN(RADIANS(I52))+0.15*(PI()*I52/180+3.885)^(-1.253)) -> 1.145123 | AT52: =0.992/(SIN(RADIANS(J52))+0.15*(PI()*J52/180+3.885)^(-1.253)) -> 1.0934564 | AU52: =0.992/(SIN(RADIANS(K52))+0.15*(PI()*K52/180+3.885)^(-1.253)) -> 1.1119388 | AV52: =0.992/(SIN(RADIANS(L52))+0.15*(PI()*L52/180+3.885)^(-1.253)) -> 1.2129975 | ... AZ52: =0.992/(SIN(RADIANS(P52))+0.15*(PI()*P52/180+3.885)^(-1.253)) -> 3.3163943 | BA52: =0.775*(SIN(E$36)*COS($G$11)+COS(E$36)*SIN($G$11)*COS($G$12)*COS($D52))-0.632*(SIN(E$36)*SIN($G$11)*COS($G$12)-COS(E$36)*COS($G$11)*COS($D52))+COS(E$36)*SIN($G$11)*SIN($G$12)*SIN($D52) -> 0.30893067 | BB52: =0.775*(SIN(F$36)*COS($G$11)+COS(F$36)*SIN($G$11)*COS($G$12)*COS($D52))-0.632*(SIN(F$36)*SIN($G$11)*COS($G$12)-COS(F$36)*COS($G$11)*COS($D52))+COS(F$36)*SIN($G$11)*SIN($G$12)*SIN($D52) -> 0.43964368 | BC52: =0.775*(SIN(G$36)*COS($G$11)+COS(G$36)*SIN($G$11)*COS($G$12)*COS($D52))-0.632*(SIN(G$36)*SIN($G$11)*COS($G$12)-COS(G$36)*COS($G$11)*COS($D52))+COS(G$36)*SIN($G$11)*SIN($G$12)*SIN($D52) -> 0.59283343 | BD52: =0.775*(SIN(H$36)*COS($G$11)+COS(H$36)*SIN($G$11)*COS($G$12)*COS($D52))-0.632*(SIN(H$36)*SIN($G$11)*COS($G$12)-COS(H$36)*COS($G$11)*COS($D52))+COS(H$36)*SIN($G$11)*SIN($G$12)*SIN($D52) -> 0.74664737 | BE52: =0.775*(SIN(I$36)*COS($G$11)+COS(I$36)*SIN($G$11)*COS($G$12)*COS($D52))-0.632*(SIN(I$36)*SIN($G$11)*COS($G$12)-COS(I$36)*COS($G$11)*COS($D52))+COS(I$36)*SIN($G$11)*SIN($G$12)*SIN($D52) -> 0.84557191 | BF52: =0.775*(SIN(J$36)*COS($G$11)+COS(J$36)*SIN($G$11)*COS($G$12)*COS($D52))-0.632*(SIN(J$36)*SIN($G$11)*COS($G$12)-COS(J$36)*COS($G$11)*COS($D52))+COS(J$36)*SIN($G$11)*SIN($G$12)*SIN($D52) -> 0.88696293 | BG52: =0.775*(SIN(K$36)*COS($G$11)+COS(K$36)*SIN($G$11)*COS($G$12)*COS($D52))-0.632*(SIN(K$36)*SIN($G$11)*COS($G$12)-COS(K$36)*COS($G$11)*COS($D52))+COS(K$36)*SIN($G$11)*SIN($G$12)*SIN($D52) -> 0.87170834 | BH52: =0.775*(SIN(L$36)*COS($G$11)+COS(L$36)*SIN($G$11)*COS($G$12)*COS($D52))-0.632*(SIN(L$36)*SIN($G$11)*COS($G$12)-COS(L$36)*COS($G$11)*COS($D52))+COS(L$36)*SIN($G$11)*SIN($G$12)*SIN($D52) -> 0.79660753 | ... BL52: =0.775*(SIN(P$36)*COS($G$11)+COS(P$36)*SIN($G$11)*COS($G$12)*COS($D52))-0.632*(SIN(P$36)*SIN($G$11)*COS($G$12)-COS(P$36)*COS($G$11)*COS($D52))+COS(P$36)*SIN($G$11)*SIN($G$12)*SIN($D52) -> 0.2736146 | BM52: =COS(RADIANS(90-E52)) -> 0.30931003 | BN52: =COS(RADIANS(90-F52)) -> 0.43999831 | BO52: =COS(RADIANS(90-G52)) -> 0.59314652 | BP52: =COS(RADIANS(90-H52)) -> 0.74689967 | BQ52: =COS(RADIANS(90-I52)) -> 0.84576834 | BR52: =COS(RADIANS(90-J52)) -> 0.88712905 | BS52: =COS(RADIANS(90-K52)) -> 0.8718863 | BT52: =COS(RADIANS(90-L52)) -> 0.7968339 | ... BX52: =COS(RADIANS(90-P52)) -> 0.27399921 | BY52: =IF(BM52=$BM$40,0,BM52) -> 0.30931003 | BZ52: =IF(BN52=$BM$40,0,BN52) -> 0.43999831 | CA52: =IF(BO52=$BM$40,0,BO52) -> 0.59314652 | CB52: =IF(BP52=$BM$40,0,BP52) -> 0.74689967 | CC52: =IF(BQ52=$BM$40,0,BQ52) -> 0.84576834 | CD52: =IF(BR52=$BM$40,0,BR52) -> 0.88712905 | CE52: =IF(BS52=$BM$40,0,BS52) -> 0.8718863 | CF52: =IF(BT52=$BM$40,0,BT52) -> 0.7968339 | ... CJ52: =IF(BX52=$BM$40,0,BX52) -> 0.27399921 | CK52: =MAX(0,1353*(1+0.033*COS(RADIANS(360*E$35/365)))*EXP(-AO52*AC52*Q52)) -> 654.93717 | CL52: =MAX(0,1353*(1+0.033*COS(RADIANS(360*F$35/365)))*EXP(-AP52*AD52*R52)) -> 751.67275 | CM52: =MAX(0,1353*(1+0.033*COS(RADIANS(360*G$35/365)))*EXP(-AQ52*AE52*S52)) -> 824.29158 | CN52: =MAX(0,1353*(1+0.033*COS(RADIANS(360*H$35/365)))*EXP(-AR52*AF52*T52)) -> 863.56582 | CO52: =MAX(0,1353*(1+0.033*COS(RADIANS(360*I$35/365)))*EXP(-AS52*AG52*U52)) -> 874.68586 | CP52: =MAX(0,1353*(1+0.033*COS(RADIANS(360*J$35/365)))*EXP(-AT52*AH52*V52)) -> 877.18308 | CQ52: =MAX(0,1353*(1+0.033*COS(RADIANS(360*K$35/365)))*EXP(-AU52*AI52*W52)) -> 875.1787 | CR52: =MAX(0,1353*(1+0.033*COS(RADIANS(360*L$35/365)))*EXP(-AV52*AJ52*X52)) -> 867.56933 | ... CV52: =MAX(0,1353*(1+0.033*COS(RADIANS(360*P$35/365)))*EXP(-AZ52*AN52*AB52)) -> 622.70276 | CW52: =IF(AND(BY52>0,BA52>0),1,0) -> 1 | CX52: =IF(AND(BZ52>0,BB52>0),1,0) -> 1 | CY52: =IF(AND(CA52>0,BC52>0),1,0) -> 1 | CZ52: =IF(AND(CB52>0,BD52>0),1,0) -> 1 | DA52: =IF(AND(CC52>0,BE52>0),1,0) -> 1 | DB52: =IF(AND(CD52>0,BF52>0),1,0) -> 1 | DC52: =IF(AND(CE52>0,BG52>0),1,0) -> 1 | DD52: =IF(AND(CF52>0,BH52>0),1,0) -> 1 | ... DH52: =IF(AND(CJ52>0,BL52>0),1,0) -> 1 | DI52: =IF(BY52>0,1,0) -> 1 | DJ52: =IF(BZ52>0,1,0) -> 1 | DK52: =IF(CA52>0,1,0) -> 1 | DL52: =IF(CB52>0,1,0) -> 1 | DM52: =IF(CC52>0,1,0) -> 1 | DN52: =IF(CD52>0,1,0) -> 1 | DO52: =IF(CE52>0,1,0) -> 1 | DP52: =IF(CF52>0,1,0) -> 1 | ... DT52: =IF(CJ52>0,1,0) -> 1 | DU52: =CW52*MAX(0,(CK52*BA52*15)) -> 3034.9527 | DV52: =CX52*MAX(0,(CL52*BB52*15)) -> 4957.0226 | DW52: =CY52*MAX(0,(CM52*BC52*15)) -> 7330.0141 | DX52: =CZ52*MAX(0,(CN52*BD52*15)) -> 9671.6872 | DY52: =DA52*MAX(0,(CO52*BE52*15)) -> 11094.147 | DZ52: =DB52*MAX(0,(CP52*BF52*15)) -> 11670.433 | EA52: =DC52*MAX(0,(CQ52*BG52*15)) -> 11443.509 | EB52: =DD52*MAX(0,(CR52*BH52*15)) -> 10366.684 | ... EF52: =DH52*MAX(0,(CV52*BL52*15)) -> 2555.7085 | EG52: =DI52*MAX(0,(CK52*BY52*15)) -> 3038.6795 | EH52: =DJ52*MAX(0,(CL52*BZ52*15)) -> 4961.021 | EI52: =DK52*MAX(0,(CM52*CA52*15)) -> 7333.8852 | EJ52: =DL52*MAX(0,(CN52*CB52*15)) -> 9674.9554 | EK52: =DM52*MAX(0,(CO52*CC52*15)) -> 11096.724 | EL52: =DN52*MAX(0,(CP52*CD52*15)) -> 11672.619 | EM52: =DO52*MAX(0,(CQ52*CE52*15)) -> 11445.845 | EN52: =DP52*MAX(0,(CR52*CF52*15)) -> 10369.63 | ... ER52: =DT52*MAX(0,(CV52*CJ52*15)) -> 2559.3009
... B63: 0.95833333 | C63: =C62-15 -> -165 | D63: =RADIANS(C63) -> -2.8797933 | E63: =MAX(0,90-DEGREES(ACOS(COS($G$10)*COS(E$36)*COS($D63)+SIN($G$10)*SIN(E$36)))) -> 0 | F63: =MAX(0,90-DEGREES(ACOS(COS($G$10)*COS(F$36)*COS($D63)+SIN($G$10)*SIN(F$36)))) -> 0 | G63: =MAX(0,90-DEGREES(ACOS(COS($G$10)*COS(G$36)*COS($D63)+SIN($G$10)*SIN(G$36)))) -> 0 | H63: =MAX(0,90-DEGREES(ACOS(COS($G$10)*COS(H$36)*COS($D63)+SIN($G$10)*SIN(H$36)))) -> 0 | I63: =MAX(0,90-DEGREES(ACOS(COS($G$10)*COS(I$36)*COS($D63)+SIN($G$10)*SIN(I$36)))) -> 0 | J63: =MAX(0,90-DEGREES(ACOS(COS($G$10)*COS(J$36)*COS($D63)+SIN($G$10)*SIN(J$36)))) -> 0 | K63: =MAX(0,90-DEGREES(ACOS(COS($G$10)*COS(K$36)*COS($D63)+SIN($G$10)*SIN(K$36)))) -> 0 | L63: =MAX(0,90-DEGREES(ACOS(COS($G$10)*COS(L$36)*COS($D63)+SIN($G$10)*SIN(L$36)))) -> 0 | ... P63: =MAX(0,90-DEGREES(ACOS(COS($G$10)*COS(P$36)*COS($D63)+SIN($G$10)*SIN(P$36)))) -> 0 | Q63: =3.372+0.053*(PI()*E63/180)-0.296*COS(RADIANS(30*E$22)) -> 3.1156565 | R63: =3.372+0.053*(PI()*F63/180)-0.296*COS(RADIANS(30*F$22)) -> 3.224 | S63: =3.372+0.053*(PI()*G63/180)-0.296*COS(RADIANS(30*G$22)) -> 3.372 | T63: =3.372+0.053*(PI()*H63/180)-0.296*COS(RADIANS(30*H$22)) -> 3.52 | U63: =3.372+0.053*(PI()*I63/180)-0.296*COS(RADIANS(30*I$22)) -> 3.6283435 | V63: =3.372+0.053*(PI()*J63/180)-0.296*COS(RADIANS(30*J$22)) -> 3.668 | W63: =3.372+0.053*(PI()*K63/180)-0.296*COS(RADIANS(30*K$22)) -> 3.6283435 | X63: =3.372+0.053*(PI()*L63/180)-0.296*COS(RADIANS(30*L$22)) -> 3.52 | ... AB63: =3.372+0.053*(PI()*P63/180)-0.296*COS(RADIANS(30*P$22)) -> 3.076 | AC63: =1.4899-2.1099*COS(RADIANS(E63))+0.6322*COS(RADIANS(2*E63))+0.0253*COS(RADIANS(3*E63))-1.0022*SIN(RADIANS(E63))+1.0077*SIN(RADIANS(2*E63))-0.2606*SIN(RADIANS(3*E63)) -> 0.0375 | AD63: =1.4899-2.1099*COS(RADIANS(F63))+0.6322*COS(RADIANS(2*F63))+0.0253*COS(RADIANS(3*F63))-1.0022*SIN(RADIANS(F63))+1.0077*SIN(RADIANS(2*F63))-0.2606*SIN(RADIANS(3*F63)) -> 0.0375 | AE63: =1.4899-2.1099*COS(RADIANS(G63))+0.6322*COS(RADIANS(2*G63))+0.0253*COS(RADIANS(3*G63))-1.0022*SIN(RADIANS(G63))+1.0077*SIN(RADIANS(2*G63))-0.2606*SIN(RADIANS(3*G63)) -> 0.0375 | AF63: =1.4899-2.1099*COS(RADIANS(H63))+0.6322*COS(RADIANS(2*H63))+0.0253*COS(RADIANS(3*H63))-1.0022*SIN(RADIANS(H63))+1.0077*SIN(RADIANS(2*H63))-0.2606*SIN(RADIANS(3*H63)) -> 0.0375 | AG63: =1.4899-2.1099*COS(RADIANS(I63))+0.6322*COS(RADIANS(2*I63))+0.0253*COS(RADIANS(3*I63))-1.0022*SIN(RADIANS(I63))+1.0077*SIN(RADIANS(2*I63))-0.2606*SIN(RADIANS(3*I63)) -> 0.0375 | AH63: =1.4899-2.1099*COS(RADIANS(J63))+0.6322*COS(RADIANS(2*J63))+0.0253*COS(RADIANS(3*J63))-1.0022*SIN(RADIANS(J63))+1.0077*SIN(RADIANS(2*J63))-0.2606*SIN(RADIANS(3*J63)) -> 0.0375 | AI63: =1.4899-2.1099*COS(RADIANS(K63))+0.6322*COS(RADIANS(2*K63))+0.0253*COS(RADIANS(3*K63))-1.0022*SIN(RADIANS(K63))+1.0077*SIN(RADIANS(2*K63))-0.2606*SIN(RADIANS(3*K63)) -> 0.0375 | AJ63: =1.4899-2.1099*COS(RADIANS(L63))+0.6322*COS(RADIANS(2*L63))+0.0253*COS(RADIANS(3*L63))-1.0022*SIN(RADIANS(L63))+1.0077*SIN(RADIANS(2*L63))-0.2606*SIN(RADIANS(3*L63)) -> 0.0375 | ... AN63: =1.4899-2.1099*COS(RADIANS(P63))+0.6322*COS(RADIANS(2*P63))+0.0253*COS(RADIANS(3*P63))-1.0022*SIN(RADIANS(P63))+1.0077*SIN(RADIANS(2*P63))-0.2606*SIN(RADIANS(3*P63)) -> 0.0375 | AO63: =0.992/(SIN(RADIANS(E63))+0.15*(PI()*E63/180+3.885)^(-1.253)) -> 36.218242 | AP63: =0.992/(SIN(RADIANS(F63))+0.15*(PI()*F63/180+3.885)^(-1.253)) -> 36.218242 | AQ63: =0.992/(SIN(RADIANS(G63))+0.15*(PI()*G63/180+3.885)^(-1.253)) -> 36.218242 | AR63: =0.992/(SIN(RADIANS(H63))+0.15*(PI()*H63/180+3.885)^(-1.253)) -> 36.218242 | AS63: =0.992/(SIN(RADIANS(I63))+0.15*(PI()*I63/180+3.885)^(-1.253)) -> 36.218242 | AT63: =0.992/(SIN(RADIANS(J63))+0.15*(PI()*J63/180+3.885)^(-1.253)) -> 36.218242 | AU63: =0.992/(SIN(RADIANS(K63))+0.15*(PI()*K63/180+3.885)^(-1.253)) -> 36.218242 | AV63: =0.992/(SIN(RADIANS(L63))+0.15*(PI()*L63/180+3.885)^(-1.253)) -> 36.218242 | ... AZ63: =0.992/(SIN(RADIANS(P63))+0.15*(PI()*P63/180+3.885)^(-1.253)) -> 36.218242 | BA63: =0.775*(SIN(E$36)*COS($G$11)+COS(E$36)*SIN($G$11)*COS($G$12)*COS($D63))-0.632*(SIN(E$36)*SIN($G$11)*COS($G$12)-COS(E$36)*COS($G$11)*COS($D63))+COS(E$36)*SIN($G$11)*SIN($G$12)*SIN($D63) -> -0.84943075 | BB63: =0.775*(SIN(F$36)*COS($G$11)+COS(F$36)*SIN($G$11)*COS($G$12)*COS($D63))-0.632*(SIN(F$36)*SIN($G$11)*COS($G$12)-COS(F$36)*COS($G$11)*COS($D63))+COS(F$36)*SIN($G$11)*SIN($G$12)*SIN($D63) -> -0.77040768 | BC63: =0.775*(SIN(G$36)*COS($G$11)+COS(G$36)*SIN($G$11)*COS($G$12)*COS($D63))-0.632*(SIN(G$36)*SIN($G$11)*COS($G$12)-COS(G$36)*COS($G$11)*COS($D63))+COS(G$36)*SIN($G$11)*SIN($G$12)*SIN($D63) -> -0.64810634 | BD63: =0.775*(SIN(H$36)*COS($G$11)+COS(H$36)*SIN($G$11)*COS($G$12)*COS($D63))-0.632*(SIN(H$36)*SIN($G$11)*COS($G$12)-COS(H$36)*COS($G$11)*COS($D63))+COS(H$36)*SIN($G$11)*SIN($G$12)*SIN($D63) -> -0.48017118 | BE63: =0.775*(SIN(I$36)*COS($G$11)+COS(I$36)*SIN($G$11)*COS($G$12)*COS($D63))-0.632*(SIN(I$36)*SIN($G$11)*COS($G$12)-COS(I$36)*COS($G$11)*COS($D63))+COS(I$36)*SIN($G$11)*SIN($G$12)*SIN($D63) -> -0.33245058 | BF63: =0.775*(SIN(J$36)*COS($G$11)+COS(J$36)*SIN($G$11)*COS($G$12)*COS($D63))-0.632*(SIN(J$36)*SIN($G$11)*COS($G$12)-COS(J$36)*COS($G$11)*COS($D63))+COS(J$36)*SIN($G$11)*SIN($G$12)*SIN($D63) -> -0.25422036 | BG63: =0.775*(SIN(K$36)*COS($G$11)+COS(K$36)*SIN($G$11)*COS($G$12)*COS($D63))-0.632*(SIN(K$36)*SIN($G$11)*COS($G$12)-COS(K$36)*COS($G$11)*COS($D63))+COS(K$36)*SIN($G$11)*SIN($G$12)*SIN($D63) -> -0.28463189 | BH63: =0.775*(SIN(L$36)*COS($G$11)+COS(L$36)*SIN($G$11)*COS($G$12)*COS($D63))-0.632*(SIN(L$36)*SIN($G$11)*COS($G$12)-COS(L$36)*COS($G$11)*COS($D63))+COS(L$36)*SIN($G$11)*SIN($G$12)*SIN($D63) -> -0.41097514 | ... BL63: =0.775*(SIN(P$36)*COS($G$11)+COS(P$36)*SIN($G$11)*COS($G$12)*COS($D63))-0.632*(SIN(P$36)*SIN($G$11)*COS($G$12)-COS(P$36)*COS($G$11)*COS($D63))+COS(P$36)*SIN($G$11)*SIN($G$12)*SIN($D63) -> -0.86737182 | BM63: =COS(RADIANS(90-E63)) -> 6.1257423e-17 | BN63: =COS(RADIANS(90-F63)) -> 6.1257423e-17 | BO63: =COS(RADIANS(90-G63)) -> 6.1257423e-17 | BP63: =COS(RADIANS(90-H63)) -> 6.1257423e-17 | BQ63: =COS(RADIANS(90-I63)) -> 6.1257423e-17 | BR63: =COS(RADIANS(90-J63)) -> 6.1257423e-17 | BS63: =COS(RADIANS(90-K63)) -> 6.1257423e-17 | BT63: =COS(RADIANS(90-L63)) -> 6.1257423e-17 | ... BX63: =COS(RADIANS(90-P63)) -> 6.1257423e-17 | BY63: =IF(BM63=$BM$40,0,BM63) -> 0 | BZ63: =IF(BN63=$BM$40,0,BN63) -> 0 | CA63: =IF(BO63=$BM$40,0,BO63) -> 0 | CB63: =IF(BP63=$BM$40,0,BP63) -> 0 | CC63: =IF(BQ63=$BM$40,0,BQ63) -> 0 | CD63: =IF(BR63=$BM$40,0,BR63) -> 0 | CE63: =IF(BS63=$BM$40,0,BS63) -> 0 | CF63: =IF(BT63=$BM$40,0,BT63) -> 0 | ... CJ63: =IF(BX63=$BM$40,0,BX63) -> 0 | CK63: =MAX(0,1353*(1+0.033*COS(RADIANS(360*E$35/365)))*EXP(-AO63*AC63*Q63)) -> 20.284401 | CL63: =MAX(0,1353*(1+0.033*COS(RADIANS(360*F$35/365)))*EXP(-AP63*AD63*R63)) -> 17.360768 | CM63: =MAX(0,1353*(1+0.033*COS(RADIANS(360*G$35/365)))*EXP(-AQ63*AE63*S63)) -> 14.011696 | CN63: =MAX(0,1353*(1+0.033*COS(RADIANS(360*H$35/365)))*EXP(-AR63*AF63*T63)) -> 11.262779 | CO63: =MAX(0,1353*(1+0.033*COS(RADIANS(360*I$35/365)))*EXP(-AS63*AG63*U63)) -> 9.5763195 | CP63: =MAX(0,1353*(1+0.033*COS(RADIANS(360*J$35/365)))*EXP(-AT63*AH63*V63)) -> 8.9896155 | CQ63: =MAX(0,1353*(1+0.033*COS(RADIANS(360*K$35/365)))*EXP(-AU63*AI63*W63)) -> 9.4828169 | CR63: =MAX(0,1353*(1+0.033*COS(RADIANS(360*L$35/365)))*EXP(-AV63*AJ63*X63)) -> 11.080672 | ... CV63: =MAX(0,1353*(1+0.033*COS(RADIANS(360*P$35/365)))*EXP(-AZ63*AN63*AB63)) -> 21.403786 | CW63: =IF(AND(BY63>0,BA63>0),1,0) -> 0 | CX63: =IF(AND(BZ63>0,BB63>0),1,0) -> 0 | CY63: =IF(AND(CA63>0,BC63>0),1,0) -> 0 | CZ63: =IF(AND(CB63>0,BD63>0),1,0) -> 0 | DA63: =IF(AND(CC63>0,BE63>0),1,0) -> 0 | DB63: =IF(AND(CD63>0,BF63>0),1,0) -> 0 | DC63: =IF(AND(CE63>0,BG63>0),1,0) -> 0 | DD63: =IF(AND(CF63>0,BH63>0),1,0) -> 0 | ... DH63: =IF(AND(CJ63>0,BL63>0),1,0) -> 0 | DI63: =IF(BY63>0,1,0) -> 0 | DJ63: =IF(BZ63>0,1,0) -> 0 | DK63: =IF(CA63>0,1,0) -> 0 | DL63: =IF(CB63>0,1,0) -> 0 | DM63: =IF(CC63>0,1,0) -> 0 | DN63: =IF(CD63>0,1,0) -> 0 | DO63: =IF(CE63>0,1,0) -> 0 | DP63: =IF(CF63>0,1,0) -> 0 | ... DT63: =IF(CJ63>0,1,0) -> 0 | DU63: =CW63*MAX(0,(CK63*BA63*15)) -> 0 | DV63: =CX63*MAX(0,(CL63*BB63*15)) -> 0 | DW63: =CY63*MAX(0,(CM63*BC63*15)) -> 0 | DX63: =CZ63*MAX(0,(CN63*BD63*15)) -> 0 | DY63: =DA63*MAX(0,(CO63*BE63*15)) -> 0 | DZ63: =DB63*MAX(0,(CP63*BF63*15)) -> 0 | EA63: =DC63*MAX(0,(CQ63*BG63*15)) -> 0 | EB63: =DD63*MAX(0,(CR63*BH63*15)) -> 0 | ... EF63: =DH63*MAX(0,(CV63*BL63*15)) -> 0 | EG63: =DI63*MAX(0,(CK63*BY63*15)) -> 0 | EH63: =DJ63*MAX(0,(CL63*BZ63*15)) -> 0 | EI63: =DK63*MAX(0,(CM63*CA63*15)) -> 0 | EJ63: =DL63*MAX(0,(CN63*CB63*15)) -> 0 | EK63: =DM63*MAX(0,(CO63*CC63*15)) -> 0 | EL63: =DN63*MAX(0,(CP63*CD63*15)) -> 0 | EM63: =DO63*MAX(0,(CQ63*CE63*15)) -> 0 | EN63: =DP63*MAX(0,(CR63*CF63*15)) -> 0 | ... ER63: =DT63*MAX(0,(CV63*CJ63*15)) -> 0

Sheet Berekeningsresultaten
B2: Resultaten
B3: Op deze pagina bevinden zich alle rekenresultaten.
B4: Deze energiestromen worden ter informatie gegeven. Hier moet niets ingegeven of aangepast worden.
C6: jan | D6: feb | E6: maa | F6: apr | G6: mei | H6: jun | I6: jul | J6: aug | K6: sep | L6: okt | M6: nov | N6: dec | O6: totaal
B7: Ventilatie
B8: Qv,heat | C8: =Parameters!$B$57*(Parameters!B9-Parameters!B7)*Parameters!B$6 -> 35203.599 | D8: =Parameters!$B$57*(Parameters!C9-Parameters!C7)*Parameters!C$6 -> 30672.67 | E8: =Parameters!$B$57*(Parameters!D9-Parameters!D7)*Parameters!D$6 -> 30403.109 | F8: =Parameters!$B$57*(Parameters!E9-Parameters!E7)*Parameters!E$6 -> 23744.363 | G8: =Parameters!$B$57*(Parameters!F9-Parameters!F7)*Parameters!F$6 -> 17246.208 | H8: =Parameters!$B$57*(Parameters!G9-Parameters!G7)*Parameters!G$6 -> 11700.121 | I8: =Parameters!$B$57*(Parameters!H9-Parameters!H7)*Parameters!H$6 -> 9600.9816 | J8: =Parameters!$B$57*(Parameters!I9-Parameters!I7)*Parameters!I$6 -> 9600.9816 | ... N8: =Parameters!$B$57*(Parameters!M9-Parameters!M7)*Parameters!M$6 -> 34670.212 | O8: =SUM(C8:N8) -> 265977.02 | P8: MJ
B9: Qv,cool | C9: =Parameters!$B$58*(Parameters!B10-Parameters!B8)*Parameters!B6 -> 41819.7 | D9: =Parameters!$B$58*(Parameters!C10-Parameters!C8)*Parameters!C6 -> 37772.632 | E9: =Parameters!$B$58*(Parameters!D10-Parameters!D8)*Parameters!D6 -> 41819.7 | F9: =Parameters!$B$58*(Parameters!E10-Parameters!E8)*Parameters!E6 -> 40470.677 | G9: =Parameters!$B$58*(Parameters!F10-Parameters!F8)*Parameters!F6 -> 41819.7 | H9: =Parameters!$B$58*(Parameters!G10-Parameters!G8)*Parameters!G6 -> 27751.322 | I9: =Parameters!$B$58*(Parameters!H10-Parameters!H8)*Parameters!H6 -> 20312.426 | J9: =Parameters!$B$58*(Parameters!I10-Parameters!I8)*Parameters!I6 -> 20312.426 | ... N9: =Parameters!$B$58*(Parameters!M10-Parameters!M8)*Parameters!M6 -> 41819.7 | O9: =SUM(C9:N9) -> 429721.51 | P9: MJ
B11: Wfans,seci,m,heat | C11: =Parameters!$B$68*Parameters!$B$17*Parameters!B$6*Parameters!$B$18/3.6 -> 3487.686 | D11: =Parameters!$B$68*Parameters!$B$17*Parameters!C$6*Parameters!$B$18/3.6 -> 3150.168 | E11: =Parameters!$B$68*Parameters!$B$17*Parameters!D$6*Parameters!$B$18/3.6 -> 3487.686 | F11: =Parameters!$B$68*Parameters!$B$17*Parameters!E$6*Parameters!$B$18/3.6 -> 3375.18 | G11: =Parameters!$B$68*Parameters!$B$17*Parameters!F$6*Parameters!$B$18/3.6 -> 3487.686 | H11: =Parameters!$B$68*Parameters!$B$17*Parameters!G$6*Parameters!$B$18/3.6 -> 3375.18 | I11: =Parameters!$B$68*Parameters!$B$17*Parameters!H$6*Parameters!$B$18/3.6 -> 3487.686 | J11: =Parameters!$B$68*Parameters!$B$17*Parameters!I$6*Parameters!$B$18/3.6 -> 3487.686 | ... N11: =Parameters!$B$68*Parameters!$B$17*Parameters!M$6*Parameters!$B$18/3.6 -> 3487.686 | O11: =SUM(C11:N11) -> 41064.69 | P11: kWh
B12: Wfans,seci,m,heat | C12: =IF(Gegevensinvoer!$C$51=0,0,(0.8*Parameters!$B$70*Parameters!$B$71*Parameters!$B$72*Parameters!$B$17*Parameters!B$6*Parameters!$B$18)/(3.6*Parameters!$B$73)) -> 895.869 | D12: =IF(Gegevensinvoer!$C$51=0,0,(0.8*Parameters!$B$70*Parameters!$B$71*Parameters!$B$72*Parameters!$B$17*Parameters!C$6*Parameters!$B$18)/(3.6*Parameters!$B$73)) -> 809.172 | E12: =IF(Gegevensinvoer!$C$51=0,0,(0.8*Parameters!$B$70*Parameters!$B$71*Parameters!$B$72*Parameters!$B$17*Parameters!D$6*Parameters!$B$18)/(3.6*Parameters!$B$73)) -> 895.869 | F12: =IF(Gegevensinvoer!$C$51=0,0,(0.8*Parameters!$B$70*Parameters!$B$71*Parameters!$B$72*Parameters!$B$17*Parameters!E$6*Parameters!$B$18)/(3.6*Parameters!$B$73)) -> 866.97 | G12: =IF(Gegevensinvoer!$C$51=0,0,(0.8*Parameters!$B$70*Parameters!$B$71*Parameters!$B$72*Parameters!$B$17*Parameters!F$6*Parameters!$B$18)/(3.6*Parameters!$B$73)) -> 895.869 | H12: =IF(Gegevensinvoer!$C$51=0,0,(0.8*Parameters!$B$70*Parameters!$B$71*Parameters!$B$72*Parameters!$B$17*Parameters!G$6*Parameters!$B$18)/(3.6*Parameters!$B$73)) -> 866.97 | I12: =IF(Gegevensinvoer!$C$51=0,0,(0.8*Parameters!$B$70*Parameters!$B$71*Parameters!$B$72*Parameters!$B$17*Parameters!H$6*Parameters!$B$18)/(3.6*Parameters!$B$73)) -> 895.869 | J12: =IF(Gegevensinvoer!$C$51=0,0,(0.8*Parameters!$B$70*Parameters!$B$71*Parameters!$B$72*Parameters!$B$17*Parameters!I$6*Parameters!$B$18)/(3.6*Parameters!$B$73)) -> 895.869 | ... N12: =IF(Gegevensinvoer!$C$51=0,0,(0.8*Parameters!$B$70*Parameters!$B$71*Parameters!$B$72*Parameters!$B$17*Parameters!M$6*Parameters!$B$18)/(3.6*Parameters!$B$73)) -> 895.869 | O12: =SUM(C12:N12) -> 10548.135 | P12: kWh
B14: Wfans,seci,m,cool | C14: =Parameters!$B$68*Parameters!$B$17*Parameters!B$6/3.6 -> 3487.686 | D14: =Parameters!$B$68*Parameters!$B$17*Parameters!C$6/3.6 -> 3150.168 | E14: =Parameters!$B$68*Parameters!$B$17*Parameters!D$6/3.6 -> 3487.686 | F14: =Parameters!$B$68*Parameters!$B$17*Parameters!E$6/3.6 -> 3375.18 | G14: =Parameters!$B$68*Parameters!$B$17*Parameters!F$6/3.6 -> 3487.686 | H14: =Parameters!$B$68*Parameters!$B$17*Parameters!G$6/3.6 -> 3375.18 | I14: =Parameters!$B$68*Parameters!$B$17*Parameters!H$6/3.6 -> 3487.686 | J14: =Parameters!$B$68*Parameters!$B$17*Parameters!I$6/3.6 -> 3487.686 | ... N14: =Parameters!$B$68*Parameters!$B$17*Parameters!M$6/3.6 -> 3487.686 | O14: =SUM(C14:N14) -> 41064.69 | P14: kWh
B15: Wfans,seci,m,cool | C15: =IF(Gegevensinvoer!$C$51=0,0,(0.8*Parameters!$B$70*Parameters!$B$71*Parameters!$B$72*Parameters!$B$17*Parameters!B$6)/(3.6*Parameters!$B$73)) -> 895.869 | D15: =IF(Gegevensinvoer!$C$51=0,0,(0.8*Parameters!$B$70*Parameters!$B$71*Parameters!$B$72*Parameters!$B$17*Parameters!C$6)/(3.6*Parameters!$B$73)) -> 809.172 | E15: =IF(Gegevensinvoer!$C$51=0,0,(0.8*Parameters!$B$70*Parameters!$B$71*Parameters!$B$72*Parameters!$B$17*Parameters!D$6)/(3.6*Parameters!$B$73)) -> 895.869 | F15: =IF(Gegevensinvoer!$C$51=0,0,(0.8*Parameters!$B$70*Parameters!$B$71*Parameters!$B$72*Parameters!$B$17*Parameters!E$6)/(3.6*Parameters!$B$73)) -> 866.97 | G15: =IF(Gegevensinvoer!$C$51=0,0,(0.8*Parameters!$B$70*Parameters!$B$71*Parameters!$B$72*Parameters!$B$17*Parameters!F$6)/(3.6*Parameters!$B$73)) -> 895.869 | H15: =IF(Gegevensinvoer!$C$51=0,0,(0.8*Parameters!$B$70*Parameters!$B$71*Parameters!$B$72*Parameters!$B$17*Parameters!G$6)/(3.6*Parameters!$B$73)) -> 866.97 | I15: =IF(Gegevensinvoer!$C$51=0,0,(0.8*Parameters!$B$70*Parameters!$B$71*Parameters!$B$72*Parameters!$B$17*Parameters!H$6)/(3.6*Parameters!$B$73)) -> 895.869 | J15: =IF(Gegevensinvoer!$C$51=0,0,(0.8*Parameters!$B$70*Parameters!$B$71*Parameters!$B$72*Parameters!$B$17*Parameters!I$6)/(3.6*Parameters!$B$73)) -> 895.869 | ... N15: =IF(Gegevensinvoer!$C$51=0,0,(0.8*Parameters!$B$70*Parameters!$B$71*Parameters!$B$72*Parameters!$B$17*Parameters!M$6)/(3.6*Parameters!$B$73)) -> 895.869 | O15: =SUM(C15:N15) -> 10548.135 | P15: kWh
B17: Netto energiebehoefte balans
B19: transmissieverliezen, verw, RVT | C19: =Parameters!$B$46*(Parameters!B$9-Parameters!B$7)*Parameters!B$6 -> 45651.066 | D19: =Parameters!$B$46*(Parameters!C$9-Parameters!C$7)*Parameters!C$6 -> 39775.48 | E19: =Parameters!$B$46*(Parameters!D$9-Parameters!D$7)*Parameters!D$6 -> 39425.92 | F19: =Parameters!$B$46*(Parameters!E$9-Parameters!E$7)*Parameters!E$6 -> 30791.041 | G19: =Parameters!$B$46*(Parameters!F$9-Parameters!F$7)*Parameters!F$6 -> 22364.411 | H19: =Parameters!$B$46*(Parameters!G$9-Parameters!G$7)*Parameters!G$6 -> 15172.397 | I19: =Parameters!$B$46*(Parameters!H$9-Parameters!H$7)*Parameters!H$6 -> 12450.291 | J19: =Parameters!$B$46*(Parameters!I$9-Parameters!I$7)*Parameters!I$6 -> 12450.291 | ... N19: =Parameters!$B$46*(Parameters!M$9-Parameters!M$7)*Parameters!M$6 -> 44959.383 | O19: =SUM(C19:N19) -> 344911.73 | P19: MJ
B20: ventilatieverliezen, verw, RVT | C20: =C8 -> 35203.599 | D20: =D8 -> 30672.67 | E20: =E8 -> 30403.109 | F20: =F8 -> 23744.363 | G20: =G8 -> 17246.208 | H20: =H8 -> 11700.121 | I20: =I8 -> 9600.9816 | J20: =J8 -> 9600.9816 | ... N20: =N8 -> 34670.212 | O20: =SUM(C20:N20) -> 265977.02 | P20: MJ
B21: WW, aangepast | C21: =0.8*C48 -> 6238.5342 | D21: =0.8*D47 -> 16956.594 | E21: =0.8*E47 -> 18773.372 | F21: =0.8*F47 -> 18167.78 | G21: =0.8*G47 -> 18773.372 | H21: =0.8*H47 -> 18167.78 | I21: =0.8*I47 -> 18773.372 | J21: =0.8*J47 -> 18773.372 | K21: =0.8*K47 -> 18167.78 | ... N21: =0.8*N47 -> 18773.372 | O21: =SUM(C21:N21) -> 208506.48 | P21: MJ
B22: zonnewinsten | C22: =ResultatenEPB!C16 -> 1984.7247 | D22: =ResultatenEPB!D16 -> 3215.2207 | E22: =ResultatenEPB!E16 -> 5544.218 | F22: =ResultatenEPB!F16 -> 7599.2001 | G22: =ResultatenEPB!G16 -> 9833.1097 | H22: =ResultatenEPB!H16 -> 10013.517 | I22: =ResultatenEPB!I16 -> 9851.1974 | J22: =ResultatenEPB!J16 -> 9046.2184 | ... N22: =ResultatenEPB!N16 -> 1562.1965 | O22: =SUM(C22:N22) -> 73046.148 | P22: MJ
B24: Qg, heat | C24: =C21+C22 -> 8223.259 | D24: =D21+D22 -> 20171.815 | E24: =E21+E22 -> 24317.59 | F24: =F21+F22 -> 25766.98 | G24: =G21+G22 -> 28606.482 | H24: =H21+H22 -> 28181.297 | I24: =I21+I22 -> 28624.57 | J24: =J21+J22 -> 27819.591 | ... N24: =N21+N22 -> 20335.569 | O24: =SUM(C24:N24) -> 281552.63 | P24: MJ
B25: QL, heat | C25: =C19+C20 -> 80854.665 | D25: =D19+D20 -> 70448.151 | E25: =E19+E20 -> 69829.029 | F25: =F19+F20 -> 54535.405 | G25: =G19+G20 -> 39610.619 | H25: =H19+H20 -> 26872.518 | I25: =I19+I20 -> 22051.272 | J25: =J19+J20 -> 22051.272 | ... N25: =N19+N20 -> 79629.594 | O25: =SUM(C25:N25) -> 610888.74 | P25: MJ
B26: gamma, heat | C26: =C24/C25 -> 0.1017042 | D26: =D24/D25 -> 0.28633562 | E26: =E24/E25 -> 0.34824472 | F26: =F24/F25 -> 0.47248168 | G26: =G24/G25 -> 0.72219225 | H26: =H24/H25 -> 1.0487032 | I26: =I24/I25 -> 1.2980915 | J26: =J24/J25 -> 1.2615867 | ... N26: =N24/N25 -> 0.25537702
B27: benuttingsfactor, heat | C27: =IF(C26<2.5,IF(C26=1,Parameters!$C$103/(1+Parameters!$C$103),(1-C26^Parameters!$C$103)/(1-C26^(Parameters!$C$103+1))),1/C26) -> 0.90121123 | D27: =IF(D26<2.5,IF(D26=1,Parameters!$C$103/(1+Parameters!$C$103),(1-D26^Parameters!$C$103)/(1-D26^(Parameters!$C$103+1))),1/D26) -> 0.76831128 | E27: =IF(E26<2.5,IF(E26=1,Parameters!$C$103/(1+Parameters!$C$103),(1-E26^Parameters!$C$103)/(1-E26^(Parameters!$C$103+1))),1/E26) -> 0.73242721 | F27: =IF(F26<2.5,IF(F26=1,Parameters!$C$103/(1+Parameters!$C$103),(1-F26^Parameters!$C$103)/(1-F26^(Parameters!$C$103+1))),1/F26) -> 0.66988055 | G27: =IF(G26<2.5,IF(G26=1,Parameters!$C$103/(1+Parameters!$C$103),(1-G26^Parameters!$C$103)/(1-G26^(Parameters!$C$103+1))),1/G26) -> 0.57215836 | H27: =IF(H26<2.5,IF(H26=1,Parameters!$C$103/(1+Parameters!$C$103),(1-H26^Parameters!$C$103)/(1-H26^(Parameters!$C$103+1))),1/H26) -> 0.48085055 | I27: =IF(I26<2.5,IF(I26=1,Parameters!$C$103/(1+Parameters!$C$103),(1-I26^Parameters!$C$103)/(1-I26^(Parameters!$C$103+1))),1/I26) -> 0.42873719 | J27: =IF(J26<2.5,IF(J26=1,Parameters!$C$103/(1+Parameters!$C$103),(1-J26^Parameters!$C$103)/(1-J26^(Parameters!$C$103+1))),1/J26) -> 0.43564277 | ... N27: =IF(N26<2.5,IF(N26=1,Parameters!$C$103/(1+Parameters!$C$103),(1-N26^Parameters!$C$103)/(1-N26^(Parameters!$C$103+1))),1/N26) -> 0.78765744
B29: NEB/BEB/PEP verwarming
B31: NEB | C31: =C19+C20-C27*(C21+C22) -> 73443.772 | D31: =D19+D20-D27*(D21+D22) -> 54949.918 | E31: =E19+E20-E27*(E21+E22) -> 52018.164 | F31: =F19+F20-F27*(F21+F22) -> 37274.606 | G31: =G19+G20-G27*(G21+G22) -> 23243.181 | H31: =H19+H20-H27*(H21+H22) -> 13321.526 | I31: =I19+I20-I27*(I21+I22) -> 9778.8548 | J31: =J19+J20-J27*(J21+J22) -> 9931.8687 | ... N31: =N19+N20-N27*(N21+N22) -> 63612.132 | O31: =SUM(C31:N31) -> 437743.67 | P31: MJ
B32: systeemrendement | C32: =Parameters!$C$111 -> 4.62 | D32: =Parameters!$C$111 -> 4.62 | E32: =Parameters!$C$111 -> 4.62 | F32: =Parameters!$C$111 -> 4.62 | G32: =Parameters!$C$111 -> 4.62 | H32: =Parameters!$C$111 -> 4.62 | I32: =Parameters!$C$111 -> 4.62 | J32: =Parameters!$C$111 -> 4.62 | ... N32: =Parameters!$C$111 -> 4.62
B33: BEB | C33: =C31/C32 -> 15896.92 | D33: =D31/D32 -> 11893.922 | E33: =E31/E32 -> 11259.343 | F33: =F31/F32 -> 8068.0966 | G33: =G31/G32 -> 5030.9915 | H33: =H31/H32 -> 2883.4472 | I33: =I31/I32 -> 2116.6352 | J33: =J31/J32 -> 2149.7551 | ... N33: =N31/N32 -> 13768.86 | O33: =SUM(C33:N33) -> 94749.711 | P33: MJ
B34: opwekkingsrendement | C34: =Parameters!$C$112 -> 0.84 | D34: =C34 -> 0.84 | E34: =D34 -> 0.84 | F34: =E34 -> 0.84 | G34: =F34 -> 0.84 | H34: =G34 -> 0.84 | I34: =H34 -> 0.84 | J34: =I34 -> 0.84 | K34: =J34 -> 0.84 | ... N34: =M34 -> 0.84
B35: Eindenergieverbruik | C35: =C33/C34 -> 18924.905 | D35: =D33/D34 -> 14159.43 | E35: =E33/E34 -> 13403.98 | F35: =F33/F34 -> 9604.8768 | G35: =G33/G34 -> 5989.2756 | H35: =H33/H34 -> 3432.6752 | I35: =I33/I34 -> 2519.8039 | J35: =J33/J34 -> 2559.2323 | ... N35: =N33/N34 -> 16391.5 | O35: =SUM(C35:N35) -> 112797.28 | P35: MJ
B36: primaire factor | C36: =Parameters!$C$113 -> 2.5 | D36: =C36 -> 2.5 | E36: =D36 -> 2.5 | F36: =E36 -> 2.5 | G36: =F36 -> 2.5 | H36: =G36 -> 2.5 | I36: =H36 -> 2.5 | J36: =I36 -> 2.5 | K36: =J36 -> 2.5 | ... N36: =M36 -> 2.5
B37: Primair energieverbruik | C37: =C35*C36 -> 47312.263 | D37: =D35*D36 -> 35398.576 | E37: =E35*E36 -> 33509.949 | F37: =F35*F36 -> 24012.192 | G37: =G35*G36 -> 14973.189 | H37: =H35*H36 -> 8581.6881 | I37: =I35*I36 -> 6299.5097 | J37: =J35*J36 -> 6398.0807 | ... N37: =N35*N36 -> 40978.749 | O37: =SUM(C37:N37) -> 281993.19 | P37: MJ
B39: Koeling
B40: Vin/exilt,cool,seci | C40: =0.48*Gegevensinvoer!C14 -> 1045.3728
B41: τcool, seci,m | C41: =Parameters!B43/(3.6*(Parameters!B45+Parameters!B58)) -> 5.8919921 | D41: h
B42: b | C42: =Parameters!B83+$C$41/Parameters!B84 -> 1.5659711 | D42: -
B43: ηsys,cool | C43: =IF(Parameters!B89>0,Parameters!B89,1/(1+Parameters!B86+Parameters!B87/Parameters!B88)) -> 0.84
B45: transmissieverliezen | C45: =Parameters!$B$45*(Parameters!B10-(Parameters!B7+2))*Parameters!B6 -> 41039.847 | D45: =Parameters!$B$45*(Parameters!C10-(Parameters!C7+2))*Parameters!C6 -> 35610.509 | E45: =Parameters!$B$45*(Parameters!D10-(Parameters!D7+2))*Parameters!D6 -> 34814.702 | F45: =Parameters!$B$45*(Parameters!E10-(Parameters!E7+2))*Parameters!E6 -> 26328.572 | G45: =Parameters!$B$45*(Parameters!F10-(Parameters!F7+2))*Parameters!F6 -> 17753.192 | H45: =Parameters!$B$45*(Parameters!G10-(Parameters!G7+2))*Parameters!G6 -> 10709.927 | I45: =Parameters!$B$45*(Parameters!H10-(Parameters!H7+2))*Parameters!H6 -> 7839.0719 | J45: =Parameters!$B$45*(Parameters!I10-(Parameters!I7+2))*Parameters!I6 -> 7839.0719 | ... N45: =Parameters!$B$45*(Parameters!M10-(Parameters!M7+2))*Parameters!M6 -> 40348.164 | O45: =SUM(C45:N45) -> 290618.34 | P45: MJ
B46: ventilatieverliezen | C46: =C9 -> 41819.7 | D46: =D9 -> 37772.632 | E46: =E9 -> 41819.7 | F46: =F9 -> 40470.677 | G46: =G9 -> 41819.7 | H46: =H9 -> 27751.322 | I46: =I9 -> 20312.426 | J46: =J9 -> 20312.426 | ... N46: =N9 -> 41819.7 | O46: =SUM(C46:N46) -> 429721.51 | P46: MJ
B47: interne winsten | C47: =$C$48*Parameters!B6+C49 -> 23466.715 | D47: =$C$48*Parameters!C6+D49 -> 21195.743 | E47: =$C$48*Parameters!D6+E49 -> 23466.715 | F47: =$C$48*Parameters!E6+F49 -> 22709.725 | G47: =$C$48*Parameters!F6+G49 -> 23466.715 | H47: =$C$48*Parameters!G6+H49 -> 22709.725 | I47: =$C$48*Parameters!H6+I49 -> 23466.715 | J47: =$C$48*Parameters!I6+J49 -> 23466.715 | ... N47: =$C$48*Parameters!M6+N49 -> 23466.715 | O47: =SUM(C47:N47) -> 276301.65 | P47: MJ
C48: =(Gegevensinvoer!C16*Parameters!$B$34+Parameters!$D$34*Gegevensinvoer!C19+Gegevensinvoer!C20*Parameters!$E$34+Gegevensinvoer!C21*Parameters!$F$34+Gegevensinvoer!C17*Parameters!$B$37) -> 7798.1678
B49: interne winsten ventilatie | C49: =IF(C15>0,C15*Parameters!$B$14*3.6,C14*Parameters!$B$14*3.6) -> 2580.1027 | D49: =IF(D15>0,D15*Parameters!$B$14*3.6,D14*Parameters!$B$14*3.6) -> 2330.4154 | E49: =IF(E15>0,E15*Parameters!$B$14*3.6,E14*Parameters!$B$14*3.6) -> 2580.1027 | F49: =IF(F15>0,F15*Parameters!$B$14*3.6,F14*Parameters!$B$14*3.6) -> 2496.8736 | G49: =IF(G15>0,G15*Parameters!$B$14*3.6,G14*Parameters!$B$14*3.6) -> 2580.1027 | H49: =IF(H15>0,H15*Parameters!$B$14*3.6,H14*Parameters!$B$14*3.6) -> 2496.8736 | I49: =IF(I15>0,I15*Parameters!$B$14*3.6,I14*Parameters!$B$14*3.6) -> 2580.1027 | J49: =IF(J15>0,J15*Parameters!$B$14*3.6,J14*Parameters!$B$14*3.6) -> 2580.1027 | ... N49: =IF(N15>0,N15*Parameters!$B$14*3.6,N14*Parameters!$B$14*3.6) -> 2580.1027 | O49: =SUM(C49:N49) -> 30378.629 | P49: MJ
B50: zonnewinsten | C50: =ResultatenEPB!C30 -> 1883.5427 | D50: =ResultatenEPB!D30 -> 3051.3075 | E50: =ResultatenEPB!E30 -> 5261.5716 | F50: =ResultatenEPB!F30 -> 7211.7899 | G50: =ResultatenEPB!G30 -> 9331.8139 | H50: =ResultatenEPB!H30 -> 9503.0244 | I50: =ResultatenEPB!I30 -> 9348.9795 | J50: =ResultatenEPB!J30 -> 8585.0387 | ... N50: =ResultatenEPB!N30 -> 1482.5551 | O50: =SUM(C50:N50) -> 69322.227 | P50: MJ
B51: γseci,m | C51: =(C46+C45)/(C50+C48) -> 8.5583583 | D51: =(D46+D45)/(D50+D47) -> 3.026477 | E51: =(E46+E45)/(E50+E47) -> 2.667559 | F51: =(F46+F45)/(F50+F47) -> 2.2324822 | G51: =(G46+G45)/(G50+G47) -> 1.8163282 | H51: =(H46+H45)/(H50+H47) -> 1.193976 | I51: =(I46+I45)/(I50+I47) -> 0.85786687 | J51: =(J46+J45)/(J50+J47) -> 0.87831379 | K51: =(K46+K45)/(K50+K47) -> 1.577498 | ... N51: =(N46+N45)/(N50+N47) -> 3.2933975
B52: benuttingsfactor | C52: =IF(C51<2.5,(1-(C51^$C$42))/(1-(C51^($C$42+1))),1/C51) -> 0.11684484 | D52: =IF(D51<2.5,(1-(D51^$C$42))/(1-(D51^($C$42+1))),1/D51) -> 0.33041718 | E52: =IF(E51<2.5,(1-(E51^$C$42))/(1-(E51^($C$42+1))),1/E51) -> 0.37487455 | F52: =IF(F51<2.5,(1-(F51^$C$42))/(1-(F51^($C$42+1))),1/F51) -> 0.36736147 | G52: =IF(G51<2.5,(1-(G51^$C$42))/(1-(G51^($C$42+1))),1/G51) -> 0.42656852 | H52: =IF(H51<2.5,(1-(H51^$C$42))/(1-(H51^($C$42+1))),1/H51) -> 0.55550709 | I52: =IF(I51<2.5,(1-(I51^$C$42))/(1-(I51^($C$42+1))),1/I51) -> 0.65624775 | J52: =IF(J51<2.5,(1-(J51^$C$42))/(1-(J51^($C$42+1))),1/J51) -> 0.64930678 | ... N52: =IF(N51<2.5,(1-(N51^$C$42))/(1-(N51^($C$42+1))),1/N51) -> 0.30363781
B53: netto behoefte | C53: =Parameters!$B$81*Parameters!$B$82*((C50+C48)-C52*(C46+C45)) -> 0 | D53: =Parameters!$B$81*Parameters!$B$82*((D50+D47)-D52*(D46+D45)) -> 0 | E53: =Parameters!$B$81*Parameters!$B$82*((E50+E47)-E52*(E46+E45)) -> 0 | F53: =Parameters!$B$81*Parameters!$B$82*((F50+F47)-F52*(F46+F45)) -> 8880.3733 | G53: =Parameters!$B$81*Parameters!$B$82*((G50+G47)-G52*(G46+G45)) -> 12187.905 | H53: =Parameters!$B$81*Parameters!$B$82*((H50+H47)-H52*(H46+H45)) -> 17897.967 | I53: =Parameters!$B$81*Parameters!$B$82*((I50+I47)-I52*(I46+I45)) -> 23663.208 | J53: =Parameters!$B$81*Parameters!$B$82*((J50+J47)-J52*(J46+J45)) -> 22725.113 | K53: =Parameters!$B$81*Parameters!$B$82*((K50+K47)-K52*(K46+K45)) -> 12639.778 | ... N53: =Parameters!$B$81*Parameters!$B$82*((N50+N47)-N52*(N46+N45)) -> 0 | O53: =SUM(C53:N53) -> 106034.27 | P53: MJ
B54: bruto energiebehoefte | C54: =C53*$C$43 -> 0 | D54: =D53*$C$43 -> 0 | E54: =E53*$C$43 -> 0 | F54: =F53*$C$43 -> 7459.5135 | G54: =G53*$C$43 -> 10237.84 | H54: =H53*$C$43 -> 15034.292 | I54: =I53*$C$43 -> 19877.094 | J54: =J53*$C$43 -> 19089.095 | ... N54: =N53*$C$43 -> 0 | O54: =SUM(C54:N54) -> 89068.788 | P54: MJ
B55: opwekkingsrendement | C55: =1/(1/(Parameters!$B$91*Parameters!$B$93)+Parameters!$B$92*Parameters!B6*Parameters!$B$94*Parameters!$B$95) -> 5 | D55: =1/(1/(Parameters!$B$91*Parameters!$B$93)+Parameters!$B$92*Parameters!C6*Parameters!$B$94*Parameters!$B$95) -> 5 | E55: =1/(1/(Parameters!$B$91*Parameters!$B$93)+Parameters!$B$92*Parameters!D6*Parameters!$B$94*Parameters!$B$95) -> 5 | F55: =1/(1/(Parameters!$B$91*Parameters!$B$93)+Parameters!$B$92*Parameters!E6*Parameters!$B$94*Parameters!$B$95) -> 5 | G55: =1/(1/(Parameters!$B$91*Parameters!$B$93)+Parameters!$B$92*Parameters!F6*Parameters!$B$94*Parameters!$B$95) -> 5 | H55: =1/(1/(Parameters!$B$91*Parameters!$B$93)+Parameters!$B$92*Parameters!G6*Parameters!$B$94*Parameters!$B$95) -> 5 | I55: =1/(1/(Parameters!$B$91*Parameters!$B$93)+Parameters!$B$92*Parameters!H6*Parameters!$B$94*Parameters!$B$95) -> 5 | J55: =1/(1/(Parameters!$B$91*Parameters!$B$93)+Parameters!$B$92*Parameters!I6*Parameters!$B$94*Parameters!$B$95) -> 5 | ... N55: =1/(1/(Parameters!$B$91*Parameters!$B$93)+Parameters!$B$92*Parameters!M6*Parameters!$B$94*Parameters!$B$95) -> 5
B56: eindenergieverbruik | C56: =C54/C55*Parameters!$B$98 -> 0 | D56: =D54/D55*Parameters!$B$98 -> 0 | E56: =E54/E55*Parameters!$B$98 -> 0 | F56: =F54/F55*Parameters!$B$98 -> 3729.7568 | G56: =G54/G55*Parameters!$B$98 -> 5118.9199 | H56: =H54/H55*Parameters!$B$98 -> 7517.1461 | I56: =I54/I55*Parameters!$B$98 -> 9938.5472 | J56: =J54/J55*Parameters!$B$98 -> 9544.5475 | ... N56: =N54/N55*Parameters!$B$98 -> 0 | O56: =SUM(C56:N56) -> 44534.394 | P56: MJ
B58: Primair | C58: =C56*2.5 -> 0 | D58: =D56*2.5 -> 0 | E58: =E56*2.5 -> 0 | F58: =F56*2.5 -> 9324.3919 | G58: =G56*2.5 -> 12797.3 | H58: =H56*2.5 -> 18792.865 | I58: =I56*2.5 -> 24846.368 | J58: =J56*2.5 -> 23861.369 | ... N58: =N56*2.5 -> 0 | O58: =SUM(C58:N58) -> 111335.99 | P58: MJ
B60: Hulpenergieverbruik
B61: Ventilatoren
B62: koeling/verwarming | C62: =C53/(C31+C53) -> 0 | D62: =D53/(D31+D53) -> 0 | E62: =E53/(E31+E53) -> 0 | F62: =F53/(F31+F53) -> 0.19240336 | G62: =G53/(G31+G53) -> 0.34398902 | H62: =H53/(H31+H53) -> 0.57329461 | I62: =I53/(I31+I53) -> 0.70758817 | J62: =J53/(J31+J53) -> 0.69587304 | ... N62: =N53/(N31+N53) -> 0
B63: verwarming | C63: =IF(C12>0,(1-C62)*C12,(1-C62)*C11) -> 895.869 | D63: =IF(D12>0,(1-D62)*D12,(1-D62)*D11) -> 809.172 | E63: =IF(E12>0,(1-E62)*E12,(1-E62)*E11) -> 895.869 | F63: =IF(F12>0,(1-F62)*F12,(1-F62)*F11) -> 700.16206 | G63: =IF(G12>0,(1-G62)*G12,(1-G62)*G11) -> 587.6999 | H63: =IF(H12>0,(1-H62)*H12,(1-H62)*H11) -> 369.94078 | I63: =IF(I12>0,(1-I62)*I12,(1-I62)*I11) -> 261.9627 | J63: =IF(J12>0,(1-J62)*J12,(1-J62)*J11) -> 272.45792 | ... N63: =IF(N12>0,(1-N62)*N12,(1-N62)*N11) -> 895.869 | O63: =SUM(C63:N63) -> 7773.5083 | P63: kWh
B64: koeling | C64: =IF(C15>0,C62*C15,C62*C14) -> 0 | D64: =IF(D15>0,D62*D15,D62*D14) -> 0 | E64: =IF(E15>0,E62*E15,E62*E14) -> 0 | F64: =IF(F15>0,F62*F15,F62*F14) -> 166.80794 | G64: =IF(G15>0,G62*G15,G62*G14) -> 308.1691 | H64: =IF(H15>0,H62*H15,H62*H14) -> 497.02922 | I64: =IF(I15>0,I62*I15,I62*I14) -> 633.9063 | J64: =IF(J15>0,J62*J15,J62*J14) -> 623.41108 | ... N64: =IF(N15>0,N62*N15,N62*N14) -> 0 | O64: =SUM(C64:N64) -> 2774.6267 | P64: kWh
B65: TOTAAL | C65: =SUM(C63:C64) -> 895.869 | D65: =SUM(D63:D64) -> 809.172 | E65: =SUM(E63:E64) -> 895.869 | F65: =SUM(F63:F64) -> 866.97 | G65: =SUM(G63:G64) -> 895.869 | H65: =SUM(H63:H64) -> 866.97 | I65: =SUM(I63:I64) -> 895.869 | J65: =SUM(J63:J64) -> 895.869 | ... N65: =SUM(N63:N64) -> 895.869 | O65: =SUM(C65:N65) -> 10548.135 | P65: kWh
B67: Pompen | C67: =0.07*Gegevensinvoer!$C$17*(Parameters!$C$117+Parameters!$C$118)*Parameters!B6 -> 223.52319 | D67: =0.07*Gegevensinvoer!$C$17*(Parameters!$C$117+Parameters!$C$118)*Parameters!C6 -> 201.89192 | E67: =0.07*Gegevensinvoer!$C$17*(Parameters!$C$117+Parameters!$C$118)*Parameters!D6 -> 223.52319 | F67: =0.07*Gegevensinvoer!$C$17*(Parameters!$C$117+Parameters!$C$118)*Parameters!E6 -> 216.31277 | G67: =0.07*Gegevensinvoer!$C$17*(Parameters!$C$117+Parameters!$C$118)*Parameters!F6 -> 223.52319 | H67: =0.07*Gegevensinvoer!$C$17*(Parameters!$C$117+Parameters!$C$118)*Parameters!G6 -> 216.31277 | I67: =0.07*Gegevensinvoer!$C$17*(Parameters!$C$117+Parameters!$C$118)*Parameters!H6 -> 223.52319 | J67: =0.07*Gegevensinvoer!$C$17*(Parameters!$C$117+Parameters!$C$118)*Parameters!I6 -> 223.52319 | ... N67: =0.07*Gegevensinvoer!$C$17*(Parameters!$C$117+Parameters!$C$118)*Parameters!M6 -> 223.52319 | O67: =SUM(C67:N67) -> 2631.8053 | P67: kWh
B69: ventilatoren+pompen | C69: =(C67+C65)*3.6 -> 4029.8119 | D69: =(D67+D65)*3.6 -> 3639.8301 | E69: =(E67+E65)*3.6 -> 4029.8119 | F69: =(F67+F65)*3.6 -> 3899.818 | G69: =(G67+G65)*3.6 -> 4029.8119 | H69: =(H67+H65)*3.6 -> 3899.818 | I69: =(I67+I65)*3.6 -> 4029.8119 | J69: =(J67+J65)*3.6 -> 4029.8119 | ... N69: =(N67+N65)*3.6 -> 4029.8119 | O69: =SUM(C69:N69) -> 47447.785 | P69: MJ
B70: Primair | C70: =C69*2.5 -> 10074.53 | D70: =D69*2.5 -> 9099.5753 | E70: =E69*2.5 -> 10074.53 | F70: =F69*2.5 -> 9749.5449 | G70: =G69*2.5 -> 10074.53 | H70: =H69*2.5 -> 9749.5449 | I70: =I69*2.5 -> 10074.53 | J70: =J69*2.5 -> 10074.53 | ... N70: =N69*2.5 -> 10074.53 | O70: =SUM(C70:N70) -> 118619.46 | P70: MJ
B73: Bevochtiging
B74: x,h,m (tabel 7 bijlage II) | C74: 0.38 | D74: 0.37 | E74: 0.23 | F74: 0.08 | G74: 0.03 | H74: 0 | I74: 0 | J74: 0 | K74: 0 | L74: 0.2 | M74: 0.25 | N74: 0.36
B75: Q,hum,net | C75: =2.5*IF(Gegevensinvoer!$C$58=1,0.4,1)*C74*Gegevensinvoer!$C$53 -> 2095.7 | D75: =2.5*IF(Gegevensinvoer!$C$58=1,0.4,1)*D74*Gegevensinvoer!$C$53 -> 2040.55 | E75: =2.5*IF(Gegevensinvoer!$C$58=1,0.4,1)*E74*Gegevensinvoer!$C$53 -> 1268.45 | F75: =2.5*IF(Gegevensinvoer!$C$58=1,0.4,1)*F74*Gegevensinvoer!$C$53 -> 441.2 | G75: =2.5*IF(Gegevensinvoer!$C$58=1,0.4,1)*G74*Gegevensinvoer!$C$53 -> 165.45 | H75: =2.5*IF(Gegevensinvoer!$C$58=1,0.4,1)*H74*Gegevensinvoer!$C$53 -> 0 | I75: =2.5*IF(Gegevensinvoer!$C$58=1,0.4,1)*I74*Gegevensinvoer!$C$53 -> 0 | J75: =2.5*IF(Gegevensinvoer!$C$58=1,0.4,1)*J74*Gegevensinvoer!$C$53 -> 0 | ... N75: =2.5*IF(Gegevensinvoer!$C$58=1,0.4,1)*N74*Gegevensinvoer!$C$53 -> 1985.4 | O75: =SUM(C75:N75) -> 10478.5 | P75: MJ
B76: Q,hum,brut | C76: =C75*Gegevensinvoer!$C$57 -> 1571.775 | D76: =D75*Gegevensinvoer!$C$57 -> 1530.4125 | E76: =E75*Gegevensinvoer!$C$57 -> 951.3375 | F76: =F75*Gegevensinvoer!$C$57 -> 330.9 | G76: =G75*Gegevensinvoer!$C$57 -> 124.0875 | H76: =H75*Gegevensinvoer!$C$57 -> 0 | I76: =I75*Gegevensinvoer!$C$57 -> 0 | J76: =J75*Gegevensinvoer!$C$57 -> 0 | ... N76: =N75*Gegevensinvoer!$C$57 -> 1489.05 | O76: =SUM(C76:N76) -> 7858.875 | P76: MJ
B77: primair | C77: =C76*Gegevensinvoer!$C$59 -> 1571.775 | D77: =D76*Gegevensinvoer!$C$59 -> 1530.4125 | E77: =E76*Gegevensinvoer!$C$59 -> 951.3375 | F77: =F76*Gegevensinvoer!$C$59 -> 330.9 | G77: =G76*Gegevensinvoer!$C$59 -> 124.0875 | H77: =H76*Gegevensinvoer!$C$59 -> 0 | I77: =I76*Gegevensinvoer!$C$59 -> 0 | J77: =J76*Gegevensinvoer!$C$59 -> 0 | ... N77: =N76*Gegevensinvoer!$C$59 -> 1489.05 | O77: =SUM(C77:N77) -> 7858.875 | P77: MJ
B78: Verlichting
O79: =O80/3.6 -> 11029.222 | P79: kWh
O80: =Gegevensinvoer!C62/2.5 -> 39705.2 | P80: MJ
B81: primair | O81: =O80*2.5 -> 99263 | P81: MJ
B83: Sanitair Warm Water
B84: Primair | O84: =SWW!D50 -> 227191.59 | P84: MJ
B86: Totaal primair energieverbruik | O86: =O84+O81+O70+O58+O37+O77 -> 846262.1 | P86: MJ
