Workbook

Sheet Handleiding
B2: EPI Rekenblad zone kamers
B4: 24 mei 2011
B5: VIPA
B7: Doel: | C7: Omrekenen van het E-peil van een ventilatiezone kamers in een woonzorgcentrum berekend met de epb-software (EPU).
B9: Gebruik:
B11: 1 | C11: Vul epb-bestand in (bestemming: kantoor)
D12: ventilatiezone WZC: kamers, leefruimtes e.a. functies die continu bezet worden | M12: tijdsfractie = 1 i.p.v. 0.3
F13: bediend door hetzelfde ventilatiesysteem als kamers
E14: - vul de epb-software in als bestemming kantoor
E15: - de verlichting moet in de epb-software niet gedetailleerd ingegeven worden (verlichting = waarde bij onstentenis)
E16: - voor de hygiënische ventilatie volstaat het een ruimte te definiëren met een oppervlak gelijk aan het totaal netto vloeroppervlak
E17: - de hygiënische ventilatie voor deze ene ruimte wordt ingegeven als 'ruimte niet voor menselijke bestemming' met mechanische ventilatie evenveel als het minimaal verplichte debiet.
B19: 2 | C19: Kopieer resultaten verwarming en koeling van de ventilatiezone kamers (EPI) in het tabblad <ResultatenEPB> van dit rekenblad.
B21: 3 | C21: Vul de gegevens in in het blad <Gegevensinvoer>
B23: 4 | C23: De resultaten zijn te vinden in het blad <E-peil>.
C24: De rekenresultaten van de verschillende energiestromen zijn te vinden in het blad <Berekeningsresultaten>.
B26: 5 | C26: Het E-peil voor het project (som van de verschillende ventilatiezones) wordt berekend in het EPI projectrekenblad.
B29: Volgende data zijn beschikbaar:
C31: E-peilberekening woonzorgcentra: | J31: Voorbeeld: | L31: 1. korte beschrijving test
C32: - Handleiding | L32: 2. EPI projectrekenblad
C33: - EPI projectrekenblad | L33: 3. EPI zonerekenblad
C34: - EPI rekenblad zone kamers | L34: 4. Rekenblad verlichting

Sheet ResultatenEPB
B2: EPB-resultaten
B4: Geef hier de resultaten in berekend met de epb-software.
B5: 1. epb>resultaten>subdossier>verwarming>energiesector
B6: 2. epb>resultaten>subdossier>koeling>energiesector
B8: !!! Let op met tekenconventies: punten en komma's
C10: jan | D10: feb | E10: mar | F10: apr | G10: mei | H10: jun | I10: jul | J10: aug | K10: sep | L10: okt | M10: nov | N10: dec | O10: totaal
B11: Verwarming
B13: transmissieverliezen | C13: 36428.628 | D13: 31445.537 | E13: 30203.483 | F13: 21866.102 | G13: 13141.973 | H13: 6247.4577 | I13: 3227.8531 | J13: 3227.8531 | K13: 8478.6925 | L13: 17983.753 | M13: 28336.683 | N13: 35736.945 | O13: =SUM(C13:N13) -> 236324.96 | P13: MJ
B14: ventilatieverliezen | C14: 20933.344 | D14: 18069.861 | E14: 17356.127 | F14: 12565.135 | G14: 7551.9026 | H14: 3590.0386 | I14: 1854.8533 | J14: 1854.8533 | K14: 4872.1953 | L14: 10334.183 | M14: 16283.389 | N14: 20535.876 | O14: =SUM(C14:N14) -> 135801.76 | P14: MJ
B15: interne winsten | C15: 12649.641 | D15: 11425.483 | E15: 12649.641 | F15: 12241.588 | G15: 12649.641 | H15: 12241.588 | I15: 12649.641 | J15: 12649.641 | K15: 12241.588 | L15: 12649.641 | M15: 12241.588 | N15: 12649.641 | O15: =SUM(C15:N15) -> 148939.33 | P15: MJ
B16: zonnewinsten | C16: 1984.7247 | D16: 3215.2207 | E16: 5544.218 | F16: 7599.2001 | G16: 9833.1097 | H16: 10013.517 | I16: 9851.1974 | J16: 9046.2184 | K16: 7113.5062 | L16: 4790.7836 | M16: 2492.2554 | N16: 1562.1965 | O16: =SUM(C16:N16) -> 73046.148 | P16: MJ
B17: benuttingsfactor | C17: 0.79565037 | D17: 0.77068348 | E17: 0.72216544 | F17: 0.63331914 | G17: 0.47841126 | H17: 0.30603313 | I17: 0.22588964 | J17: 0.2342708 | K17: 0.40748177 | L17: 0.61777257 | M17: 0.75063626 | N17: 0.79728781 | P17: MJ
B18: netto behoefte | C18: 45718.133 | D18: 38232.05 | E18: 34420.633 | F18: 21865.686 | G18: 9937.8748 | H18: 3026.6965 | I18: 0 | J18: 0 | K18: 5464.0395 | L18: 17543.72 | M18: 33560.315 | N18: 44941.896 | O18: =SUM(C18:N18) -> 254711.04 | P18: MJ
B19: systeemrendement | C19: 0.8 | D19: 0.8 | E19: 0.8 | F19: 0.8 | G19: 0.8 | H19: 0.8 | I19: 0.8 | J19: 0.8 | K19: 0.8 | L19: 0.8 | M19: 0.8 | N19: 0.8 | P19: MJ
B20: bruto energiebehoefte | C20: 57147.667 | D20: 47790.062 | E20: 43025.792 | F20: 27332.107 | G20: 12422.343 | H20: 3783.3706 | I20: 0 | J20: 0 | K20: 6830.0494 | L20: 21929.649 | M20: 41950.394 | N20: 56177.37 | O20: =SUM(C20:N20) -> 318388.8 | P20: MJ
B21: opwekkingsrendement | C21: 0.95769 | D21: 0.95769 | E21: 0.95769 | F21: 0.95769 | G21: 0.95769 | H21: 0.95769 | I21: 0.95769 | J21: 0.95769 | K21: 0.95769 | L21: 0.95769 | M21: 0.95769 | N21: 0.95769 | P21: MJ
B22: eindenergieverbruik | C22: 59672.406 | D22: 49901.39 | E22: 44926.638 | F22: 28539.619 | G22: 12971.153 | H22: 3950.517 | I22: 0 | J22: 0 | K22: 7131.7956 | L22: 22898.484 | M22: 43803.729 | N22: 58659.242 | O22: =SUM(C22:N22) -> 332454.97 | P22: MJ
B25: Koeling
B27: transmissieverliezen | C27: 41039.847 | D27: 35610.509 | E27: 34814.702 | F27: 26328.572 | G27: 17753.192 | H27: 10709.927 | I27: 7839.0719 | J27: 7839.0719 | K27: 12941.162 | L27: 22594.972 | M27: 32799.153 | N27: 40348.164 | O27: =SUM(C27:N27) -> 290618.34 | P27: MJ
B28: ventilatieverliezen | C28: 17558.686 | D28: 15859.458 | E28: 17558.686 | F28: 16992.277 | G28: 17558.686 | H28: 11651.847 | I28: 8528.5047 | J28: 8528.5047 | K28: 14079.315 | L28: 17558.686 | M28: 16992.277 | N28: 17558.686 | O28: =SUM(C28:N28) -> 180425.61 | P28: MJ
B29: interne winsten | C29: 15812.052 | D29: 14281.853 | E29: 15812.052 | F29: 15301.986 | G29: 15812.052 | H29: 15301.986 | I29: 15812.052 | J29: 15812.052 | K29: 15301.986 | L29: 15812.052 | M29: 15301.986 | N29: 15812.052 | O29: =SUM(C29:N29) -> 186174.16 | P29: MJ
B30: zonnewinsten | C30: 1883.5427 | D30: 3051.3075 | E30: 5261.5716 | F30: 7211.7899 | G30: 9331.8139 | H30: 9503.0244 | I30: 9348.9795 | J30: 8585.0387 | K30: 6750.8568 | L30: 4546.5476 | M30: 2365.1992 | N30: 1482.5551 | O30: =SUM(C30:N30) -> 69322.227 | P30: MJ
B31: benuttingsfactor | C31: 0.30198016 | D31: 0.33676262 | E31: 0.35885392 | F31: 0.43852658 | G31: 0.54539539 | H31: 0.69525401 | I31: 0.79037805 | J31: 0.7822263 | K31: 0.592674 | L31: 0.43047795 | M31: 0.35482381 | N31: 0.29866254 | P31: MJ
B32: netto behoefte | C32: 0 | D32: 0 | E32: 2507.151 | F32: 3868.0753 | G32: 6473.4229 | H32: 10183.686 | I32: 13446.904 | J32: 12753.336 | K32: 6642.3588 | L32: 3380.6684 | M32: 0 | N32: 0 | O32: =SUM(C32:N32) -> 59255.602 | P32: MJ
B33: systeemrendement | C33: 1 | D33: 1 | E33: 1 | F33: 1 | G33: 1 | H33: 1 | I33: 1 | J33: 1 | K33: 1 | L33: 1 | M33: 1 | N33: 1 | P33: MJ
B34: bruto energiebehoefte | C34: 0 | D34: 0 | E34: 2507.151 | F34: 3868.0753 | G34: 6473.4229 | H34: 10183.686 | I34: 13446.904 | J34: 12753.336 | K34: 6642.3588 | L34: 3380.6684 | M34: 0 | N34: 0 | O34: =SUM(C34:N34) -> 59255.602 | P34: MJ
B35: opwekkingsrendement | C35: 5 | D35: 5 | E35: 5 | F35: 5 | G35: 5 | H35: 5 | I35: 5 | J35: 5 | K35: 5 | L35: 5 | M35: 5 | N35: 5 | P35: MJ
B36: eindenergieverbruik | C36: 0 | D36: 0 | E36: 501.4302 | F36: 773.61506 | G36: 1294.6846 | H36: 2036.7373 | I36: 2689.3808 | J36: 2550.6672 | K36: 1328.4718 | L36: 676.13369 | M36: 0 | N36: 0 | O36: =SUM(C36:N36) -> 11851.12 | P36: MJ

Sheet Gegevensinvoer
B2: Gegevens invoer
B4: Dit is het hoofdblad waar gegevens ingevoerd kunnen worden.
B5: In kolom C alle gegevens invullen (in sommige vakjes staat een opmerking met informatie over het in te geven getal)
B6: (Door met de cursor over de rode driehoekjes te bewegen in de rechterbovenhoek van een cel, kan de opmerking gelezen worden.)
B10: E-peil ventilatiezone | C10: ='E-peil'!D24 -> 44
B12: Geometrische gegevens
B14: totaal verliesoppervlakte | C14: 2177.86 | D14: m²
B15: volume | C15: 4904.85 | D15: m³
B16: aantal bedden | C16: 16
B17: netto vloeroppervlakte | C17: =SUM(C18:C21) -> 1192.2 | D17: m²
B18: - kamers (incl. badkamer) | C18: 441.6 | D18: m²
B19: - leefruimtes | C19: 276.6 | D19: m²
B20: - kantoor, kinélokaal, apotheker, gemeenschappelijke badkamer … | C20: 0 | D20: m²
B21: - andere (circulatie, berging, …) | C21: 474 | D21: m²
B23: Bouwkundige maatregelen
B24: K-peil | C24: 28
B25: luchtdichtheid (v50) | C25: 1.5 | D25: m³/h/m²
B26: capaciteit | D26: kJ/K
B28: installatietechnische maatregelen
B29: verwarming:
B30: - opwekkingsrendement | C30: 4.62
B31: - systeemrendement (afgifte) | C31: 0.84
B32: - primaire omzettingsfactor | C32: 2.5
B33: - regeling pompen | C33: 0.5
B35: sanitair warm water:
B36: twee berekeningsmethodes:
B37: 1. primair energieverbruik SWW | D37: MJ/jaar
B38: of
B39: 2. vereenvoudigde berekening (indien alle leidingen binnen het beschermde volume liggen en de leidingsverliezen van alle leidingen gelijk zijn)
B40: - productie (hopw en hopslag) | C40: 0.45
B41: - lengte circulatieleiding SWW | C41: 15 | D41: m/bed
B42: - lengte tapleiding SWW per bed | C42: 3 | D42: m/bed
B43: - leidingsverliezen | C43: 9 | D43: W/m
B44: - aantal m² zonnecollectoren | D44: m²
B45: - oriëntatie collectoren | D45: °
B46: - helling collectoren | D46: °
B48: ventilatie: | C48: D
B49: - rfans | C49: 0.8
B50: - rendement warmteterugwinning | C50: 0.8
B51: - SFP (specific fan power) | C51: 2
...

Sheet E-peil
B2: Berekening van het E-peil
B4: De volgende tabel geeft het E-peil van de ventilatiezone.
B5: Er moeten geen gegevens ingevoerd worden.
B6: Het primair energieverbruik en het referentie-energieverbruik moeten ingegeven worden in het VIPA projectrekenblad
D9: Ventilatiezone
B10: primair energieverbruik | C10: MJ | D10: =Berekeningsresultaten!O86 -> 846262.1
B12: vloeropp Af | C12: m² | D12: =Gegevensinvoer!C17 -> 1192.2
B13: verliesopp AT | C13: m² | D13: =Gegevensinvoer!C14 -> 2177.86
B14: min toevoerventilatiedebiet | C14: m³/h | D14: =Gegevensinvoer!C55 -> 3016
B15: ontwerp toevoerventilatiedebiet | C15: m³/h | D15: =Gegevensinvoer!C53 -> 5515
B16: overdebiet | C16: m³/h | D16: =D15-D14 -> 2499
B17: budgetterm verlichting | D17: =Gegevensinvoer!C63 -> 292908
B18: primair verlichting | D18: =Gegevensinvoer!C62 -> 99263
B20: PV-panelen | D20: =Gegevensinvoer!C73 -> 0
B22: kamers | D22: =Gegevensinvoer!C16 -> 16
B23: Referentie-energieverbruik | C23: MJ | D23: =Parameters!$B$125*D12+Parameters!$B$126*D13+Parameters!$B$127*D14+Parameters!$B$128*D16+D17+Parameters!$B$130*D22 -> 1931027.9
B24: Globaal E-peil | D24: =ROUNDUP((D10-D20)/D23*100,0) -> 44

Sheet Parameters
A2: Parameters en tussenrekenresultaten
B3: jan | C3: feb | D3: mrt | E3: apr | F3: mei | G3: jun | H3: jul | I3: aug | J3: sep | K3: okt | L3: nov | M3: dec
A4: Algemeen
A6: tm | B6: 2.6784 | C6: 2.4192 | D6: 2.6784 | E6: 2.592 | F6: 2.6784 | G6: 2.592 | H6: 2.6784 | I6: 2.6784 | J6: 2.592 | K6: 2.6784 | L6: 2.592 | M6: 2.6784 | N6: Ms | P6: sumproduct: tm x Te | Q6: =SUMPRODUCT(B6:M6,B7:M7) -> 324.648
A7: θ | B7: 3.2 | C7: 3.9 | D7: 5.9 | E7: 9.2 | F7: 13.3 | G7: 16.2 | H7: 17.6 | I7: 17.6 | J7: 15.2 | K7: 11.2 | L7: 6.3 | M7: 3.5 | N7: °C | P7: gemiddelde Te | Q7: =Q6/SUM(B6:M6) -> 10.294521
A8: θe,v,koeling | B8: 16 | C8: 16 | D8: 16 | E8: 16 | F8: 16 | G8: 18.2 | H8: 19.6 | I8: 19.6 | J8: 17.2 | K8: 16 | L8: 16 | M8: 16 | N8: °C | P8: =AVERAGE(B7,C7,D7,L7,M7) -> 4.56
A9: ti, RVT, verwarming | B9: 23 | C9: 23 | D9: 23 | E9: 23 | F9: 23 | G9: 23 | H9: 23 | I9: 23 | J9: 23 | K9: 23 | L9: 23 | M9: 23 | N9: °C
A10: ti, RVT, koeling | B10: 23 | C10: 23 | D10: 23 | E10: 23 | F10: 23 | G10: 23 | H10: 23 | I10: 23 | J10: 23 | K10: 23 | L10: 23 | M10: 23 | N10: °C
A11: ti | B11: 19 | C11: =B11 -> 19 | D11: =C11 -> 19 | E11: =D11 -> 19 | F11: =E11 -> 19 | G11: =F11 -> 19 | H11: =G11 -> 19 | I11: =H11 -> 19 | J11: =I11 -> 19 | ... M11: =L11 -> 19 | N11: °C
A12: Ventilatie
F13: EPU
A14: rfans,cool,seci | B14: 0.8
A15: fvent,heat | B15: 1 | C15: tijdsfractie ventilatie verwarming | F15: 0.3 | O15: rfans,cool,seci | P15: mechanische pulsie, W forfetair | Q15: 0.3
A16: fvent,cool | B16: 1 | C16: tijdsfractie ventilatie koeling | F16: 0.3 | P16: enkel mech extractie | Q16: 0
A17: ffans,seci,m | B17: 1 | C17: tijdsfractie ventilatoren | F17: 0.3 | P17: mech. Pulsie + extractie | Q17: 0.6
A18: fregel | B18: =IF(Gegevensinvoer!C56=0,1,MIN(Gegevensinvoer!C53/Gegevensinvoer!C56,1)) -> 1 | C18: terugregeling ventilatie winter | F18: 1 | P18: recirculatie of wtw | Q18: 0.8
P19: overige | Q19: 0.5
A20: Gegevens om minimale ventilatiedebieten te berekenen
A21: Bezetting | P21: p.23 bijlage II
A22: patientenkamer | B22: 2 | C22: ventilatievouden per kamer of per zone van alle kamers
A23: polyvalenteruimte | B23: 4 | C23: m²/persoon
A24: verpleeglokalen, kine, kantoren | B24: 10 | C24: m²/persoon
A25: niet voor menselijke bezetting | B25: 1.3 | C25: m³/h.m²
A28: Interne warmtewinsten
B30: kamer | D30: leefruimtes | E30: kantoren,… | F30: andere (circulatie, berging,…) | P30: kamers | Q30: leefruimtes
A31: personen | B31: =(80*12+100*12*0.5*1.3)/24 -> 72.5 | C31: W/kamer | D31: =100/B23*D33 -> 12.5 | E31: =100/B24*E33 -> 5 | G31: W/m² | O31: personen | P31: (80W.12h+100W.12h.0.5.1.5)/24h | Q31: 100W.A/4.0.5 | R31: overdag 1.5 pers op een kamer over 0.5% van de tijd
A32: apparaten | B32: =(150*9+150/4*15)/24 -> 79.6875 | C32: W/kamer | D32: =2*D33 -> 1 | E32: =D32 -> 1 | G32: W/m² | O32: apparaten | P32: (150W.9h+150W/4.15h)/24h | Q32: 2 W/m².0.5
A33: bezettingsgraad | D33: 0.5 | E33: 0.5
A34: totaal | B34: =B31+B32 -> 152.1875 | C34: W/kamer | D34: =D31+D32 -> 13.5 | E34: =E31+E32 -> 6 | F34: =F31+F32 -> 0 | G34: W/m²
A36: ventilatie | B36: zie ventilatie | O36: ventilatie | P36: zie Ugent | Q36: zie Ugent
A37: verlichting | B37: =Gegevensinvoer!C64*Gegevensinvoer!C65/(365*24) -> 1.3664384 | G37: W/m² | O37: verlichting | P37: zie verlichting | Q37: zie verlichting
A41: verwarming
A43: effectieve th. Capaciteit C | B43: =IF(Gegevensinvoer!C26=0,55*Gegevensinvoer!C17,Gegevensinvoer!C26) -> 65571 | C43: kJ/K
A44: AT,E,seci | B44: =Gegevensinvoer!C14 -> 2177.86 | C44: m²
A45: HT, koeling | B45: =B46 -> 860.81593 | C45: W/K
A46: Ht, verwarming | B46: =(ResultatenEPB!C13/(Parameters!B11-Parameters!B7)/Parameters!B6) -> 860.81593 | C46: W/K
A48: Ventilatieverliezen
A49: Kamers en leefruimte | B49: Vsupply,sec,i | C49: rpreh,heat,seci | D49: rpreh,cool,seci | E49: Vsupp,heat | F49: Vsupp,cool
A50: mechanisch | B50: =IF(Gegevensinvoer!C48="D",Gegevensinvoer!C53,0) -> 5515 | C50: =K50 -> 0.33032143 | D50: 1 | E50: =B50*C50*Parameters!$B$15*Parameters!$B$18 -> 1821.7227 | F50: =B50*D50*Parameters!$B$16 -> 5515 | J50: rpreh | K50: =(B50-K51*MIN(B50,B55)+MAX(0,B55-B50))/MAX(B50,B55) -> 0.33032143
A51: natuurlijk | B51: =IF(Gegevensinvoer!C48="C",Gegevensinvoer!C53,0) -> 0 | C51: 1 | D51: 1 | E51: =B51*C51*Parameters!$B$15*Parameters!$B$18 -> 0 | F51: =B51*D51*Parameters!$B$16 -> 0 | J51: e | K51: =K52*K53 -> 0.68
...

Sheet SWW
C2: Berekening warm tapwater
C4: aantal bedden | D4: =Gegevensinvoer!C16 -> 16 | M4: januari | N4: februari | O4: maart | P4: april | Q4: mei | R4: juni | S4: juli | T4: augustus | U4: september | V4: oktober | W4: november | X4: december | Y4: gemiddelde
C5: behoefte/kamer | D5: 25 | E5: l/dag | L5: tm | M5: =Parameters!B6 -> 2.6784 | N5: =Parameters!C6 -> 2.4192 | O5: =Parameters!D6 -> 2.6784 | P5: =Parameters!E6 -> 2.592 | Q5: =Parameters!F6 -> 2.6784 | R5: =Parameters!G6 -> 2.592 | S5: =Parameters!H6 -> 2.6784 | T5: =Parameters!I6 -> 2.6784 | ... X5: =Parameters!M6 -> 2.6784 | Z5: =Parameters!N6 -> Ms
C6: behoefte | D6: =D4*D5 -> 400 | E6: l/dag | L6: θe,m | M6: =Parameters!B7 -> 3.2 | N6: =Parameters!C7 -> 3.9 | O6: =Parameters!D7 -> 5.9 | P6: =Parameters!E7 -> 9.2 | Q6: =Parameters!F7 -> 13.3 | R6: =Parameters!G7 -> 16.2 | S6: =Parameters!H7 -> 17.6 | T6: =Parameters!I7 -> 17.6 | ... X6: =Parameters!M7 -> 3.5
C7: aantal dagen/jaar | D7: 365 | L7: θamb,m,j | M7: =IF($D$25=1,$I$25,IF($D$25=2,11+0.4*M6,M6)) -> 23 | N7: =IF($D$25=1,$I$25,IF($D$25=2,11+0.4*N6,N6)) -> 23 | O7: =IF($D$25=1,$I$25,IF($D$25=2,11+0.4*O6,O6)) -> 23 | P7: =IF($D$25=1,$I$25,IF($D$25=2,11+0.4*P6,P6)) -> 23 | Q7: =IF($D$25=1,$I$25,IF($D$25=2,11+0.4*Q6,Q6)) -> 23 | R7: =IF($D$25=1,$I$25,IF($D$25=2,11+0.4*R6,R6)) -> 23 | S7: =IF($D$25=1,$I$25,IF($D$25=2,11+0.4*S6,S6)) -> 23 | T7: =IF($D$25=1,$I$25,IF($D$25=2,11+0.4*T6,T6)) -> 23 | ... X7: =IF($D$25=1,$I$25,IF($D$25=2,11+0.4*X6,X6)) -> 23
C8: behoefte | D8: =D7*D6 -> 146000 | E8: l/jaar | L8: ηwater,circk,m | M8: =$D$23/($D$23+M5*$D$16*($H$29-M7)/$D$31) -> 0.32975623 | N8: =$D$23/($D$23+N5*$D$16*($H$29-N7)/$D$31) -> 0.35262852 | O8: =$D$23/($D$23+O5*$D$16*($H$29-O7)/$D$31) -> 0.32975623 | P8: =$D$23/($D$23+P5*$D$16*($H$29-P7)/$D$31) -> 0.33704336 | Q8: =$D$23/($D$23+Q5*$D$16*($H$29-Q7)/$D$31) -> 0.32975623 | R8: =$D$23/($D$23+R5*$D$16*($H$29-R7)/$D$31) -> 0.33704336 | S8: =$D$23/($D$23+S5*$D$16*($H$29-S7)/$D$31) -> 0.32975623 | T8: =$D$23/($D$23+T5*$D$16*($H$29-T7)/$D$31) -> 0.32975623 | ... X8: =$D$23/($D$23+X5*$D$16*($H$29-X7)/$D$31) -> 0.32975623
C9: volume | D9: =D8/1000 -> 146 | E9: m³/jaar | K9: ηsys, bath=ηtubing, bath*ηwater, circ | L9: ηsys,bath,i,m | M9: =M8*$D$22 -> 0.2944252 | N9: =N8*$D$22 -> 0.3148469 | O9: =O8*$D$22 -> 0.2944252 | P9: =P8*$D$22 -> 0.30093157 | Q9: =Q8*$D$22 -> 0.2944252 | R9: =R8*$D$22 -> 0.30093157 | S9: =S8*$D$22 -> 0.2944252 | T9: =T8*$D$22 -> 0.2944252 | ... X9: =X8*$D$22 -> 0.2944252 | Y9: =AVERAGE(M9:X9) -> 0.2982958
C10: ρ | D10: 998 | E10: kg/m³ | L10: leidingsverliezen | M10: =($H$29-M7)/$D$31 -> 9 | N10: =($H$29-N7)/$D$31 -> 9 | O10: =($H$29-O7)/$D$31 -> 9 | P10: =($H$29-P7)/$D$31 -> 9 | Q10: =($H$29-Q7)/$D$31 -> 9 | R10: =($H$29-R7)/$D$31 -> 9 | S10: =($H$29-S7)/$D$31 -> 9 | T10: =($H$29-T7)/$D$31 -> 9 | ... X10: =($H$29-X7)/$D$31 -> 9 | Y10: =AVERAGE(M10:X10) -> 9 | Z10: W/m
C11: cp | D11: 4186 | E11: J/kgK | L11: distributieverliezen | M11: =M10*$D$16*M5 -> 5785.344 | N11: =N10*$D$16*N5 -> 5225.472 | O11: =O10*$D$16*O5 -> 5785.344 | P11: =P10*$D$16*P5 -> 5598.72 | Q11: =Q10*$D$16*Q5 -> 5785.344 | R11: =R10*$D$16*R5 -> 5598.72 | S11: =S10*$D$16*S5 -> 5785.344 | T11: =T10*$D$16*T5 -> 5785.344 | ... X11: =X10*$D$16*X5 -> 5785.344 | Y11: =SUM(M11:X11) -> 68117.76 | Z11: MJ
C12: ΔT | D12: 50 | E12: °C
C13: Qnet (behoefte) | D13: =D9*D10*D11*D12/1000000 -> 30496.684 | E13: MJ/jaar | F13: =D13/3.6 -> 8471.3012 | G13: kWh/jaar | M13: =$D$39*M5/SUM($M$5:$X$5) -> 8683.0903 | N13: =$D$39*N5/SUM($M$5:$X$5) -> 7842.7912 | O13: =$D$39*O5/SUM($M$5:$X$5) -> 8683.0903 | P13: =$D$39*P5/SUM($M$5:$X$5) -> 8402.9906 | Q13: =$D$39*Q5/SUM($M$5:$X$5) -> 8683.0903 | R13: =$D$39*R5/SUM($M$5:$X$5) -> 8402.9906 | S13: =$D$39*S5/SUM($M$5:$X$5) -> 8683.0903 | T13: =$D$39*T5/SUM($M$5:$X$5) -> 8683.0903 | ... X13: =$D$39*X5/SUM($M$5:$X$5) -> 8683.0903
C15: lengte circulatieleiding | D15: =Gegevensinvoer!C41 -> 15 | E15: m/bed
C16: lengte circulatieleiding | D16: =D15*D4 -> 240 | E16: m
C18: gemiddelde tapleidinglengte/bed | D18: =Gegevensinvoer!C42 -> 3 | E18: m
C19: gemiddeld aantal tappunten/bed | D19: 1
C20: rwater,bath i,net | D20: 1
C22: ηtubing,bath | D22: =25/(25+D18/D20) -> 0.89285714
C23: Qwater our,circ k,m | D23: =$D$13/$D$22*$D$19/12 -> 2846.3572 | E23: MJ/maand | H23: hse | I23: Ti
C25: plaats leiding | D25: 1 | F25: 1 | G25: binnen BV | H25: 8 | I25: 23
C26: hse | D26: =VLOOKUP(D25,F25:I27,3,FALSE) -> 8 | E26: W/m²K | F26: 2 | G26: in AOR | H26: 10
F27: 3 | G27: buiten | H27: 25
C28: λins | D28: 0.036 | E28: W/mK | F28: 0.036
C29: isolatiedikte | D29: 0.075 | E29: m | F29: 0.075 | G29: Tw | H29: =D12+10 -> 60 | I29: °C
C30: binnendiameter Di | D30: 0.054 | E30: m | F30: 0.054 | G30: D | H30: =D30+2*D29 -> 0.204 | I30: m
C31: Rl,j | D31: =(H29-I25)/(D32) -> 4.1111111 | E31: mk/W | F31: =0.6/2/F28/PI()*LN(H30/F30)+1/(D26*H30*PI()) -> 3.7206854
C32: leidingsverliezen | D32: =Gegevensinvoer!C43 -> 9 | E32: W/m
C33: distributieverliezen | D33: =D32*D16 -> 2160 | E33: W | F33: =D33*365*24*3600/1000000 -> 68117.76 | G33: MJ/jaar
C35: ηsys,bath,i | D35: =Y9 -> 0.2982958
C39: Qbruto | D39: =D20*D13/D35 -> 102236.39 | E39: MJ/jaar | F39: =D39/3.6 -> 28398.996 | G39: kWh/jaar
C41: rendement (opw + opslag) | D41: =Gegevensinvoer!C40 -> 0.45 | E41: (verbrandingstoestel met warmte-opslag)
C42: verbruik | D42: =D39/D41 -> 227191.97 | E42: MJ/jaar | F42: =F39/D41 -> 63108.88 | G42: kWh/jaar
C44: zonnecollector
C45: - oppervlakte | D45: =Gegevensinvoer!C44 -> 0 | E45: m²
C46: - helling | D46: =Gegevensinvoer!C46 -> 0 | E46: °
C47: - orientatie | D47: =Gegevensinvoer!C45 -> 0 | E47: °
C49: primair omzettingsfactor | D49: 1
C50: primair energieverbruik | D50: =IF(Gegevensinvoer!C37="",zonnecollector!Q17,Gegevensinvoer!C37) -> 227191.59 | E50: MJ/jaar | F50: =D50/3.6 -> 63108.774 | G50: kWh/jaar
C52: referentie verbruik | D52: =Parameters!B130*D4 -> 288000 | E52: MJ/jaar
D54: =D50/D52 -> 0.78885967

Sheet zonnecollector
B2: Berekening energie-opwekking aan de hand van zonnecollectoren voor sanitair warm water
B5: Geen invoer, enkel tussenresultaten
B9: Acoll | E9: =IF(SWW!D45=0,0.0001,SWW!D45) -> 0.0001 | F9: m²
B10: φ | E10: 50.78 | F10: °NB | G10: =RADIANS(E10) -> 0.88627819 | H10: rad NB | K10: Breedteligging, Ukkel | P10: =(30-22.5)/(45-22.5)*0.02 -> 0.0066666667
B11: θj | E11: =Gegevensinvoer!C46 -> 0 | F11: ° | G11: =RADIANS(E11) -> 0 | H11: rad | K11: helling collectorvlak | P11: =1.03+P10 -> 1.0366667
B12: φj | E12: =Gegevensinvoer!C45 -> 0 | F12: ° | G12: =RADIANS(E12) -> 0 | H12: rad | K12: orientatie collectorvlak
B13: cw | E13: 1.04 | K13: Bijlage I, Appendix C, p.105
B14: ηopw | E14: =SWW!D41 -> 0.45 | K14: Met verbrandingstoestel en warmteopslag
E15: jan | F15: feb | G15: maa | H15: apr | I15: mei | J15: jun | K15: jul | L15: aug | M15: sep | N15: okt | O15: nov | P15: dec | Q15: jaar
B17: Qeind,m | E17: =(1*(1-E20)*E24)/$E14 -> 18932.656 | F17: =(1*(1-F20)*F24)/$E14 -> 18932.65 | G17: =(1*(1-G20)*G24)/$E14 -> 18932.637 | H17: =(1*(1-H20)*H24)/$E14 -> 18932.623 | I17: =(1*(1-I20)*I24)/$E14 -> 18932.608 | J17: =(1*(1-J20)*J24)/$E14 -> 18932.606 | K17: =(1*(1-K20)*K24)/$E14 -> 18932.607 | L17: =(1*(1-L20)*L24)/$E14 -> 18932.614 | ... P17: =(1*(1-P20)*P24)/$E14 -> 18932.658 | Q17: =SUM(E17:P17) -> 227191.59 | R17: MJ | T17: 229465.9 | U17: 98773.053 | V17: MJ
B18: Qprim | Q18: =Q17*1 -> 227191.59
B20: fas,m | E20: =MIN(1,E21*E23/E24) -> 4.1366282e-07 | F20: =MIN(1,F21*F23/F24) -> 7.3392768e-07 | G20: =MIN(1,G21*G23/G24) -> 1.4178224e-06 | H20: =MIN(1,H21*H23/H24) -> 2.142184e-06 | I20: =MIN(1,I21*I23/I24) -> 2.9393159e-06 | J20: =MIN(1,J21*J23/J24) -> 3.0666239e-06 | K20: =MIN(1,K21*K23/K24) -> 2.9860825e-06 | L20: =MIN(1,L21*L23/L24) -> 2.6312347e-06 | ... P20: =MIN(1,P21*P23/P24) -> 3.1710191e-07
B21: ηas | E21: =MIN(MAX(0,(0.16+0.2*$Q24/$Q23)),0.8) -> 0.8 | F21: =MIN(MAX(0,(0.16+0.2*$Q24/$Q23)),0.8) -> 0.8 | G21: =MIN(MAX(0,(0.16+0.2*$Q24/$Q23)),0.8) -> 0.8 | H21: =MIN(MAX(0,(0.16+0.2*$Q24/$Q23)),0.8) -> 0.8 | I21: =MIN(MAX(0,(0.16+0.2*$Q24/$Q23)),0.8) -> 0.8 | J21: =MIN(MAX(0,(0.16+0.2*$Q24/$Q23)),0.8) -> 0.8 | K21: =MIN(MAX(0,(0.16+0.2*$Q24/$Q23)),0.8) -> 0.8 | L21: =MIN(MAX(0,(0.16+0.2*$Q24/$Q23)),0.8) -> 0.8 | ... P21: =MIN(MAX(0,(0.16+0.2*$Q24/$Q23)),0.8) -> 0.8
B22: m | E22: 1 | F22: 2 | G22: 3 | H22: 4 | I22: 5 | J22: 6 | K22: 7 | L22: 8 | M22: 9 | N22: 10 | O22: 11 | P22: 12
B23: Qas,m | E23: =$E9*E25 -> 0.0044053533 | F23: =$E9*F25 -> 0.0078160535 | G23: =$E9*G25 -> 0.015099275 | H23: =$E9*H25 -> 0.022813453 | I23: =$E9*I25 -> 0.031302608 | J23: =$E9*J25 -> 0.03265839 | K23: =$E9*K25 -> 0.031800655 | L23: =$E9*L25 -> 0.028021659 | ... P23: =$E9*P25 -> 0.003377016 | Q23: =SUM(E23:P23) -> 0.21475494 | R23: 10.4.1.1
B24: Qdemand,m | E24: =SWW!D39/12 -> 8519.6988 | F24: =E24 -> 8519.6988 | G24: =F24 -> 8519.6988 | H24: =G24 -> 8519.6988 | I24: =H24 -> 8519.6988 | J24: =I24 -> 8519.6988 | K24: =J24 -> 8519.6988 | L24: =K24 -> 8519.6988 | M24: =L24 -> 8519.6988 | ... P24: =O24 -> 8519.6988 | Q24: =SUM(E24:P24) -> 102236.39 | R24: 10.4.1.1 | S24: Qbrut
B25: Ias,shad,m | E25: =0.6*E26 -> 44.053533 | F25: =0.6*F26 -> 78.160535 | G25: =0.6*G26 -> 150.99275 | H25: =0.6*H26 -> 228.13453 | I25: =0.6*I26 -> 313.02608 | J25: =0.6*J26 -> 326.5839 | K25: =0.6*K26 -> 318.00655 | L25: =0.6*L26 -> 280.21659 | ... P25: =0.6*P26 -> 33.77016
B26: Ias,unshad,m | E26: =SUM(E28:E30) -> 73.422555 | F26: =SUM(F28:F30) -> 130.26756 | G26: =SUM(G28:G30) -> 251.65459 | H26: =SUM(H28:H30) -> 380.22422 | I26: =SUM(I28:I30) -> 521.71013 | J26: =SUM(J28:J30) -> 544.3065 | K26: =SUM(K28:K30) -> 530.01091 | L26: =SUM(L28:L30) -> 467.02765 | ... P26: =SUM(P28:P30) -> 56.2836
B28: Is,dir | E28: =(E31-E32)*E33/E34 -> 20.070555 | F28: =(F31-F32)*F33/F34 -> 44.259558 | G28: =(G31-G32)*G33/G34 -> 90.350586 | H28: =(H31-H32)*H33/H34 -> 152.25622 | I28: =(I31-I32)*I33/I34 -> 216.47013 | J28: =(J31-J32)*J33/J34 -> 234.2825 | K28: =(K31-K32)*K33/K34 -> 211.97891 | L28: =(L31-L32)*L33/L34 -> 189.65965 | ... P28: =(P31-P32)*P33/P34 -> 14.4756
B29: Is,dif | E29: =E32*$E13*((1+COS($G11))/2) -> 53.352 | F29: =F32*$E13*((1+COS($G11))/2) -> 86.008 | G29: =G32*$E13*((1+COS($G11))/2) -> 161.304 | H29: =H32*$E13*((1+COS($G11))/2) -> 227.968 | I29: =I32*$E13*((1+COS($G11))/2) -> 305.24 | J29: =J32*$E13*((1+COS($G11))/2) -> 310.024 | K29: =K32*$E13*((1+COS($G11))/2) -> 318.032 | L29: =L32*$E13*((1+COS($G11))/2) -> 277.368 | ... P29: =P32*$E13*((1+COS($G11))/2) -> 41.808
B30: Is,refl | E30: =0.2*E31*((1-COS($G11))/2) -> 0 | F30: =0.2*F31*((1-COS($G11))/2) -> 0 | G30: =0.2*G31*((1-COS($G11))/2) -> 0 | H30: =0.2*H31*((1-COS($G11))/2) -> 0 | I30: =0.2*I31*((1-COS($G11))/2) -> 0 | J30: =0.2*J31*((1-COS($G11))/2) -> 0 | K30: =0.2*K31*((1-COS($G11))/2) -> 0 | L30: =0.2*L31*((1-COS($G11))/2) -> 0 | ... P30: =0.2*P31*((1-COS($G11))/2) -> 0
B31: Is,tot,hor | E31: 71.4 | F31: 127 | G31: 245.5 | H31: 371.5 | I31: 510 | J31: 532.4 | K31: 517.8 | L31: 456.4 | M31: 326.2 | N31: 194.2 | O31: 89.6 | P31: 54.7
B32: Is,dif,hor | E32: 51.3 | F32: 82.7 | G32: 155.1 | H32: 219.2 | I32: 293.5 | J32: 298.1 | K32: 305.8 | L32: 266.7 | M32: 183.6 | N32: 118.3 | O32: 60.5 | P32: 40.2
B33: Qs,dir,char [J/m².dag] | E33: =240*SUM(DU40:DU63) -> 3397278.9 | F33: =240*SUM(DV40:DV63) -> 6602955.4 | G33: =240*SUM(DW40:DW63) -> 11414740 | H33: =240*SUM(DX40:DX63) -> 17431644 | I33: =240*SUM(DY40:DY63) -> 22123819 | J33: =240*SUM(DZ40:DZ63) -> 24428344 | K33: =240*SUM(EA40:EA63) -> 23534796 | L33: =240*SUM(EB40:EB63) -> 19643751 | ... P33: =240*SUM(EF40:EF63) -> 2713946.6
B34: Qs,dir,char,hor [J/m².dag] | E34: =240*SUM(EG40:EG63) -> 3402262.9 | F34: =240*SUM(EH40:EH63) -> 6608988.8 | G34: =240*SUM(EI40:EI63) -> 11420983 | H34: =240*SUM(EJ40:EJ63) -> 17436656 | I34: =240*SUM(EK40:EK63) -> 22126871 | J34: =240*SUM(EL40:EL63) -> 24430169 | K34: =240*SUM(EM40:EM63) -> 23537137 | L34: =240*SUM(EN40:EN63) -> 19647931 | ... P34: =240*SUM(ER40:ER63) -> 2718521.3
B35: d | E35: 15 | F35: 46 | G35: 74 | H35: 105 | I35: 135 | J35: 166 | K35: 196 | L35: 227 | M35: 258 | N35: 288 | O35: 319 | P35: 349
B36: δ [rad] | E36: =ASIN(-SIN(RADIANS(23.45))*COS(RADIANS((360/365)*(E35+10)))) -> -0.37005074 | F36: =ASIN(-SIN(RADIANS(23.45))*COS(RADIANS((360/365)*(F35+10)))) -> -0.22892134 | G36: =ASIN(-SIN(RADIANS(23.45))*COS(RADIANS((360/365)*(G35+10)))) -> -0.049556634 | H36: =ASIN(-SIN(RADIANS(23.45))*COS(RADIANS((360/365)*(H35+10)))) -> 0.15886907 | I36: =ASIN(-SIN(RADIANS(23.45))*COS(RADIANS((360/365)*(I35+10)))) -> 0.32348545 | J36: =ASIN(-SIN(RADIANS(23.45))*COS(RADIANS((360/365)*(J35+10)))) -> 0.40656872 | K36: =ASIN(-SIN(RADIANS(23.45))*COS(RADIANS((360/365)*(K35+10)))) -> 0.37452296 | L36: =ASIN(-SIN(RADIANS(23.45))*COS(RADIANS((360/365)*(L35+10)))) -> 0.23751867 | ... P36: =ASIN(-SIN(RADIANS(23.45))*COS(RADIANS((360/365)*(P35+10)))) -> -0.4069692
B39: Uurhoek ω | C39: [°] | D39: [rad] | E39: zonnehoogtehoek β [°] | Q39: troebelheidsfactor TL | AC39: optische weglengte dR [m] | AO39: wegfactor m [-1] | BA39: cos(χs,j) | BM39: cos(χs,hor) | BY39: cos(χs,hor) | CK39: q,s,dir | CW39: ω1,2 | DI39: ω3,4 | DU39: Q,dir,j per uur | EG39: Qdir,hor,per uur
B40: 0 | C40: 180 | D40: =RADIANS(C40) -> 3.1415927 | E40: =MAX(0,90-DEGREES(ACOS(COS($G$10)*COS(E$36)*COS($D40)+SIN($G$10)*SIN(E$36)))) -> 0 | F40: =MAX(0,90-DEGREES(ACOS(COS($G$10)*COS(F$36)*COS($D40)+SIN($G$10)*SIN(F$36)))) -> 0 | G40: =MAX(0,90-DEGREES(ACOS(COS($G$10)*COS(G$36)*COS($D40)+SIN($G$10)*SIN(G$36)))) -> 0 | H40: =MAX(0,90-DEGREES(ACOS(COS($G$10)*COS(H$36)*COS($D40)+SIN($G$10)*SIN(H$36)))) -> 0 | I40: =MAX(0,90-DEGREES(ACOS(COS($G$10)*COS(I$36)*COS($D40)+SIN($G$10)*SIN(I$36)))) -> 0 | J40: =MAX(0,90-DEGREES(ACOS(COS($G$10)*COS(J$36)*COS($D40)+SIN($G$10)*SIN(J$36)))) -> 0 | K40: =MAX(0,90-DEGREES(ACOS(COS($G$10)*COS(K$36)*COS($D40)+SIN($G$10)*SIN(K$36)))) -> 0 | L40: =MAX(0,90-DEGREES(ACOS(COS($G$10)*COS(L$36)*COS($D40)+SIN($G$10)*SIN(L$36)))) -> 0 | ... P40: =MAX(0,90-DEGREES(ACOS(COS($G$10)*COS(P$36)*COS($D40)+SIN($G$10)*SIN(P$36)))) -> 0 | Q40: =3.372+0.053*(PI()*E40/180)-0.296*COS(RADIANS(30*E$22)) -> 3.1156565 | R40: =3.372+0.053*(PI()*F40/180)-0.296*COS(RADIANS(30*F$22)) -> 3.224 | S40: =3.372+0.053*(PI()*G40/180)-0.296*COS(RADIANS(30*G$22)) -> 3.372 | T40: =3.372+0.053*(PI()*H40/180)-0.296*COS(RADIANS(30*H$22)) -> 3.52 | U40: =3.372+0.053*(PI()*I40/180)-0.296*COS(RADIANS(30*I$22)) -> 3.6283435 | V40: =3.372+0.053*(PI()*J40/180)-0.296*COS(RADIANS(30*J$22)) -> 3.668 | W40: =3.372+0.053*(PI()*K40/180)-0.296*COS(RADIANS(30*K$22)) -> 3.6283435 | X40: =3.372+0.053*(PI()*L40/180)-0.296*COS(RADIANS(30*L$22)) -> 3.52 | ... AB40: =3.372+0.053*(PI()*P40/180)-0.296*COS(RADIANS(30*P$22)) -> 3.076 | AC40: =1.4899-2.1099*COS(RADIANS(E40))+0.6322*COS(RADIANS(2*E40))+0.0253*COS(RADIANS(3*E40))-1.0022*SIN(RADIANS(E40))+1.0077*SIN(RADIANS(2*E40))-0.2606*SIN(RADIANS(3*E40)) -> 0.0375 | AD40: =1.4899-2.1099*COS(RADIANS(F40))+0.6322*COS(RADIANS(2*F40))+0.0253*COS(RADIANS(3*F40))-1.0022*SIN(RADIANS(F40))+1.0077*SIN(RADIANS(2*F40))-0.2606*SIN(RADIANS(3*F40)) -> 0.0375 | AE40: =1.4899-2.1099*COS(RADIANS(G40))+0.6322*COS(RADIANS(2*G40))+0.0253*COS(RADIANS(3*G40))-1.0022*SIN(RADIANS(G40))+1.0077*SIN(RADIANS(2*G40))-0.2606*SIN(RADIANS(3*G40)) -> 0.0375 | AF40: =1.4899-2.1099*COS(RADIANS(H40))+0.6322*COS(RADIANS(2*H40))+0.0253*COS(RADIANS(3*H40))-1.0022*SIN(RADIANS(H40))+1.0077*SIN(RADIANS(2*H40))-0.2606*SIN(RADIANS(3*H40)) -> 0.0375 | AG40: =1.4899-2.1099*COS(RADIANS(I40))+0.6322*COS(RADIANS(2*I40))+0.0253*COS(RADIANS(3*I40))-1.0022*SIN(RADIANS(I40))+1.0077*SIN(RADIANS(2*I40))-0.2606*SIN(RADIANS(3*I40)) -> 0.0375 | AH40: =1.4899-2.1099*COS(RADIANS(J40))+0.6322*COS(RADIANS(2*J40))+0.0253*COS(RADIANS(3*J40))-1.0022*SIN(RADIANS(J40))+1.0077*SIN(RADIANS(2*J40))-0.2606*SIN(RADIANS(3*J40)) -> 0.0375 | AI40: =1.4899-2.1099*COS(RADIANS(K40))+0.6322*COS(RADIANS(2*K40))+0.0253*COS(RADIANS(3*K40))-1.0022*SIN(RADIANS(K40))+1.0077*SIN(RADIANS(2*K40))-0.2606*SIN(RADIANS(3*K40)) -> 0.0375 | AJ40: =1.4899-2.1099*COS(RADIANS(L40))+0.6322*COS(RADIANS(2*L40))+0.0253*COS(RADIANS(3*L40))-1.0022*SIN(RADIANS(L40))+1.0077*SIN(RADIANS(2*L40))-0.2606*SIN(RADIANS(3*L40)) -> 0.0375 | ... AN40: =1.4899-2.1099*COS(RADIANS(P40))+0.6322*COS(RADIANS(2*P40))+0.0253*COS(RADIANS(3*P40))-1.0022*SIN(RADIANS(P40))+1.0077*SIN(RADIANS(2*P40))-0.2606*SIN(RADIANS(3*P40)) -> 0.0375 | AO40: =0.992/(SIN(RADIANS(E40))+0.15*(PI()*E40/180+3.885)^(-1.253)) -> 36.218242 | AP40: =0.992/(SIN(RADIANS(F40))+0.15*(PI()*F40/180+3.885)^(-1.253)) -> 36.218242 | AQ40: =0.992/(SIN(RADIANS(G40))+0.15*(PI()*G40/180+3.885)^(-1.253)) -> 36.218242 | AR40: =0.992/(SIN(RADIANS(H40))+0.15*(PI()*H40/180+3.885)^(-1.253)) -> 36.218242 | AS40: =0.992/(SIN(RADIANS(I40))+0.15*(PI()*I40/180+3.885)^(-1.253)) -> 36.218242 | AT40: =0.992/(SIN(RADIANS(J40))+0.15*(PI()*J40/180+3.885)^(-1.253)) -> 36.218242 | AU40: =0.992/(SIN(RADIANS(K40))+0.15*(PI()*K40/180+3.885)^(-1.253)) -> 36.218242 | AV40: =0.992/(SIN(RADIANS(L40))+0.15*(PI()*L40/180+3.885)^(-1.253)) -> 36.218242 | ... AZ40: =0.992/(SIN(RADIANS(P40))+0.15*(PI()*P40/180+3.885)^(-1.253)) -> 36.218242 | BA40: =0.775*(SIN(E$36)*COS($G$11)+COS(E$36)*SIN($G$11)*COS($G$12)*COS($D40))-0.632*(SIN(E$36)*SIN($G$11)*COS($G$12)-COS(E$36)*COS($G$11)*COS($D40))+COS(E$36)*SIN($G$11)*SIN($G$12)*SIN($D40) -> -0.86950791 | BB40: =0.775*(SIN(F$36)*COS($G$11)+COS(F$36)*SIN($G$11)*COS($G$12)*COS($D40))-0.632*(SIN(F$36)*SIN($G$11)*COS($G$12)-COS(F$36)*COS($G$11)*COS($D40))+COS(F$36)*SIN($G$11)*SIN($G$12)*SIN($D40) -> -0.79138075 | BC40: =0.775*(SIN(G$36)*COS($G$11)+COS(G$36)*SIN($G$11)*COS($G$12)*COS($D40))-0.632*(SIN(G$36)*SIN($G$11)*COS($G$12)-COS(G$36)*COS($G$11)*COS($D40))+COS(G$36)*SIN($G$11)*SIN($G$12)*SIN($D40) -> -0.66961478 | BD40: =0.775*(SIN(H$36)*COS($G$11)+COS(H$36)*SIN($G$11)*COS($G$12)*COS($D40))-0.632*(SIN(H$36)*SIN($G$11)*COS($G$12)-COS(H$36)*COS($G$11)*COS($D40))+COS(H$36)*SIN($G$11)*SIN($G$12)*SIN($D40) -> -0.50143486 | BE40: =0.775*(SIN(I$36)*COS($G$11)+COS(I$36)*SIN($G$11)*COS($G$12)*COS($D40))-0.632*(SIN(I$36)*SIN($G$11)*COS($G$12)-COS(I$36)*COS($G$11)*COS($D40))+COS(I$36)*SIN($G$11)*SIN($G$12)*SIN($D40) -> -0.35286851 | BF40: =0.775*(SIN(J$36)*COS($G$11)+COS(J$36)*SIN($G$11)*COS($G$12)*COS($D40))-0.632*(SIN(J$36)*SIN($G$11)*COS($G$12)-COS(J$36)*COS($G$11)*COS($D40))+COS(J$36)*SIN($G$11)*SIN($G$12)*SIN($D40) -> -0.27399979 | BG40: =0.775*(SIN(K$36)*COS($G$11)+COS(K$36)*SIN($G$11)*COS($G$12)*COS($D40))-0.632*(SIN(K$36)*SIN($G$11)*COS($G$12)-COS(K$36)*COS($G$11)*COS($D40))+COS(K$36)*SIN($G$11)*SIN($G$12)*SIN($D40) -> -0.30467402 | BH40: =0.775*(SIN(L$36)*COS($G$11)+COS(L$36)*SIN($G$11)*COS($G$12)*COS($D40))-0.632*(SIN(L$36)*SIN($G$11)*COS($G$12)-COS(L$36)*COS($G$11)*COS($D40))+COS(L$36)*SIN($G$11)*SIN($G$12)*SIN($D40) -> -0.43190542 | ... BL40: =0.775*(SIN(P$36)*COS($G$11)+COS(P$36)*SIN($G$11)*COS($G$12)*COS($D40))-0.632*(SIN(P$36)*SIN($G$11)*COS($G$12)-COS(P$36)*COS($G$11)*COS($D40))+COS(P$36)*SIN($G$11)*SIN($G$12)*SIN($D40) -> -0.88714784 | BM40: =COS(RADIANS(90-E40)) -> 6.1257423e-17 | BN40: =COS(RADIANS(90-F40)) -> 6.1257423e-17 | BO40: =COS(RADIANS(90-G40)) -> 6.1257423e-17 | BP40: =COS(RADIANS(90-H40)) -> 6.1257423e-17 | BQ40: =COS(RADIANS(90-I40)) -> 6.1257423e-17 | BR40: =COS(RADIANS(90-J40)) -> 6.1257423e-17 | BS40: =COS(RADIANS(90-K40)) -> 6.1257423e-17 | BT40: =COS(RADIANS(90-L40)) -> 6.1257423e-17 | ... BX40: =COS(RADIANS(90-P40)) -> 6.1257423e-17 | BY40: =IF(BM40=$BM$40,0,BM40) -> 0 | BZ40: =IF(BN40=$BM$40,0,BN40) -> 0 | CA40: =IF(BO40=$BM$40,0,BO40) -> 0 | CB40: =IF(BP40=$BM$40,0,BP40) -> 0 | CC40: =IF(BQ40=$BM$40,0,BQ40) -> 0 | CD40: =IF(BR40=$BM$40,0,BR40) -> 0 | CE40: =IF(BS40=$BM$40,0,BS40) -> 0 | CF40: =IF(BT40=$BM$40,0,BT40) -> 0 | ... CJ40: =IF(BX40=$BM$40,0,BX40) -> 0 | CK40: =MAX(0,1353*(1+0.033*COS(RADIANS(360*E$35/365)))*EXP(-AO40*AC40*Q40)) -> 20.284401 | CL40: =MAX(0,1353*(1+0.033*COS(RADIANS(360*F$35/365)))*EXP(-AP40*AD40*R40)) -> 17.360768 | CM40: =MAX(0,1353*(1+0.033*COS(RADIANS(360*G$35/365)))*EXP(-AQ40*AE40*S40)) -> 14.011696 | CN40: =MAX(0,1353*(1+0.033*COS(RADIANS(360*H$35/365)))*EXP(-AR40*AF40*T40)) -> 11.262779 | CO40: =MAX(0,1353*(1+0.033*COS(RADIANS(360*I$35/365)))*EXP(-AS40*AG40*U40)) -> 9.5763195 | CP40: =MAX(0,1353*(1+0.033*COS(RADIANS(360*J$35/365)))*EXP(-AT40*AH40*V40)) -> 8.9896155 | CQ40: =MAX(0,1353*(1+0.033*COS(RADIANS(360*K$35/365)))*EXP(-AU40*AI40*W40)) -> 9.4828169 | CR40: =MAX(0,1353*(1+0.033*COS(RADIANS(360*L$35/365)))*EXP(-AV40*AJ40*X40)) -> 11.080672 | ... CV40: =MAX(0,1353*(1+0.033*COS(RADIANS(360*P$35/365)))*EXP(-AZ40*AN40*AB40)) -> 21.403786 | CW40: =IF(AND(BY40>0,BA40>0),1,0) -> 0 | CX40: =IF(AND(BZ40>0,BB40>0),1,0) -> 0 | CY40: =IF(AND(CA40>0,BC40>0),1,0) -> 0 | CZ40: =IF(AND(CB40>0,BD40>0),1,0) -> 0 | DA40: =IF(AND(CC40>0,BE40>0),1,0) -> 0 | DB40: =IF(AND(CD40>0,BF40>0),1,0) -> 0 | DC40: =IF(AND(CE40>0,BG40>0),1,0) -> 0 | DD40: =IF(AND(CF40>0,BH40>0),1,0) -> 0 | ... DH40: =IF(AND(CJ40>0,BL40>0),1,0) -> 0 | DI40: =IF(BY40>0,1,0) -> 0 | DJ40: =IF(BZ40>0,1,0) -> 0 | DK40: =IF(CA40>0,1,0) -> 0 | DL40: =IF(CB40>0,1,0) -> 0 | DM40: =IF(CC40>0,1,0) -> 0 | DN40: =IF(CD40>0,1,0) -> 0 | DO40: =IF(CE40>0,1,0) -> 0 | DP40: =IF(CF40>0,1,0) -> 0 | ... DT40: =IF(CJ40>0,1,0) -> 0 | DU40: =CW40*MAX(0,(CK40*BA40*15)) -> 0 | DV40: =CX40*MAX(0,(CL40*BB40*15)) -> 0 | DW40: =CY40*MAX(0,(CM40*BC40*15)) -> 0 | DX40: =CZ40*MAX(0,(CN40*BD40*15)) -> 0 | DY40: =DA40*MAX(0,(CO40*BE40*15)) -> 0 | DZ40: =DB40*MAX(0,(CP40*BF40*15)) -> 0 | EA40: =DC40*MAX(0,(CQ40*BG40*15)) -> 0 | EB40: =DD40*MAX(0,(CR40*BH40*15)) -> 0 | ... EF40: =DH40*MAX(0,(CV40*BL40*15)) -> 0 | EG40: =DI40*MAX(0,(CK40*BY40*15)) -> 0 | EH40: =DJ40*MAX(0,(CL40*BZ40*15)) -> 0 | EI40: =DK40*MAX(0,(CM40*CA40*15)) -> 0 | EJ40: =DL40*MAX(0,(CN40*CB40*15)) -> 0 | EK40: =DM40*MAX(0,(CO40*CC40*15)) -> 0 | EL40: =DN40*MAX(0,(CP40*CD40*15)) -> 0 | EM40: =DO40*MAX(0,(CQ40*CE40*15)) -> 0 | EN40: =DP40*MAX(0,(CR40*CF40*15)) -> 0 | ... ER40: =DT40*MAX(0,(CV40*CJ40*15)) -> 0
B41: 0.041666667 | C41: =C40-15 -> 165 | D41: =RADIANS(C41) -> 2.8797933 | E41: =MAX(0,90-DEGREES(ACOS(COS($G$10)*COS(E$36)*COS($D41)+SIN($G$10)*SIN(E$36)))) -> 0 | F41: =MAX(0,90-DEGREES(ACOS(COS($G$10)*COS(F$36)*COS($D41)+SIN($G$10)*SIN(F$36)))) -> 0 | G41: =MAX(0,90-DEGREES(ACOS(COS($G$10)*COS(G$36)*COS($D41)+SIN($G$10)*SIN(G$36)))) -> 0 | H41: =MAX(0,90-DEGREES(ACOS(COS($G$10)*COS(H$36)*COS($D41)+SIN($G$10)*SIN(H$36)))) -> 0 | I41: =MAX(0,90-DEGREES(ACOS(COS($G$10)*COS(I$36)*COS($D41)+SIN($G$10)*SIN(I$36)))) -> 0 | J41: =MAX(0,90-DEGREES(ACOS(COS($G$10)*COS(J$36)*COS($D41)+SIN($G$10)*SIN(J$36)))) -> 0 | K41: =MAX(0,90-DEGREES(ACOS(COS($G$10)*COS(K$36)*COS($D41)+SIN($G$10)*SIN(K$36)))) -> 0 | L41: =MAX(0,90-DEGREES(ACOS(COS($G$10)*COS(L$36)*COS($D41)+SIN($G$10)*SIN(L$36)))) -> 0 | ... P41: =MAX(0,90-DEGREES(ACOS(COS($G$10)*COS(P$36)*COS($D41)+SIN($G$10)*SIN(P$36)))) -> 0 | Q41: =3.372+0.053*(PI()*E41/180)-0.296*COS(RADIANS(30*E$22)) -> 3.1156565 | R41: =3.372+0.053*(PI()*F41/180)-0.296*COS(RADIANS(30*F$22)) -> 3.224 | S41: =3.372+0.053*(PI()*G41/180)-0.296*COS(RADIANS(30*G$22)) -> 3.372 | T41: =3.372+0.053*(PI()*H41/180)-0.296*COS(RADIANS(30*H$22)) -> 3.52 | U41: =3.372+0.053*(PI()*I41/180)-0.296*COS(RADIANS(30*I$22)) -> 3.6283435 | V41: =3.372+0.053*(PI()*J41/180)-0.296*COS(RADIANS(30*J$22)) -> 3.668 | W41: =3.372+0.053*(PI()*K41/180)-0.296*COS(RADIANS(30*K$22)) -> 3.6283435 | X41: =3.372+0.053*(PI()*L41/180)-0.296*COS(RADIANS(30*L$22)) -> 3.52 | ... AB41: =3.372+0.053*(PI()*P41/180)-0.296*COS(RADIANS(30*P$22)) -> 3.076 | AC41: =1.4899-2.1099*COS(RADIANS(E41))+0.6322*COS(RADIANS(2*E41))+0.0253*COS(RADIANS(3*E41))-1.0022*SIN(RADIANS(E41))+1.0077*SIN(RADIANS(2*E41))-0.2606*SIN(RADIANS(3*E41)) -> 0.0375 | AD41: =1.4899-2.1099*COS(RADIANS(F41))+0.6322*COS(RADIANS(2*F41))+0.0253*COS(RADIANS(3*F41))-1.0022*SIN(RADIANS(F41))+1.0077*SIN(RADIANS(2*F41))-0.2606*SIN(RADIANS(3*F41)) -> 0.0375 | AE41: =1.4899-2.1099*COS(RADIANS(G41))+0.6322*COS(RADIANS(2*G41))+0.0253*COS(RADIANS(3*G41))-1.0022*SIN(RADIANS(G41))+1.0077*SIN(RADIANS(2*G41))-0.2606*SIN(RADIANS(3*G41)) -> 0.0375 | AF41: =1.4899-2.1099*COS(RADIANS(H41))+0.6322*COS(RADIANS(2*H41))+0.0253*COS(RADIANS(3*H41))-1.0022*SIN(RADIANS(H41))+1.0077*SIN(RADIANS(2*H41))-0.2606*SIN(RADIANS(3*H41)) -> 0.0375 | AG41: =1.4899-2.1099*COS(RADIANS(I41))+0.6322*COS(RADIANS(2*I41))+0.0253*COS(RADIANS(3*I41))-1.0022*SIN(RADIANS(I41))+1.0077*SIN(RADIANS(2*I41))-0.2606*SIN(RADIANS(3*I41)) -> 0.0375 | AH41: =1.4899-2.1099*COS(RADIANS(J41))+0.6322*COS(RADIANS(2*J41))+0.0253*COS(RADIANS(3*J41))-1.0022*SIN(RADIANS(J41))+1.0077*SIN(RADIANS(2*J41))-0.2606*SIN(RADIANS(3*J41)) -> 0.0375 | AI41: =1.4899-2.1099*COS(RADIANS(K41))+0.6322*COS(RADIANS(2*K41))+0.0253*COS(RADIANS(3*K41))-1.0022*SIN(RADIANS(K41))+1.0077*SIN(RADIANS(2*K41))-0.2606*SIN(RADIANS(3*K41)) -> 0.0375 | AJ41: =1.4899-2.1099*COS(RADIANS(L41))+0.6322*COS(RADIANS(2*L41))+0.0253*COS(RADIANS(3*L41))-1.0022*SIN(RADIANS(L41))+1.0077*SIN(RADIANS(2*L41))-0.2606*SIN(RADIANS(3*L41)) -> 0.0375 | ... AN41: =1.4899-2.1099*COS(RADIANS(P41))+0.6322*COS(RADIANS(2*P41))+0.0253*COS(RADIANS(3*P41))-1.0022*SIN(RADIANS(P41))+1.0077*SIN(RADIANS(2*P41))-0.2606*SIN(RADIANS(3*P41)) -> 0.0375 | AO41: =0.992/(SIN(RADIANS(E41))+0.15*(PI()*E41/180+3.885)^(-1.253)) -> 36.218242 | AP41: =0.992/(SIN(RADIANS(F41))+0.15*(PI()*F41/180+3.885)^(-1.253)) -> 36.218242 | AQ41: =0.992/(SIN(RADIANS(G41))+0.15*(PI()*G41/180+3.885)^(-1.253)) -> 36.218242 | AR41: =0.992/(SIN(RADIANS(H41))+0.15*(PI()*H41/180+3.885)^(-1.253)) -> 36.218242 | AS41: =0.992/(SIN(RADIANS(I41))+0.15*(PI()*I41/180+3.885)^(-1.253)) -> 36.218242 | AT41: =0.992/(SIN(RADIANS(J41))+0.15*(PI()*J41/180+3.885)^(-1.253)) -> 36.218242 | AU41: =0.992/(SIN(RADIANS(K41))+0.15*(PI()*K41/180+3.885)^(-1.253)) -> 36.218242 | AV41: =0.992/(SIN(RADIANS(L41))+0.15*(PI()*L41/180+3.885)^(-1.253)) -> 36.218242 | ... AZ41: =0.992/(SIN(RADIANS(P41))+0.15*(PI()*P41/180+3.885)^(-1.253)) -> 36.218242 | BA41: =0.775*(SIN(E$36)*COS($G$11)+COS(E$36)*SIN($G$11)*COS($G$12)*COS($D41))-0.632*(SIN(E$36)*SIN($G$11)*COS($G$12)-COS(E$36)*COS($G$11)*COS($D41))+COS(E$36)*SIN($G$11)*SIN($G$12)*SIN($D41) -> -0.84943075 | BB41: =0.775*(SIN(F$36)*COS($G$11)+COS(F$36)*SIN($G$11)*COS($G$12)*COS($D41))-0.632*(SIN(F$36)*SIN($G$11)*COS($G$12)-COS(F$36)*COS($G$11)*COS($D41))+COS(F$36)*SIN($G$11)*SIN($G$12)*SIN($D41) -> -0.77040768 | BC41: =0.775*(SIN(G$36)*COS($G$11)+COS(G$36)*SIN($G$11)*COS($G$12)*COS($D41))-0.632*(SIN(G$36)*SIN($G$11)*COS($G$12)-COS(G$36)*COS($G$11)*COS($D41))+COS(G$36)*SIN($G$11)*SIN($G$12)*SIN($D41) -> -0.64810634 | BD41: =0.775*(SIN(H$36)*COS($G$11)+COS(H$36)*SIN($G$11)*COS($G$12)*COS($D41))-0.632*(SIN(H$36)*SIN($G$11)*COS($G$12)-COS(H$36)*COS($G$11)*COS($D41))+COS(H$36)*SIN($G$11)*SIN($G$12)*SIN($D41) -> -0.48017118 | BE41: =0.775*(SIN(I$36)*COS($G$11)+COS(I$36)*SIN($G$11)*COS($G$12)*COS($D41))-0.632*(SIN(I$36)*SIN($G$11)*COS($G$12)-COS(I$36)*COS($G$11)*COS($D41))+COS(I$36)*SIN($G$11)*SIN($G$12)*SIN($D41) -> -0.33245058 | BF41: =0.775*(SIN(J$36)*COS($G$11)+COS(J$36)*SIN($G$11)*COS($G$12)*COS($D41))-0.632*(SIN(J$36)*SIN($G$11)*COS($G$12)-COS(J$36)*COS($G$11)*COS($D41))+COS(J$36)*SIN($G$11)*SIN($G$12)*SIN($D41) -> -0.25422036 | BG41: =0.775*(SIN(K$36)*COS($G$11)+COS(K$36)*SIN($G$11)*COS($G$12)*COS($D41))-0.632*(SIN(K$36)*SIN($G$11)*COS($G$12)-COS(K$36)*COS($G$11)*COS($D41))+COS(K$36)*SIN($G$11)*SIN($G$12)*SIN($D41) -> -0.28463189 | BH41: =0.775*(SIN(L$36)*COS($G$11)+COS(L$36)*SIN($G$11)*COS($G$12)*COS($D41))-0.632*(SIN(L$36)*SIN($G$11)*COS($G$12)-COS(L$36)*COS($G$11)*COS($D41))+COS(L$36)*SIN($G$11)*SIN($G$12)*SIN($D41) -> -0.41097514 | ... BL41: =0.775*(SIN(P$36)*COS($G$11)+COS(P$36)*SIN($G$11)*COS($G$12)*COS($D41))-0.632*(SIN(P$36)*SIN($G$11)*COS($G$12)-COS(P$36)*COS($G$11)*COS($D41))+COS(P$36)*SIN($G$11)*SIN($G$12)*SIN($D41) -> -0.86737182 | BM41: =COS(RADIANS(90-E41)) -> 6.1257423e-17 | BN41: =COS(RADIANS(90-F41)) -> 6.1257423e-17 | BO41: =COS(RADIANS(90-G41)) -> 6.1257423e-17 | BP41: =COS(RADIANS(90-H41)) -> 6.1257423e-17 | BQ41: =COS(RADIANS(90-I41)) -> 6.1257423e-17 | BR41: =COS(RADIANS(90-J41)) -> 6.1257423e-17 | BS41: =COS(RADIANS(90-K41)) -> 6.1257423e-17 | BT41: =COS(RADIANS(90-L41)) -> 6.1257423e-17 | ... BX41: =COS(RADIANS(90-P41)) -> 6.1257423e-17 | BY41: =IF(BM41=$BM$40,0,BM41) -> 0 | BZ41: =IF(BN41=$BM$40,0,BN41) -> 0 | CA41: =IF(BO41=$BM$40,0,BO41) -> 0 | CB41: =IF(BP41=$BM$40,0,BP41) -> 0 | CC41: =IF(BQ41=$BM$40,0,BQ41) -> 0 | CD41: =IF(BR41=$BM$40,0,BR41) -> 0 | CE41: =IF(BS41=$BM$40,0,BS41) -> 0 | CF41: =IF(BT41=$BM$40,0,BT41) -> 0 | ... CJ41: =IF(BX41=$BM$40,0,BX41) -> 0 | CK41: =MAX(0,1353*(1+0.033*COS(RADIANS(360*E$35/365)))*EXP(-AO41*AC41*Q41)) -> 20.284401 | CL41: =MAX(0,1353*(1+0.033*COS(RADIANS(360*F$35/365)))*EXP(-AP41*AD41*R41)) -> 17.360768 | CM41: =MAX(0,1353*(1+0.033*COS(RADIANS(360*G$35/365)))*EXP(-AQ41*AE41*S41)) -> 14.011696 | CN41: =MAX(0,1353*(1+0.033*COS(RADIANS(360*H$35/365)))*EXP(-AR41*AF41*T41)) -> 11.262779 | CO41: =MAX(0,1353*(1+0.033*COS(RADIANS(360*I$35/365)))*EXP(-AS41*AG41*U41)) -> 9.5763195 | CP41: =MAX(0,1353*(1+0.033*COS(RADIANS(360*J$35/365)))*EXP(-AT41*AH41*V41)) -> 8.9896155 | CQ41: =MAX(0,1353*(1+0.033*COS(RADIANS(360*K$35/365)))*EXP(-AU41*AI41*W41)) -> 9.4828169 | CR41: =MAX(0,1353*(1+0.033*COS(RADIANS(360*L$35/365)))*EXP(-AV41*AJ41*X41)) -> 11.080672 | ... CV41: =MAX(0,1353*(1+0.033*COS(RADIANS(360*P$35/365)))*EXP(-AZ41*AN41*AB41)) -> 21.403786 | CW41: =IF(AND(BY41>0,BA41>0),1,0) -> 0 | CX41: =IF(AND(BZ41>0,BB41>0),1,0) -> 0 | CY41: =IF(AND(CA41>0,BC41>0),1,0) -> 0 | CZ41: =IF(AND(CB41>0,BD41>0),1,0) -> 0 | DA41: =IF(AND(CC41>0,BE41>0),1,0) -> 0 | DB41: =IF(AND(CD41>0,BF41>0),1,0) -> 0 | DC41: =IF(AND(CE41>0,BG41>0),1,0) -> 0 | DD41: =IF(AND(CF41>0,BH41>0),1,0) -> 0 | ... DH41: =IF(AND(CJ41>0,BL41>0),1,0) -> 0 | DI41: =IF(BY41>0,1,0) -> 0 | DJ41: =IF(BZ41>0,1,0) -> 0 | DK41: =IF(CA41>0,1,0) -> 0 | DL41: =IF(CB41>0,1,0) -> 0 | DM41: =IF(CC41>0,1,0) -> 0 | DN41: =IF(CD41>0,1,0) -> 0 | DO41: =IF(CE41>0,1,0) -> 0 | DP41: =IF(CF41>0,1,0) -> 0 | ... DT41: =IF(CJ41>0,1,0) -> 0 | DU41: =CW41*MAX(0,(CK41*BA41*15)) -> 0 | DV41: =CX41*MAX(0,(CL41*BB41*15)) -> 0 | DW41: =CY41*MAX(0,(CM41*BC41*15)) -> 0 | DX41: =CZ41*MAX(0,(CN41*BD41*15)) -> 0 | DY41: =DA41*MAX(0,(CO41*BE41*15)) -> 0 | DZ41: =DB41*MAX(0,(CP41*BF41*15)) -> 0 | EA41: =DC41*MAX(0,(CQ41*BG41*15)) -> 0 | EB41: =DD41*MAX(0,(CR41*BH41*15)) -> 0 | ... EF41: =DH41*MAX(0,(CV41*BL41*15)) -> 0 | EG41: =DI41*MAX(0,(CK41*BY41*15)) -> 0 | EH41: =DJ41*MAX(0,(CL41*BZ41*15)) -> 0 | EI41: =DK41*MAX(0,(CM41*CA41*15)) -> 0 | EJ41: =DL41*MAX(0,(CN41*CB41*15)) -> 0 | EK41: =DM41*MAX(0,(CO41*CC41*15)) -> 0 | EL41: =DN41*MAX(0,(CP41*CD41*15)) -> 0 | EM41: =DO41*MAX(0,(CQ41*CE41*15)) -> 0 | EN41: =DP41*MAX(0,(CR41*CF41*15)) -> 0 | ... ER41: =DT41*MAX(0,(CV41*CJ41*15)) -> 0
B42: 0.083333333 | C42: =C41-15 -> 150 | D42: =RADIANS(C42) -> 2.6179939 | E42: =MAX(0,90-DEGREES(ACOS(COS($G$10)*COS(E$36)*COS($D42)+SIN($G$10)*SIN(E$36)))) -> 0 | F42: =MAX(0,90-DEGREES(ACOS(COS($G$10)*COS(F$36)*COS($D42)+SIN($G$10)*SIN(F$36)))) -> 0 | G42: =MAX(0,90-DEGREES(ACOS(COS($G$10)*COS(G$36)*COS($D42)+SIN($G$10)*SIN(G$36)))) -> 0 | H42: =MAX(0,90-DEGREES(ACOS(COS($G$10)*COS(H$36)*COS($D42)+SIN($G$10)*SIN(H$36)))) -> 0 | I42: =MAX(0,90-DEGREES(ACOS(COS($G$10)*COS(I$36)*COS($D42)+SIN($G$10)*SIN(I$36)))) -> 0 | J42: =MAX(0,90-DEGREES(ACOS(COS($G$10)*COS(J$36)*COS($D42)+SIN($G$10)*SIN(J$36)))) -> 0 | K42: =MAX(0,90-DEGREES(ACOS(COS($G$10)*COS(K$36)*COS($D42)+SIN($G$10)*SIN(K$36)))) -> 0 | L42: =MAX(0,90-DEGREES(ACOS(COS($G$10)*COS(L$36)*COS($D42)+SIN($G$10)*SIN(L$36)))) -> 0 | ... P42: =MAX(0,90-DEGREES(ACOS(COS($G$10)*COS(P$36)*COS($D42)+SIN($G$10)*SIN(P$36)))) -> 0 | Q42: =3.372+0.053*(PI()*E42/180)-0.296*COS(RADIANS(30*E$22)) -> 3.1156565 | R42: =3.372+0.053*(PI()*F42/180)-0.296*COS(RADIANS(30*F$22)) -> 3.224 | S42: =3.372+0.053*(PI()*G42/180)-0.296*COS(RADIANS(30*G$22)) -> 3.372 | T42: =3.372+0.053*(PI()*H42/180)-0.296*COS(RADIANS(30*H$22)) -> 3.52 | U42: =3.372+0.053*(PI()*I42/180)-0.296*COS(RADIANS(30*I$22)) -> 3.6283435 | V42: =3.372+0.053*(PI()*J42/180)-0.296*COS(RADIANS(30*J$22)) -> 3.668 | W42: =3.372+0.053*(PI()*K42/180)-0.296*COS(RADIANS(30*K$22)) -> 3.6283435 | X42: =3.372+0.053*(PI()*L42/180)-0.296*COS(RADIANS(30*L$22)) -> 3.52 | ... AB42: =3.372+0.053*(PI()*P42/180)-0.296*COS(RADIANS(30*P$22)) -> 3.076 | AC42: =1.4899-2.1099*COS(RADIANS(E42))+0.6322*COS(RADIANS(2*E42))+0.0253*COS(RADIANS(3*E42))-1.0022*SIN(RADIANS(E42))+1.0077*SIN(RADIANS(2*E42))-0.2606*SIN(RADIANS(3*E42)) -> 0.0375 | AD42: =1.4899-2.1099*COS(RADIANS(F42))+0.6322*COS(RADIANS(2*F42))+0.0253*COS(RADIANS(3*F42))-1.0022*SIN(RADIANS(F42))+1.0077*SIN(RADIANS(2*F42))-0.2606*SIN(RADIANS(3*F42)) -> 0.0375 | AE42: =1.4899-2.1099*COS(RADIANS(G42))+0.6322*COS(RADIANS(2*G42))+0.0253*COS(RADIANS(3*G42))-1.0022*SIN(RADIANS(G42))+1.0077*SIN(RADIANS(2*G42))-0.2606*SIN(RADIANS(3*G42)) -> 0.0375 | AF42: =1.4899-2.1099*COS(RADIANS(H42))+0.6322*COS(RADIANS(2*H42))+0.0253*COS(RADIANS(3*H42))-1.0022*SIN(RADIANS(H42))+1.0077*SIN(RADIANS(2*H42))-0.2606*SIN(RADIANS(3*H42)) -> 0.0375 | AG42: =1.4899-2.1099*COS(RADIANS(I42))+0.6322*COS(RADIANS(2*I42))+0.0253*COS(RADIANS(3*I42))-1.0022*SIN(RADIANS(I42))+1.0077*SIN(RADIANS(2*I42))-0.2606*SIN(RADIANS(3*I42)) -> 0.0375 | AH42: =1.4899-2.1099*COS(RADIANS(J42))+0.6322*COS(RADIANS(2*J42))+0.0253*COS(RADIANS(3*J42))-1.0022*SIN(RADIANS(J42))+1.0077*SIN(RADIANS(2*J42))-0.2606*SIN(RADIANS(3*J42)) -> 0.0375 | AI42: =1.4899-2.1099*COS(RADIANS(K42))+0.6322*COS(RADIANS(2*K42))+0.0253*COS(RADIANS(3*K42))-1.0022*SIN(RADIANS(K42))+1.0077*SIN(RADIANS(2*K42))-0.2606*SIN(RADIANS(3*K42)) -> 0.0375 | AJ42: =1.4899-2.1099*COS(RADIANS(L42))+0.6322*COS(RADIANS(2*L42))+0.0253*COS(RADIANS(3*L42))-1.0022*SIN(RADIANS(L42))+1.0077*SIN(RADIANS(2*L42))-0.2606*SIN(RADIANS(3*L42)) -> 0.0375 | ... AN42: =1.4899-2.1099*COS(RADIANS(P42))+0.6322*COS(RADIANS(2*P42))+0.0253*COS(RADIANS(3*P42))-1.0022*SIN(RADIANS(P42))+1.0077*SIN(RADIANS(2*P42))-0.2606*SIN(RADIANS(3*P42)) -> 0.0375 | AO42: =0.992/(SIN(RADIANS(E42))+0.15*(PI()*E42/180+3.885)^(-1.253)) -> 36.218242 | AP42: =0.992/(SIN(RADIANS(F42))+0.15*(PI()*F42/180+3.885)^(-1.253)) -> 36.218242 | AQ42: =0.992/(SIN(RADIANS(G42))+0.15*(PI()*G42/180+3.885)^(-1.253)) -> 36.218242 | AR42: =0.992/(SIN(RADIANS(H42))+0.15*(PI()*H42/180+3.885)^(-1.253)) -> 36.218242 | AS42: =0.992/(SIN(RADIANS(I42))+0.15*(PI()*I42/180+3.885)^(-1.253)) -> 36.218242 | AT42: =0.992/(SIN(RADIANS(J42))+0.15*(PI()*J42/180+3.885)^(-1.253)) -> 36.218242 | AU42: =0.992/(SIN(RADIANS(K42))+0.15*(PI()*K42/180+3.885)^(-1.253)) -> 36.218242 | AV42: =0.992/(SIN(RADIANS(L42))+0.15*(PI()*L42/180+3.885)^(-1.253)) -> 36.218242 | ... AZ42: =0.992/(SIN(RADIANS(P42))+0.15*(PI()*P42/180+3.885)^(-1.253)) -> 36.218242 | BA42: =0.775*(SIN(E$36)*COS($G$11)+COS(E$36)*SIN($G$11)*COS($G$12)*COS($D42))-0.632*(SIN(E$36)*SIN($G$11)*COS($G$12)-COS(E$36)*COS($G$11)*COS($D42))+COS(E$36)*SIN($G$11)*SIN($G$12)*SIN($D42) -> -0.79056749 | BB42: =0.775*(SIN(F$36)*COS($G$11)+COS(F$36)*SIN($G$11)*COS($G$12)*COS($D42))-0.632*(SIN(F$36)*SIN($G$11)*COS($G$12)-COS(F$36)*COS($G$11)*COS($D42))+COS(F$36)*SIN($G$11)*SIN($G$12)*SIN($D42) -> -0.70891775 | BC42: =0.775*(SIN(G$36)*COS($G$11)+COS(G$36)*SIN($G$11)*COS($G$12)*COS($D42))-0.632*(SIN(G$36)*SIN($G$11)*COS($G$12)-COS(G$36)*COS($G$11)*COS($D42))+COS(G$36)*SIN($G$11)*SIN($G$12)*SIN($D42) -> -0.58504679 | BD42: =0.775*(SIN(H$36)*COS($G$11)+COS(H$36)*SIN($G$11)*COS($G$12)*COS($D42))-0.632*(SIN(H$36)*SIN($G$11)*COS($G$12)-COS(H$36)*COS($G$11)*COS($D42))+COS(H$36)*SIN($G$11)*SIN($G$12)*SIN($D42) -> -0.41782921 | BE42: =0.775*(SIN(I$36)*COS($G$11)+COS(I$36)*SIN($G$11)*COS($G$12)*COS($D42))-0.632*(SIN(I$36)*SIN($G$11)*COS($G$12)-COS(I$36)*COS($G$11)*COS($D42))+COS(I$36)*SIN($G$11)*SIN($G$12)*SIN($D42) -> -0.27258823 | BF42: =0.775*(SIN(J$36)*COS($G$11)+COS(J$36)*SIN($G$11)*COS($G$12)*COS($D42))-0.632*(SIN(J$36)*SIN($G$11)*COS($G$12)-COS(J$36)*COS($G$11)*COS($D42))+COS(J$36)*SIN($G$11)*SIN($G$12)*SIN($D42) -> -0.19623003 | BG42: =0.775*(SIN(K$36)*COS($G$11)+COS(K$36)*SIN($G$11)*COS($G$12)*COS($D42))-0.632*(SIN(K$36)*SIN($G$11)*COS($G$12)-COS(K$36)*COS($G$11)*COS($D42))+COS(K$36)*SIN($G$11)*SIN($G$12)*SIN($D42) -> -0.22587134 | BH42: =0.775*(SIN(L$36)*COS($G$11)+COS(L$36)*SIN($G$11)*COS($G$12)*COS($D42))-0.632*(SIN(L$36)*SIN($G$11)*COS($G$12)-COS(L$36)*COS($G$11)*COS($D42))+COS(L$36)*SIN($G$11)*SIN($G$12)*SIN($D42) -> -0.34961066 | ... BL42: =0.775*(SIN(P$36)*COS($G$11)+COS(P$36)*SIN($G$11)*COS($G$12)*COS($D42))-0.632*(SIN(P$36)*SIN($G$11)*COS($G$12)-COS(P$36)*COS($G$11)*COS($D42))+COS(P$36)*SIN($G$11)*SIN($G$12)*SIN($D42) -> -0.8093915 | BM42: =COS(RADIANS(90-E42)) -> 6.1257423e-17 | BN42: =COS(RADIANS(90-F42)) -> 6.1257423e-17 | BO42: =COS(RADIANS(90-G42)) -> 6.1257423e-17 | BP42: =COS(RADIANS(90-H42)) -> 6.1257423e-17 | BQ42: =COS(RADIANS(90-I42)) -> 6.1257423e-17 | BR42: =COS(RADIANS(90-J42)) -> 6.1257423e-17 | BS42: =COS(RADIANS(90-K42)) -> 6.1257423e-17 | BT42: =COS(RADIANS(90-L42)) -> 6.1257423e-17 | ... BX42: =COS(RADIANS(90-P42)) -> 6.1257423e-17 | BY42: =IF(BM42=$BM$40,0,BM42) -> 0 | BZ42: =IF(BN42=$BM$40,0,BN42) -> 0 | CA42: =IF(BO42=$BM$40,0,BO42) -> 0 | CB42: =IF(BP42=$BM$40,0,BP42) -> 0 | CC42: =IF(BQ42=$BM$40,0,BQ42) -> 0 | CD42: =IF(BR42=$BM$40,0,BR42) -> 0 | CE42: =IF(BS42=$BM$40,0,BS42) -> 0 | CF42: =IF(BT42=$BM$40,0,BT42) -> 0 | ... CJ42: =IF(BX42=$BM$40,0,BX42) -> 0 | CK42: =MAX(0,1353*(1+0.033*COS(RADIANS(360*E$35/365)))*EXP(-AO42*AC42*Q42)) -> 20.284401 | CL42: =MAX(0,1353*(1+0.033*COS(RADIANS(360*F$35/365)))*EXP(-AP42*AD42*R42)) -> 17.360768 | CM42: =MAX(0,1353*(1+0.033*COS(RADIANS(360*G$35/365)))*EXP(-AQ42*AE42*S42)) -> 14.011696 | CN42: =MAX(0,1353*(1+0.033*COS(RADIANS(360*H$35/365)))*EXP(-AR42*AF42*T42)) -> 11.262779 | CO42: =MAX(0,1353*(1+0.033*COS(RADIANS(360*I$35/365)))*EXP(-AS42*AG42*U42)) -> 9.5763195 | CP42: =MAX(0,1353*(1+0.033*COS(RADIANS(360*J$35/365)))*EXP(-AT42*AH42*V42)) -> 8.9896155 | CQ42: =MAX(0,1353*(1+0.033*COS(RADIANS(360*K$35/365)))*EXP(-AU42*AI42*W42)) -> 9.4828169 | CR42: =MAX(0,1353*(1+0.033*COS(RADIANS(360*L$35/365)))*EXP(-AV42*AJ42*X42)) -> 11.080672 | ... CV42: =MAX(0,1353*(1+0.033*COS(RADIANS(360*P$35/365)))*EXP(-AZ42*AN42*AB42)) -> 21.403786 | CW42: =IF(AND(BY42>0,BA42>0),1,0) -> 0 | CX42: =IF(AND(BZ42>0,BB42>0),1,0) -> 0 | CY42: =IF(AND(CA42>0,BC42>0),1,0) -> 0 | CZ42: =IF(AND(CB42>0,BD42>0),1,0) -> 0 | DA42: =IF(AND(CC42>0,BE42>0),1,0) -> 0 | DB42: =IF(AND(CD42>0,BF42>0),1,0) -> 0 | DC42: =IF(AND(CE42>0,BG42>0),1,0) -> 0 | DD42: =IF(AND(CF42>0,BH42>0),1,0) -> 0 | ... DH42: =IF(AND(CJ42>0,BL42>0),1,0) -> 0 | DI42: =IF(BY42>0,1,0) -> 0 | DJ42: =IF(BZ42>0,1,0) -> 0 | DK42: =IF(CA42>0,1,0) -> 0 | DL42: =IF(CB42>0,1,0) -> 0 | DM42: =IF(CC42>0,1,0) -> 0 | DN42: =IF(CD42>0,1,0) -> 0 | DO42: =IF(CE42>0,1,0) -> 0 | DP42: =IF(CF42>0,1,0) -> 0 | ... DT42: =IF(CJ42>0,1,0) -> 0 | DU42: =CW42*MAX(0,(CK42*BA42*15)) -> 0 | DV42: =CX42*MAX(0,(CL42*BB42*15)) -> 0 | DW42: =CY42*MAX(0,(CM42*BC42*15)) -> 0 | DX42: =CZ42*MAX(0,(CN42*BD42*15)) -> 0 | DY42: =DA42*MAX(0,(CO42*BE42*15)) -> 0 | DZ42: =DB42*MAX(0,(CP42*BF42*15)) -> 0 | EA42: =DC42*MAX(0,(CQ42*BG42*15)) -> 0 | EB42: =DD42*MAX(0,(CR42*BH42*15)) -> 0 | ... EF42: =DH42*MAX(0,(CV42*BL42*15)) -> 0 | EG42: =DI42*MAX(0,(CK42*BY42*15)) -> 0 | EH42: =DJ42*MAX(0,(CL42*BZ42*15)) -> 0 | EI42: =DK42*MAX(0,(CM42*CA42*15)) -> 0 | EJ42: =DL42*MAX(0,(CN42*CB42*15)) -> 0 | EK42: =DM42*MAX(0,(CO42*CC42*15)) -> 0 | EL42: =DN42*MAX(0,(CP42*CD42*15)) -> 0 | EM42: =DO42*MAX(0,(CQ42*CE42*15)) -> 0 | EN42: =DP42*MAX(0,(CR42*CF42*15)) -> 0 | ... ER42: =DT42*MAX(0,(CV42*CJ42*15)) -> 0
