Workbook

Sheet intro
A1: Geactualiseerd evaluatieformulier
A3: Met dit ingevuld sjabloon bezorgt u het VIPA een geactualiseerd evaluatieformulier. Dit formulier bevat de volgende rubrieken: - een kostenraming van het project, per kostensoort, per bed, plaats of eenheid, en ten minste opgedeeld in de volgende vier onderdelen: ruwbouw, technische uitrusting, afwerking, losse uitrusting en de meubilering, waarbij de raming altijd exclusief btw en algemene onkosten is: - de geraamde bouwkosten per m², per kostensoort en per bed, plaats of eenheid; - de bruto- en netto-oppervlakteoverzichten. De bruto-oppervlakteberekening betreft een overzicht van de bestaande en toekomstige functionele oppervlakte van de aanvrager. Het overzicht van de netto-oppervlakten betreft een lijst van de netto-oppervlakten van de functionele ruimten van het project;
A6: Tabblad 'geact.Raming_excl BTW'. Op dit tabblad wordt de bouwkost/m² en de kostenevolutie over de bouwfasen heen weergegeven zonder BTW. U vult hierbij de oppervlakte van het project in en de jaartallen van de ramingen/aanbestedingen (blauwe vakjes).
A8: Tabblad 'geact.raming_incl BTW'. Dit tabblad wordt automatisch ingevuld op basis van de ingevulde gegevens in tabblad 3. Dit tabblad moet u niet invullen.
A10: Tabblad oppervlaktegegevens. Op dit tabblad wordt de bruto en netto oppervlaktes opgevraagd per type lokaal (lokalen woonondersteuning, lokalen collectieve en ondersteunende zorglokalen en lokalen dagbesteding). ENKEL IN TE VULLEN INDIEN DIT GEWIJZIGD IS TOV AKKOORD INFRASTRUCTUURFORFAIT
A12: Tabblad 'deelforfaits'. Op dit tabblad wordt er een overzicht gevraagd van het aantal gebruikers per type lokaal. ENKEL IN TE VULLEN INDIEN DIT GEWIJZIGD IS TOV AKKOORD INFRASTRUCTUURFORFAIT
A14: Tabblad 'gegevens rekenblad'. Dit tabblad moet u niet invullen.
A16: DUIDING
A17: collectieve en ondersteunende zorglokalen
A18: dit zijn activiteitenlokalen, therapielokalen, collectieve was-, eet- en kookgelegenheden (niet horende bij de woning) en polyvalente ruimten
A19: netto-oppervlakte
A20: de oppervlakte binnen de binnenmuren van een ruimte (ingebouwde kasten meegeteld)
... A22: de oppervlakte rondom de buitenmuren, per bouwlaag

Sheet  Geact.Raming_excl. BTW
A1: VIPA projectnummer
A2: Kostensoort | B2: Kies een optie | D2: opgelet: verbouwing en uitbreiding of nieuwbouw apart in te vullen | K2: {=IF(OR(OR(B16:H16<0),OR(B24:H24<0),OR(B33:I33<0)),"Totaal dient nog ingevuld te worden in rode cel","")}
A4: BTW werken/technieken/afwerking | B4: 0.21 | D4: U kan hier het BTW% voor de hoofdrubrieken invullen. Indien u voor bepaalde kostensoorten een afwijkend BTW% wenst toe te passen, kan u dit percentage nog overschrijven. In het tabblad hiernaast wordt de bouwkost inclusief BTW berekend.
A5: BTW los meubilair | B5: 0.21
A6: BTW studiekosten & erelonen | B6: 0.21
A8: Kostenevolutie EXCL.BTW | B8: (1) Raming INFF | C8: BTW% | D8: (2) Voor aanbesteding | E8: BTW% | F8: (3) Gunning | G8: BTW% | H8: (4) Eindafrekening | I8: BTW%
A9: PF0 Aankoop gebouw (indien gesubsidieerd) | B9: 0 | D9: 0 | F9: 0 | H9: 0 | K9: STAPPEN
A10: PF1 Ruwbouw | B10: 0 | D10: 0 | F10: 0 | H10: 0 | K10: 1. Vul eerst het TOTAAL in van de projectfase
A11: Ruwbouw | B11: 0 | C11: =$B$4 -> 0.21 | D11: 0 | E11: =$B$4 -> 0.21 | F11: 0 | G11: =$B$4 -> 0.21 | H11: 0 | I11: =$B$4 -> 0.21 | K11: 2. Vul daarna, indien gekend, detailbedragen in van bepaalde onderdelen
A12: Schrijnwerk | B12: 0 | C12: =$B$4 -> 0.21 | D12: 0 | E12: =$B$4 -> 0.21 | F12: 0 | G12: =$B$4 -> 0.21 | H12: 0 | I12: =$B$4 -> 0.21
A13: Dakwerken | B13: 0 | C13: =$B$4 -> 0.21 | D13: 0 | E13: =$B$4 -> 0.21 | F13: 0 | G13: =$B$4 -> 0.21 | H13: 0 | I13: =$B$4 -> 0.21
A14: Overige1:………………………………………………………. | B14: 0 | C14: =$B$4 -> 0.21 | D14: 0 | E14: =$B$4 -> 0.21 | F14: 0 | G14: =$B$4 -> 0.21 | H14: 0 | I14: =$B$4 -> 0.21
A15: Overige2:………………………………………………………. | B15: 0 | C15: =$B$4 -> 0.21 | D15: 0 | E15: =$B$4 -> 0.21 | F15: 0 | G15: =$B$4 -> 0.21 | H15: 0 | I15: =$B$4 -> 0.21
A16: Geen detail: | B16: =B10-SUM(B11:B15) -> 0 | C16: =$B$4 -> 0.21 | D16: =D10-SUM(D11:D15) -> 0 | E16: =$B$4 -> 0.21 | F16: =F10-SUM(F11:F15) -> 0 | G16: =$B$4 -> 0.21 | H16: =H10-SUM(H11:H15) -> 0 | I16: =$B$4 -> 0.21 | K16: 3. Controle: hier staat het bedrag waarvoor geen detailbedragen bekend waren
A17: PF2 Techn. Uitrusting | B17: 0 | D17: 0 | F17: 0 | H17: 0
A18: Sanitair | B18: 0 | C18: =$B$4 -> 0.21 | D18: 0 | E18: =$B$4 -> 0.21 | F18: 0 | G18: =$B$4 -> 0.21 | H18: 0 | I18: =$B$4 -> 0.21
A19: HVAC | B19: 0 | C19: =$B$4 -> 0.21 | D19: 0 | E19: =$B$4 -> 0.21 | F19: 0 | G19: =$B$4 -> 0.21 | H19: 0 | I19: =$B$4 -> 0.21
A20: Elektriciteit | B20: 0 | C20: =$B$4 -> 0.21 | D20: 0 | E20: =$B$4 -> 0.21 | F20: 0 | G20: =$B$4 -> 0.21 | H20: 0 | I20: =$B$4 -> 0.21
A21: Lift | B21: 0 | C21: =$B$4 -> 0.21 | D21: 0 | E21: =$B$4 -> 0.21 | F21: 0 | G21: =$B$4 -> 0.21 | H21: 0 | I21: =$B$4 -> 0.21
A22: Overige1:………………………………………………………. | B22: 0 | C22: =$B$4 -> 0.21 | D22: 0 | E22: =$B$4 -> 0.21 | F22: 0 | G22: =$B$4 -> 0.21 | H22: 0 | I22: =$B$4 -> 0.21
A23: Overige2:………………………………………………………. | B23: 0 | C23: =$B$4 -> 0.21 | D23: 0 | E23: =$B$4 -> 0.21 | F23: 0 | G23: =$B$4 -> 0.21 | H23: 0 | I23: =$B$4 -> 0.21
A24: Geen detail: | B24: =B17-SUM(B18:B23) -> 0 | C24: =$B$4 -> 0.21 | D24: =D17-SUM(D18:D23) -> 0 | E24: =$B$4 -> 0.21 | F24: =F17-SUM(F18:F23) -> 0 | G24: =$B$4 -> 0.21 | H24: =H17-SUM(H18:H23) -> 0 | I24: =$B$4 -> 0.21
A25: PF3 Afwerking | B25: 0 | D25: 0 | F25: 0 | H25: 0
A26: Vloeren | B26: 0 | C26: =$B$4 -> 0.21 | D26: 0 | E26: =$B$4 -> 0.21 | F26: 0 | G26: =$B$4 -> 0.21 | H26: 0 | I26: =$B$4 -> 0.21
A27: Wanden | B27: 0 | C27: =$B$4 -> 0.21 | D27: 0 | E27: =$B$4 -> 0.21 | F27: 0 | G27: =$B$4 -> 0.21 | H27: 0 | I27: =$B$4 -> 0.21
A28: Plafonds | B28: 0 | C28: =$B$4 -> 0.21 | D28: 0 | E28: =$B$4 -> 0.21 | F28: 0 | G28: =$B$4 -> 0.21 | H28: 0 | I28: =$B$4 -> 0.21
A29: Vast meubilair | B29: 0 | C29: =$B$4 -> 0.21 | D29: 0 | E29: =$B$4 -> 0.21 | F29: 0 | G29: =$B$4 -> 0.21 | H29: 0 | I29: =$B$4 -> 0.21
A30: Keuken | B30: 0 | C30: =$B$4 -> 0.21 | D30: 0 | E30: =$B$4 -> 0.21 | F30: 0 | G30: =$B$4 -> 0.21 | H30: 0 | I30: =$B$4 -> 0.21
A31: Overige1:………………………………………………………. | B31: 0 | C31: =$B$4 -> 0.21 | D31: 0 | E31: =$B$4 -> 0.21 | F31: 0 | G31: =$B$4 -> 0.21 | H31: 0 | I31: =$B$4 -> 0.21
A32: Overige2:………………………………………………………. | B32: 0 | C32: =$B$4 -> 0.21 | D32: 0 | E32: =$B$4 -> 0.21 | F32: 0 | G32: =$B$4 -> 0.21 | H32: 0 | I32: =$B$4 -> 0.21
A33: Geen detail: | B33: =B25-SUM(B26:B32) -> 0 | C33: =$B$4 -> 0.21 | D33: =D25-SUM(D26:D32) -> 0 | E33: =$B$4 -> 0.21 | F33: =F25-SUM(F26:F32) -> 0 | G33: =$B$4 -> 0.21 | H33: =H25-SUM(H26:H32) -> 0 | I33: =$B$4 -> 0.21
A34: Subtotaal PF1-2-3 | B34: =B10+B17+B25 -> 0 | D34: =D10+D17+D25 -> 0 | F34: =F10+F17+F25 -> 0 | H34: =H10+H17+H25 -> 0 | K34: 4. Subtotalen worden automatisch berekend
A35: PF4 Losse uitrusting en meubilering | B35: 0 | C35: =$B$5 -> 0.21 | D35: 0 | E35: =$B$5 -> 0.21 | F35: 0 | G35: =$B$5 -> 0.21 | H35: 0 | I35: =$B$5 -> 0.21
A36: Totaal PF1-2-3-4 | B36: =SUM(B34+B35) -> 0 | D36: =SUM(D34+D35) -> 0 | F36: =SUM(F34:F35) -> 0 | H36: =SUM(H34:H35) -> 0
A37: Omgevingswerken | C37: =$B$4 -> 0.21 | E37: =$B$4 -> 0.21 | G37: =$B$4 -> 0.21 | I37: =$B$4 -> 0.21
A38: Afbraakwerken | C38: =$B$4 -> 0.21 | E38: =$B$4 -> 0.21 | G38: =$B$4 -> 0.21 | I38: =$B$4 -> 0.21
A39: Aansluitingen nutsvoorzieningen | C39: =$B$4 -> 0.21
A40: andere: | C40: =$B$4 -> 0.21 | E40: =$B$4 -> 0.21 | G40: =$B$4 -> 0.21 | I40: =$B$4 -> 0.21
A41: andere: | C41: =$B$4 -> 0.21 | E41: =$B$4 -> 0.21 | G41: =$B$4 -> 0.21 | I41: =$B$4 -> 0.21
A42: Totaal | B42: =SUM(B36:B41) -> 0 | D42: =SUM(D36:D41) -> 0 | F42: =SUM(F36:F41) -> 0 | H42: =SUM(H36:H41) -> 0
...

Sheet  Geact.Raming_incl BTW
A1: VIPA projectnummer | B1: =' Geact.Raming_excl. BTW'!B1 -> 0 | D1: Naam project | E1: =' Geact.Raming_excl. BTW'!E1 -> 0
A2: Kostensoort | B2: =' Geact.Raming_excl. BTW'!B2 -> Kies een optie
A4: Kostenevolutie EXCL.BTW | B4: (1) Raming INFF | C4: BTW% | D4: (2) Voor aanbesteding | E4: BTW% | F4: (3) Gunning | G4: BTW% | H4: (4) Eindafrekening | I4: BTW%
A5: PF0 Aankoop gebouw (indien gesubsidieerd) | B5: =' Geact.Raming_excl. BTW'!B9 -> 0 | D5: =' Geact.Raming_excl. BTW'!D9 -> 0 | F5: =' Geact.Raming_excl. BTW'!F9 -> 0 | H5: =' Geact.Raming_excl. BTW'!H9 -> 0
A6: PF1 Ruwbouw | B6: =SUM(B7:B12) -> 0 | D6: =SUM(D7:D12) -> 0 | F6: =SUM(F7:F12) -> 0 | H6: =SUM(H7:H12) -> 0
A7: Ruwbouw | B7: =(1+C7)*' Geact.Raming_excl. BTW'!B11 -> 0 | C7: =' Geact.Raming_excl. BTW'!C11 -> 0.21 | D7: =(1+E7)*' Geact.Raming_excl. BTW'!D11 -> 0 | E7: =' Geact.Raming_excl. BTW'!E11 -> 0.21 | F7: =(1+G7)*' Geact.Raming_excl. BTW'!F11 -> 0 | G7: =' Geact.Raming_excl. BTW'!G11 -> 0.21 | H7: =(1+I7)*' Geact.Raming_excl. BTW'!H11 -> 0 | I7: =' Geact.Raming_excl. BTW'!I11 -> 0.21
A8: Schrijnwerk | B8: =(1+C8)*' Geact.Raming_excl. BTW'!B12 -> 0 | C8: =' Geact.Raming_excl. BTW'!C12 -> 0.21 | D8: =(1+E8)*' Geact.Raming_excl. BTW'!D12 -> 0 | E8: =' Geact.Raming_excl. BTW'!E12 -> 0.21 | F8: =(1+G8)*' Geact.Raming_excl. BTW'!F12 -> 0 | G8: =' Geact.Raming_excl. BTW'!G12 -> 0.21 | H8: =(1+I8)*' Geact.Raming_excl. BTW'!H12 -> 0 | I8: =' Geact.Raming_excl. BTW'!I12 -> 0.21
A9: Dakwerken | B9: =(1+C9)*' Geact.Raming_excl. BTW'!B13 -> 0 | C9: =' Geact.Raming_excl. BTW'!C13 -> 0.21 | D9: =(1+E9)*' Geact.Raming_excl. BTW'!D13 -> 0 | E9: =' Geact.Raming_excl. BTW'!E13 -> 0.21 | F9: =(1+G9)*' Geact.Raming_excl. BTW'!F13 -> 0 | G9: =' Geact.Raming_excl. BTW'!G13 -> 0.21 | H9: =(1+I9)*' Geact.Raming_excl. BTW'!H13 -> 0 | I9: =' Geact.Raming_excl. BTW'!I13 -> 0.21
A10: Overige1:………………………………………………………. | B10: =(1+C10)*' Geact.Raming_excl. BTW'!B14 -> 0 | C10: =' Geact.Raming_excl. BTW'!C14 -> 0.21 | D10: =(1+E10)*' Geact.Raming_excl. BTW'!D14 -> 0 | E10: =' Geact.Raming_excl. BTW'!E14 -> 0.21 | F10: =(1+G10)*' Geact.Raming_excl. BTW'!F14 -> 0 | G10: =' Geact.Raming_excl. BTW'!G14 -> 0.21 | H10: =(1+I10)*' Geact.Raming_excl. BTW'!H14 -> 0 | I10: =' Geact.Raming_excl. BTW'!I14 -> 0.21
A11: Overige2:………………………………………………………. | B11: =(1+C11)*' Geact.Raming_excl. BTW'!B15 -> 0 | C11: =' Geact.Raming_excl. BTW'!C15 -> 0.21 | D11: =(1+E11)*' Geact.Raming_excl. BTW'!D15 -> 0 | E11: =' Geact.Raming_excl. BTW'!E15 -> 0.21 | F11: =(1+G11)*' Geact.Raming_excl. BTW'!F15 -> 0 | G11: =' Geact.Raming_excl. BTW'!G15 -> 0.21 | H11: =(1+I11)*' Geact.Raming_excl. BTW'!H15 -> 0 | I11: =' Geact.Raming_excl. BTW'!I15 -> 0.21
A12: Geen detail: | B12: =(1+C12)*' Geact.Raming_excl. BTW'!B16 -> 0 | C12: =' Geact.Raming_excl. BTW'!C16 -> 0.21 | D12: =(1+E12)*' Geact.Raming_excl. BTW'!D16 -> 0 | E12: =' Geact.Raming_excl. BTW'!E16 -> 0.21 | F12: =(1+G12)*' Geact.Raming_excl. BTW'!F16 -> 0 | G12: =' Geact.Raming_excl. BTW'!G16 -> 0.21 | H12: =(1+I12)*' Geact.Raming_excl. BTW'!H16 -> 0 | I12: =' Geact.Raming_excl. BTW'!I16 -> 0.21
A13: PF2 Techn. Uitrusting | B13: =SUM(B14:B20) -> 0 | D13: =SUM(D14:D20) -> 0 | F13: =SUM(F14:F20) -> 0 | H13: =SUM(H14:H20) -> 0
A14: Sanitair | B14: =(1+C14)*' Geact.Raming_excl. BTW'!B18 -> 0 | C14: =' Geact.Raming_excl. BTW'!C18 -> 0.21 | D14: =(1+E14)*' Geact.Raming_excl. BTW'!D18 -> 0 | E14: =' Geact.Raming_excl. BTW'!E18 -> 0.21 | F14: =(1+G14)*' Geact.Raming_excl. BTW'!F18 -> 0 | G14: =' Geact.Raming_excl. BTW'!G18 -> 0.21 | H14: =(1+I14)*' Geact.Raming_excl. BTW'!H18 -> 0 | I14: =' Geact.Raming_excl. BTW'!I18 -> 0.21
A15: HVAC | B15: =(1+C15)*' Geact.Raming_excl. BTW'!B19 -> 0 | C15: =' Geact.Raming_excl. BTW'!C19 -> 0.21 | D15: =(1+E15)*' Geact.Raming_excl. BTW'!D19 -> 0 | E15: =' Geact.Raming_excl. BTW'!E19 -> 0.21 | F15: =(1+G15)*' Geact.Raming_excl. BTW'!F19 -> 0 | G15: =' Geact.Raming_excl. BTW'!G19 -> 0.21 | H15: =(1+I15)*' Geact.Raming_excl. BTW'!H19 -> 0 | I15: =' Geact.Raming_excl. BTW'!I19 -> 0.21
A16: Elektriciteit | B16: =(1+C16)*' Geact.Raming_excl. BTW'!B20 -> 0 | C16: =' Geact.Raming_excl. BTW'!C20 -> 0.21 | D16: =(1+E16)*' Geact.Raming_excl. BTW'!D20 -> 0 | E16: =' Geact.Raming_excl. BTW'!E20 -> 0.21 | F16: =(1+G16)*' Geact.Raming_excl. BTW'!F20 -> 0 | G16: =' Geact.Raming_excl. BTW'!G20 -> 0.21 | H16: =(1+I16)*' Geact.Raming_excl. BTW'!H20 -> 0 | I16: =' Geact.Raming_excl. BTW'!I20 -> 0.21
A17: Lift | B17: =(1+C17)*' Geact.Raming_excl. BTW'!B21 -> 0 | C17: =' Geact.Raming_excl. BTW'!C21 -> 0.21 | D17: =(1+E17)*' Geact.Raming_excl. BTW'!D21 -> 0 | E17: =' Geact.Raming_excl. BTW'!E21 -> 0.21 | F17: =(1+G17)*' Geact.Raming_excl. BTW'!F21 -> 0 | G17: =' Geact.Raming_excl. BTW'!G21 -> 0.21 | H17: =(1+I17)*' Geact.Raming_excl. BTW'!H21 -> 0 | I17: =' Geact.Raming_excl. BTW'!I21 -> 0.21
A18: Overige1:………………………………………………………. | B18: =(1+C18)*' Geact.Raming_excl. BTW'!B22 -> 0 | C18: =' Geact.Raming_excl. BTW'!C22 -> 0.21 | D18: =(1+E18)*' Geact.Raming_excl. BTW'!D22 -> 0 | E18: =' Geact.Raming_excl. BTW'!E22 -> 0.21 | F18: =(1+G18)*' Geact.Raming_excl. BTW'!F22 -> 0 | G18: =' Geact.Raming_excl. BTW'!G22 -> 0.21 | H18: =(1+I18)*' Geact.Raming_excl. BTW'!H22 -> 0 | I18: =' Geact.Raming_excl. BTW'!I22 -> 0.21
A19: Overige2:………………………………………………………. | B19: =(1+C19)*' Geact.Raming_excl. BTW'!B23 -> 0 | C19: =' Geact.Raming_excl. BTW'!C23 -> 0.21 | D19: =(1+E19)*' Geact.Raming_excl. BTW'!D23 -> 0 | E19: =' Geact.Raming_excl. BTW'!E23 -> 0.21 | F19: =(1+G19)*' Geact.Raming_excl. BTW'!F23 -> 0 | G19: =' Geact.Raming_excl. BTW'!G23 -> 0.21 | H19: =(1+I19)*' Geact.Raming_excl. BTW'!H23 -> 0 | I19: =' Geact.Raming_excl. BTW'!I23 -> 0.21
A20: Geen detail: | B20: =(1+C20)*' Geact.Raming_excl. BTW'!B24 -> 0 | C20: =' Geact.Raming_excl. BTW'!C24 -> 0.21 | D20: =(1+E20)*' Geact.Raming_excl. BTW'!D24 -> 0 | E20: =' Geact.Raming_excl. BTW'!E24 -> 0.21 | F20: =(1+G20)*' Geact.Raming_excl. BTW'!F24 -> 0 | G20: =' Geact.Raming_excl. BTW'!G24 -> 0.21 | H20: =(1+I20)*' Geact.Raming_excl. BTW'!H24 -> 0 | I20: =' Geact.Raming_excl. BTW'!I24 -> 0.21
A21: PF3 Afwerking | B21: =SUM(B22:B29) -> 0 | D21: =SUM(D22:D29) -> 0 | F21: =SUM(F22:F29) -> 0 | H21: =SUM(H22:H29) -> 0
A22: Vloeren | B22: =(1+C22)*' Geact.Raming_excl. BTW'!B26 -> 0 | C22: =' Geact.Raming_excl. BTW'!C26 -> 0.21 | D22: =(1+E22)*' Geact.Raming_excl. BTW'!D26 -> 0 | E22: =' Geact.Raming_excl. BTW'!E26 -> 0.21 | F22: =(1+G22)*' Geact.Raming_excl. BTW'!F26 -> 0 | G22: =' Geact.Raming_excl. BTW'!G26 -> 0.21 | H22: =(1+I22)*' Geact.Raming_excl. BTW'!H26 -> 0 | I22: =' Geact.Raming_excl. BTW'!I26 -> 0.21
A23: Wanden | B23: =(1+C23)*' Geact.Raming_excl. BTW'!B27 -> 0 | C23: =' Geact.Raming_excl. BTW'!C27 -> 0.21 | D23: =(1+E23)*' Geact.Raming_excl. BTW'!D27 -> 0 | E23: =' Geact.Raming_excl. BTW'!E27 -> 0.21 | F23: =(1+G23)*' Geact.Raming_excl. BTW'!F27 -> 0 | G23: =' Geact.Raming_excl. BTW'!G27 -> 0.21 | H23: =(1+I23)*' Geact.Raming_excl. BTW'!H27 -> 0 | I23: =' Geact.Raming_excl. BTW'!I27 -> 0.21
A24: Plafonds | B24: =(1+C24)*' Geact.Raming_excl. BTW'!B28 -> 0 | C24: =' Geact.Raming_excl. BTW'!C28 -> 0.21 | D24: =(1+E24)*' Geact.Raming_excl. BTW'!D28 -> 0 | E24: =' Geact.Raming_excl. BTW'!E28 -> 0.21 | F24: =(1+G24)*' Geact.Raming_excl. BTW'!F28 -> 0 | G24: =' Geact.Raming_excl. BTW'!G28 -> 0.21 | H24: =(1+I24)*' Geact.Raming_excl. BTW'!H28 -> 0 | I24: =' Geact.Raming_excl. BTW'!I28 -> 0.21
A25: Vast meubilair | B25: =(1+C25)*' Geact.Raming_excl. BTW'!B29 -> 0 | C25: =' Geact.Raming_excl. BTW'!C29 -> 0.21 | D25: =(1+E25)*' Geact.Raming_excl. BTW'!D29 -> 0 | E25: =' Geact.Raming_excl. BTW'!E29 -> 0.21 | F25: =(1+G25)*' Geact.Raming_excl. BTW'!F29 -> 0 | G25: =' Geact.Raming_excl. BTW'!G29 -> 0.21 | H25: =(1+I25)*' Geact.Raming_excl. BTW'!H29 -> 0 | I25: =' Geact.Raming_excl. BTW'!I29 -> 0.21
A26: Keuken | B26: =(1+C26)*' Geact.Raming_excl. BTW'!B30 -> 0 | C26: =' Geact.Raming_excl. BTW'!C30 -> 0.21 | D26: =(1+E26)*' Geact.Raming_excl. BTW'!D30 -> 0 | E26: =' Geact.Raming_excl. BTW'!E30 -> 0.21 | F26: =(1+G26)*' Geact.Raming_excl. BTW'!F30 -> 0 | G26: =' Geact.Raming_excl. BTW'!G30 -> 0.21 | H26: =(1+I26)*' Geact.Raming_excl. BTW'!H30 -> 0 | I26: =' Geact.Raming_excl. BTW'!I30 -> 0.21
A27: Overige1:………………………………………………………. | B27: =(1+C27)*' Geact.Raming_excl. BTW'!B31 -> 0 | C27: =' Geact.Raming_excl. BTW'!C31 -> 0.21 | D27: =(1+E27)*' Geact.Raming_excl. BTW'!D31 -> 0 | E27: =' Geact.Raming_excl. BTW'!E31 -> 0.21 | F27: =(1+G27)*' Geact.Raming_excl. BTW'!F31 -> 0 | G27: =' Geact.Raming_excl. BTW'!G31 -> 0.21 | H27: =(1+I27)*' Geact.Raming_excl. BTW'!H31 -> 0 | I27: =' Geact.Raming_excl. BTW'!I31 -> 0.21
A28: Overige2:………………………………………………………. | B28: =(1+C28)*' Geact.Raming_excl. BTW'!B32 -> 0 | C28: =' Geact.Raming_excl. BTW'!C32 -> 0.21 | D28: =(1+E28)*' Geact.Raming_excl. BTW'!D32 -> 0 | E28: =' Geact.Raming_excl. BTW'!E32 -> 0.21 | F28: =(1+G28)*' Geact.Raming_excl. BTW'!F32 -> 0 | G28: =' Geact.Raming_excl. BTW'!G32 -> 0.21 | H28: =(1+I28)*' Geact.Raming_excl. BTW'!H32 -> 0 | I28: =' Geact.Raming_excl. BTW'!I32 -> 0.21
A29: Geen detail: | B29: =(1+C29)*' Geact.Raming_excl. BTW'!B33 -> 0 | C29: =' Geact.Raming_excl. BTW'!C33 -> 0.21 | D29: =(1+E29)*' Geact.Raming_excl. BTW'!D33 -> 0 | E29: =' Geact.Raming_excl. BTW'!E33 -> 0.21 | F29: =(1+G29)*' Geact.Raming_excl. BTW'!F33 -> 0 | G29: =' Geact.Raming_excl. BTW'!G33 -> 0.21 | H29: =(1+I29)*' Geact.Raming_excl. BTW'!H33 -> 0 | I29: =' Geact.Raming_excl. BTW'!I33 -> 0.21
A30: Subtotaal PF1-2-3 | B30: =B6+B13+B21 -> 0 | D30: =D6+D13+D21 -> 0 | F30: =F6+F13+F21 -> 0 | H30: =H6+H13+H21 -> 0
A31: PF4 Losse uitrusting en meubilering | B31: =(1+C31)*' Geact.Raming_excl. BTW'!B35 -> 0 | C31: =' Geact.Raming_excl. BTW'!C35 -> 0.21 | D31: =(1+E31)*' Geact.Raming_excl. BTW'!D35 -> 0 | E31: =' Geact.Raming_excl. BTW'!E35 -> 0.21 | F31: =(1+G31)*' Geact.Raming_excl. BTW'!F35 -> 0 | G31: =' Geact.Raming_excl. BTW'!G35 -> 0.21 | H31: =(1+I31)*' Geact.Raming_excl. BTW'!H35 -> 0 | I31: =' Geact.Raming_excl. BTW'!I35 -> 0.21
A32: Totaal - PF1-2-3-4 | B32: =SUM(B30:B31) -> 0 | D32: =SUM(D30:D31) -> 0 | F32: =SUM(F30:F31) -> 0 | H32: =SUM(H30:H31) -> 0
A33: Omgevingswerken | B33: =(1+C33)*' Geact.Raming_excl. BTW'!B37 -> 0 | C33: =' Geact.Raming_excl. BTW'!C37 -> 0.21 | D33: =(1+E33)*' Geact.Raming_excl. BTW'!D37 -> 0 | E33: =' Geact.Raming_excl. BTW'!E37 -> 0.21 | F33: =(1+G33)*' Geact.Raming_excl. BTW'!F37 -> 0 | G33: =' Geact.Raming_excl. BTW'!G37 -> 0.21 | H33: =(1+I33)*' Geact.Raming_excl. BTW'!H37 -> 0 | I33: =' Geact.Raming_excl. BTW'!I37 -> 0.21
A34: Afbraakwerken | B34: =(1+C34)*' Geact.Raming_excl. BTW'!B38 -> 0 | C34: =' Geact.Raming_excl. BTW'!C38 -> 0.21 | D34: =(1+E34)*' Geact.Raming_excl. BTW'!D38 -> 0 | E34: =' Geact.Raming_excl. BTW'!E38 -> 0.21 | F34: =(1+G34)*' Geact.Raming_excl. BTW'!F38 -> 0 | G34: =' Geact.Raming_excl. BTW'!G38 -> 0.21 | H34: =(1+I34)*' Geact.Raming_excl. BTW'!H38 -> 0 | I34: =' Geact.Raming_excl. BTW'!I38 -> 0.21
A35: andere: | B35: =(1+C35)*' Geact.Raming_excl. BTW'!B40 -> 0 | C35: =' Geact.Raming_excl. BTW'!C40 -> 0.21 | D35: =(1+E35)*' Geact.Raming_excl. BTW'!D40 -> 0 | E35: =' Geact.Raming_excl. BTW'!E40 -> 0.21 | F35: =(1+G35)*' Geact.Raming_excl. BTW'!F40 -> 0 | G35: =' Geact.Raming_excl. BTW'!G40 -> 0.21 | H35: =(1+I35)*' Geact.Raming_excl. BTW'!H40 -> 0 | I35: =' Geact.Raming_excl. BTW'!I40 -> 0.21
A36: andere: | B36: =(1+C36)*' Geact.Raming_excl. BTW'!B41 -> 0 | C36: =' Geact.Raming_excl. BTW'!C41 -> 0.21 | D36: =(1+E36)*' Geact.Raming_excl. BTW'!D41 -> 0 | E36: =' Geact.Raming_excl. BTW'!E41 -> 0.21 | F36: =(1+G36)*' Geact.Raming_excl. BTW'!F41 -> 0 | G36: =' Geact.Raming_excl. BTW'!G41 -> 0.21 | H36: =(1+I36)*' Geact.Raming_excl. BTW'!H41 -> 0 | I36: =' Geact.Raming_excl. BTW'!I41 -> 0.21
A37: Totaal | B37: =SUM(B32:B36) -> 0 | D37: =SUM(D32:D36) -> 0 | F37: =SUM(F32:F36) -> 0 | H37: =SUM(H32:H36) -> 0
A39: Studiekosten en erelonen | B39: =SUM(B40:B52) -> 0 | D39: =SUM(D40:D52) -> 0 | F39: =SUM(F40:F52) -> 0 | H39: =SUM(H40:H52) -> 0
A40: Architect | B40: =(1+C40)*' Geact.Raming_excl. BTW'!B45 -> 0 | C40: =' Geact.Raming_excl. BTW'!C45 -> 0.21 | D40: =(1+E40)*' Geact.Raming_excl. BTW'!D45 -> 0 | E40: =' Geact.Raming_excl. BTW'!E45 -> 0.21 | F40: =(1+G40)*' Geact.Raming_excl. BTW'!F45 -> 0 | G40: =' Geact.Raming_excl. BTW'!G45 -> 0.21 | H40: =(1+I40)*' Geact.Raming_excl. BTW'!H45 -> 0 | I40: =' Geact.Raming_excl. BTW'!I45 -> 0.21
A41: Stabiliteit | B41: =(1+C41)*' Geact.Raming_excl. BTW'!B46 -> 0 | C41: =' Geact.Raming_excl. BTW'!C46 -> 0.21 | D41: =(1+E41)*' Geact.Raming_excl. BTW'!D46 -> 0 | E41: =' Geact.Raming_excl. BTW'!E46 -> 0.21 | F41: =(1+G41)*' Geact.Raming_excl. BTW'!F46 -> 0 | G41: =' Geact.Raming_excl. BTW'!G46 -> 0.21 | H41: =(1+I41)*' Geact.Raming_excl. BTW'!H46 -> 0 | I41: =' Geact.Raming_excl. BTW'!I46 -> 0.21
A42: Technieken | B42: =(1+C42)*' Geact.Raming_excl. BTW'!B47 -> 0 | C42: =' Geact.Raming_excl. BTW'!C47 -> 0.21 | D42: =(1+E42)*' Geact.Raming_excl. BTW'!D47 -> 0 | E42: =' Geact.Raming_excl. BTW'!E47 -> 0.21 | F42: =(1+G42)*' Geact.Raming_excl. BTW'!F47 -> 0 | G42: =' Geact.Raming_excl. BTW'!G47 -> 0.21 | H42: =(1+I42)*' Geact.Raming_excl. BTW'!H47 -> 0 | I42: =' Geact.Raming_excl. BTW'!I47 -> 0.21
...

Sheet Oppervlaktegegevens
A2: ENKEL IN TE VULLEN INDIEN DIT GEWIJZIGD IS TOV AKKOORD INFRASTRUCTUURFORFAIT
A4: OPPERVLAKTEGEGEVENS
A5: bruto-oppervlakte totaal (VIPA zorgvorm) | B5: =SUM(B6:B8) -> 0 | D5: Lokalen woonondersteuning | E5: Bruto | F5: Netto | H5: Lokalen Collectieve en ondersteunende zorglokalen | I5: Bruto | J5: Netto | L5: Lokalen Dagbesteding | M5: Bruto | N5: Netto
A6: Netto-oppervlakte (Woonondersteuning) | B6: =F16 -> 0 | D6: naam lokaal | E6: 0 | F6: 0 | H6: naam lokaal | I6: 0 | J6: 0 | L6: naam lokaal | M6: 0 | N6: 0
A7: Netto-oppervlakte (Collectieve en ondersteunenden zorglokalen) | B7: =J16 -> 0 | E7: 0 | F7: 0 | I7: 0 | J7: 0 | M7: 0 | N7: 0
A8: Netto-oppervlakte (Dagbesteding) | B8: =N16 -> 0 | E8: 0 | F8: 0 | I8: 0 | J8: 0 | M8: 0 | N8: 0
E9: 0 | F9: 0 | I9: 0 | J9: 0 | M9: 0 | N9: 0
E10: 0 | F10: 0 | I10: 0 | J10: 0 | M10: 0 | N10: 0
E11: 0 | F11: 0 | I11: 0 | J11: 0 | M11: 0 | N11: 0
E12: 0 | F12: 0 | I12: 0 | J12: 0 | M12: 0 | N12: 0
E13: 0 | F13: 0 | I13: 0 | J13: 0 | M13: 0 | N13: 0
E14: 0 | F14: 0 | I14: 0 | J14: 0 | M14: 0 | N14: 0
E15: 0 | F15: 0 | I15: 0 | J15: 0 | M15: 0 | N15: 0
E16: =SUM(E6:E15) -> 0 | F16: =SUM(F6:F15) -> 0 | I16: =SUM(I6:I15) -> 0 | J16: =SUM(J6:J15) -> 0 | M16: =SUM(M6:M15) -> 0 | N16: =SUM(N6:N15) -> 0
A19: DUIDING
A20: collectieve en ondersteunende zorglokalen
A21: dit zijn activiteitenlokalen, therapielokalen, collectieve was-, eet- en kookgelegenheden (niet horende bij de woning) en polyvalente ruimten
A22: netto-oppervlakte
A23: de oppervlakte binnen de binnenmuren van een ruimte (ingebouwde kasten meegeteld)
A24: bruto-oppervlakte
A25: de oppervlakte rondom de buitenmuren, per bouwlaag

Sheet Deelforfaits
A2: ENKEL IN TE VULLEN INDIEN DIT GEWIJZIGD IS TOV AKKOORD INFRASTRUCTUURFORFAIT
A4: De aanvraag voor de opstartbeslissing van het infrastructuurforfait betreft:
A6: A. voor personen met een overeenkomst woon- én dagondersteuning bij de aanvrager
A7: A.1 het project bevat de aangepaste woning
A8: Deelforfait wonen | B8: 0 | C8: gebruikers
A9: het aantal kamers in het project met een netto-oppervlakte > 12m²
A10: Deelforfait voor collectieve en ondersteunende zorglokalen | B10: 0 | C10: gebruikers
A11: Op grond van:
A12: - het project omvat collectieve en ondersteunende zorglokalen voor de bewoners uit het project
A13: korte beschrijving van deze lokalen/functies + bruto-oppervlakte: | B13: 0 | C13: m²
A15: - het betreft een aangepaste woning waarin zorg- en collectieve functies zijn geïntegreerd
A16: bruto-oppervlakte van de woning per gebruiker | B16: 0 | C16: m²/gebruiker
A18: A.2 het project betreft enkel collectieve en ondersteunende zorg lokalen
A19: korte beschrijving van deze lokalen/functies
A21: bruto-oppervlakte van het project | B21: 0 | C21: m²
A22: aantal gebruikers voor het project | B22: 0 | C22: gebruikers
A24: opstart% voor dit deelforfait per gebruiker | B24: =B21/17/B22 -> #DIV/0!
A26: B. voor personen met enkel een overeenkomst dagondersteuning bij de aanvrager
A27: Deelforfait dag
A28: netto-oppervlakte van bepaalde lokalen (gemeenschappelijke leef- en rustruimten, de voor de gebruikers toegankelijke keuken, activiteiten- en therapielokalen, en de gemeenschappelijke sanitaire ruimten) | B28: 0 | C28: m²
A30: capaciteit op basis van 15m² aan bepaalde lokalen | B30: =B28/15 -> 0
A32: DUIDING
A33: collectieve en ondersteunende zorglokalen
A34: dit zijn activiteitenlokalen, therapielokalen, collectieve was-, eet- en kookgelegenheden (niet horende bij de woning) en polyvalente ruimten
A35: netto-oppervlakte
A36: de oppervlakte binnen de binnenmuren van een ruimte (ingebouwde kasten meegeteld)
A37: bruto-oppervlakte
A38: de oppervlakte rondom de buitenmuren, per bouwlaag

Sheet gegevens rekenblad
A2: kies een optie | I2: 2009
A3: open aanbesteding | I3: 2010
A4: beperkte aanbesteding | I4: 2011
A5: open offerteaanvraag | I5: 2012
A6: beperkte offerteaanvraag | I6: 2013
A7: vereenv. onderhandelingsprocedure met bekendmaking | I7: 2014
A8: onderhandelingsprocedure met bekendmaking | I8: 2015
A9: onderhandelingsprocedure zonder bekendmaking | I9: 2016
A12: Kies een optie
A13: 1 Ruwbouw
A14: 2 Technische Uitrusting | F14: Onroerend
A15: 3 Afwerking | F15: Roerend
A16: 3 Vast meubilair
A17: 4 Los meubilair | F17: Kies een optie
A18: Afbraakwerken | F18: Nieuwbouw
A19: Omgevingswerken | F19: Uitbreiding
A20: Andere | F20: Verbouwing
F21: Aankoop met verbouwing
F22: Aankoop zonder verbouwing
A23: index | E23: BTW
A24: 2009 | B24: 1.49761 | F24: 0.06
A25: 2010 | B25: 1.49139 | F25: 0.12
A26: 2011 | B26: 1.57367 | F26: 0.21
A27: 2012 | B27: 1.62044
A28: 2013 | B28: 1.63645
A29: 2014 | B29: 1.62441
A30: 2015 | B30: 1.62165
A31: 2016 | B31: 1.56503
A32: 2017 | B32: 1.63386
A33: 2018 | B33: 1.70703
