Workbook
Name adres_inrichtendemacht: Cijfervoorbeeld!$F$8
Name adres_inrichtendemacht: 'Formulier forfait'!$F$8
Name adres_inrichtendemacht: #REF!
Name adres_voorziening: Cijfervoorbeeld!$F$10
Name adres_voorziening: 'Formulier forfait'!$F$10
Name adres_voorziening: #REF!
Name aflossingsmethode_meubilair: Cijfervoorbeeld!#REF!
Name aflossingsmethode_meubilair: 'Formulier forfait'!#REF!
Name aflossingsmethode_meubilair: #REF!
Name aflossingsmethode_nieuwbouw: Cijfervoorbeeld!#REF!
Name aflossingsmethode_nieuwbouw: 'Formulier forfait'!#REF!
Name aflossingsmethode_nieuwbouw: #REF!
Name afschrijvingsduur_meubilair: Cijfervoorbeeld!$H$85
Name afschrijvingsduur_meubilair: 'Formulier forfait'!$H$85
Name afschrijvingsduur_meubilair: #REF!
Name afschrijvingsduur_nieuwbouw: Cijfervoorbeeld!$E$85
Name afschrijvingsduur_nieuwbouw: 'Formulier forfait'!$E$85
Name afschrijvingsduur_nieuwbouw: #REF!
Name apartesanitairecel: #REF!
Name apartesanitairecel: #REF!
Name apartesanitairecel: #REF!
Name berekendefinancieringskost_meubilair: Cijfervoorbeeld!#REF!
Name berekendefinancieringskost_meubilair: 'Formulier forfait'!#REF!
Name berekendefinancieringskost_meubilair: #REF!
Name berekendefinancieringskost_nieuwbouw: Cijfervoorbeeld!#REF!
Name berekendefinancieringskost_nieuwbouw: 'Formulier forfait'!#REF!
Name berekendefinancieringskost_nieuwbouw: #REF!
Name bewoners_huidig: #REF!
Name bewoners_huidig: #REF!
Name bewoners_huidig: #REF!
Name bewoners_toekomstig: #REF!
Name bewoners_toekomstig: #REF!
Name bewoners_toekomstig: #REF!
Name bezettingsgraad_meubilair: Cijfervoorbeeld!$H$87
Name bezettingsgraad_meubilair: 'Formulier forfait'!$H$87
Name bezettingsgraad_meubilair: #REF!
Name bezettingsgraad_werken: Cijfervoorbeeld!$E$87
Name bezettingsgraad_werken: 'Formulier forfait'!$E$87
Name bezettingsgraad_werken: #REF!
Name bouwkost_fin_meubilair: Cijfervoorbeeld!$H$79
Name bouwkost_fin_meubilair: 'Formulier forfait'!$H$79
Name bouwkost_fin_meubilair: #REF!
Name bouwkost_fin_werken: Cijfervoorbeeld!$E$79
Name bouwkost_fin_werken: 'Formulier forfait'!$E$79
Name bouwkost_fin_werken: #REF!
Name bouwkost_meubilair: Cijfervoorbeeld!$H$74
Name bouwkost_meubilair: 'Formulier forfait'!$H$74
Name bouwkost_meubilair: #REF!
Name bouwkost_netto_werken: Cijfervoorbeeld!$E$77
Name bouwkost_netto_werken: 'Formulier forfait'!$E$77
Name bouwkost_netto_werken: #REF!
Name bouwkost_werken: Cijfervoorbeeld!$E$74
Name bouwkost_werken: 'Formulier forfait'!$E$74
Name bouwkost_werken: #REF!
Name bouwkost_werken_meubilair: Cijfervoorbeeld!$H$77
Name bouwkost_werken_meubilair: 'Formulier forfait'!$H$77
Name bouwkost_werken_meubilair: #REF!
Name BTWrecuperatie_meubilair: Cijfervoorbeeld!$H$76
Name BTWrecuperatie_meubilair: 'Formulier forfait'!$H$76
Name BTWrecuperatie_meubilair: #REF!

Sheet Algemene instructies
A1: Algemene instructies:
B3: 1) Vul het formulier in: | I3: Formulier forfait
B5: 2) Bij vragen: raadpleeg uitleg in rood of algemene uitleg | I5: Uitleg
B7: 3) Verzend rekenblad en ondertekende pdf-versie naar: | I7: prijzen@zorg-en-gezondheid.be

Sheet Formulier forfait
A1: Prijzenformulier infrastructuurforfait
A3: Navigatie: | B3: Navigatie: | D3: Terug naar algemene instructies | E3: Uitleg | F3: Cijfervoorbeeld
A5: 1. Identificatie van de inrichting
B7: Naam inrichtende macht :
B8: Adres inrichtende macht:
B9: Naam voorziening:
B10: Adres voorziening:
B11: Telefoonummer :
B12: Email: | R12: OCMW
B13: Dossiernummer bij Zorg en Gezondheid (6 cijfers gescheiden door .): | R13: Provincie
B14: VIPA-dossiernummer (indien voorkomend, begint met BZ..): | R14: VZW
B15: Ondernemingsnummer (zonder voorloopnul en punten): | R15: AGB | T15: =IF(LEN(ondernemingsnummer)<>9,"Een ondernemeningsnummer telt 9 cijfers","") -> Een ondernemeningsnummer telt 9 cijfers
B16: Contactpersoon: | R16: BVBA
R17: NV
A18: 2. Juridische vorm inrichtende macht: | R18: Commanditaire
R19: Natuurlijke persoon
B20: Selecteer de juiste vorm: | E20: Provincie | L20: bij andere: gelieve hiernaast de rechtsvorm in te vullen in de kader | R20: Andere
L21: =IF(AND(rechtsvorm="Andere",H20=""),"U heeft voor andere gekozen, gelieve die rechtsvorm te specificeren in H20","")
A22: 3. Erkenning: zorgvorm, in gebruikname en verrekeningswijze forfait
B24: Vul de onderstaande rubrieken in waar nodig.
B26: 3.1 Erkenning: zorgvorm en aantal plaatsen
B28: Stap1: duid "ja" aan naast de passende optie van zorgvorm. Die opties sluiten elkaar uit. U kan bijgevolg enkel "ja" naast 1 van de 3 opties plaatsen. De zorgvorm is van belang voor de verdere berekening van de verantwoorde kost onder 4, met name de bezettingsgraad. Stap2: voor de gekozen optie, vult u in: de totale erkende capaciteit van de zorgvorm en de capaciteit waarop het forfait betrekking heeft. De kosten die u verder onder rubriek 4 verantwoordt, hebben enkel betrekking op de forfaitgerechtigde capaciteit. Belangrijke voorwaarde voor het forfait is de investering in woongelegenheden. Het deel van de capaciteit waarvoor niet geïnvesteerd in woongelegenheden komt niet in aanmerking. In dat geval ligt de totale capaciteit hoger dan de forfaitgerechtigde. Indien u ook een dagprijsverhoging wenst voor het deel van de kosten met betrekking tot de niet-forfaitgerechtigde capaciteit, dient u die aan te vragen via een ander formulier. Zo kan dan bvb. een pro rata deel van de collectieve kosten toegerekend worden aan niet-forfaitgerechtigde capaciteit.
R31: JA
F32: Erkende capaciteit | R32: NEE
F33: totaal | G33: voor forfait
B34: Betreft de investering enkel woonzorgcentrum? | E34: NEE | F34: 0 | G34: 0 | H34: =IF(AND(E34="JA", OR(E35="JA",E36="JA")),"U heeft reeds een andere optie gekozen, beperk u tot 1 optie",IF(AND(E34="ja", OR(F34=0,G34=0)), "Vermeld hier voor het woonzorgcentrum zowel de totale capaciteit als de capaciteit waarvoor u het forfait wenst te vragen",IF(AND(E34="nee",OR(F34>0,G34>0)),"U heeft niet voor deze optie gekozen, maar toch staan er nog capaciteiten vermeld.Verwijder die.",""))) | P34: =IF(E34="ja",1,0)*G34 -> 0
B35: Betreft de investering enkel kortverblijf? | E35: NEE | F35: 0 | G35: 0 | H35: =IF(AND(E35="JA", OR(E34="JA",E36="JA")),"U heeft reeds een andere optie gekozen, beperk u tot 1 optie",IF(AND(E35="ja",OR(F35=0,G35=0)),"Vermeld hier voor het kortverblijf zowel de totale capaciteit als de capaciteit waarvoor u het forfait wenst te vragen",IF(AND(E35="nee",OR(F35>0,G35>0)),"U heeft niet voor deze optie gekozen, maar toch staan er nog capaciteiten vermeld.Verwijder die.",""))) | P35: =IF(E35="ja",1,0)*G35 -> 0
B36: Betreft de investering een combinatie kortverblijf/WZC? | E36: NEE | F36: 0 | G36: 0 | H36: =IF(AND(E36="JA",OR(E34="JA",E35="JA")),"U heeft reeds een andere optie gekozen, beperk u tot 1 optie",IF(AND(E36="ja",OR(F36=0,G36=0)),"Vermeld hier voor het woonzorgcentrum en kortverblijf zowel de totale capaciteit als de capaciteit waarvoor u het forfait wenst te vragen.",IF(AND(E36="nee",OR(F36>0,G36>0)),"U heeft niet voor deze optie gekozen, maar toch staan er nog capaciteiten vermeld.Verwijder die.",""))) | P36: =IF(E36="ja",1,0)*G36 -> 0 | R36: Andere:
P37: =SUM(P34:P36) -> 0
B38: Grensbedrag | F38: 50 | G38: niet in te vullen, wordt standaard vooringevuld
B40: Eventuele foutmeldingen: | E40: =IF(OR(G34>F34,G35>F35,G36>F36),"Capaciteit voor forfait kan niet hoger zijn dan totale capaciteit","")
E41: =IF(SUM(F34:F36)=0,"Totale capaciteit kan niet nul zijn. ","") & IF(SUM(G34:G36)=0,"Capaciteit voor forfait kan niet nul zijn.","") -> Totale capaciteit kan niet nul zijn. Capaciteit voor forfait kan niet nul zijn.
E42: =IF(OR(COUNTIF(F34:F36,">0")>1,COUNTIF(G34:G36,">0")>1), "U mag de capaciteiten niet naast meerdere van de voorgaande keuzes plaatsen","")
B44: 3.2 Erkenning: verrekeningswijze forfait in dagprijs
B46: Indien het forfait niet wordt uitbetaald vanaf de ingebruikname, kan u ervoor kiezen om dit forfait toch reeds vanaf ingebruikname in mindering te brengen op de dagprijs. De periode waarin u geen forfait ontvangt mag als kost doorgerekend worden. De kost van het gederfde forfait wordt in 4.1 automatisch door excel berekend. Hiervoor duidt u in cel G50 "ja" aan. Vervolgens vermeldt u de maand en het jaar van ingebruikname in E53 en F53 en het jaar van de eerste betaling in F54. De maand van eerste betaling forfait dient niet ingevuld, gezien dit standaard (indien niet vanaf ingebruikname) vanaf 1 januari van het subsidiejaar wordt betaald. De gederfde periode wordt in jaren uitgedrukt in cel E55.
B50: Wenst u het forfait te verrekenen vanaf ingebruikname (=JA) of vanaf betaaldatum forfait (=NEE)? | G50: NEE | H50: verplicht aan te duiden: JA/NEE. Toelichting: indien er een periode is tussen ingebruikname en betaling, kan u toch reeds het forfait vanaf in gebruikname verrekenen
H51: In geval van keuze voor verrekening, wordt ook de kost voor het gederfde forfait berekend en mee opgenomen in de dagprijs.
E52: maand | F52: jaar
B53: Tijdstip ingebruikname gebouw (maand/jaar), ten vroegste 1/1/2018 | E53: 1 | G53: =IF(AND(G50="JA",F53=0), "Gelieve maand en jaar van ingebruikname in te vullen: de recuperatie van het kostenforfait kan maar vanaf 1/1/2018",IF(AND(G50="JA",F53<2018),"Voor de verrekening van het kostenforfait kan het jaar van ingebruikname niet vóór 2018 gelegen zijn","")) | H53: =IF(E53>12, "Maand kan niet groter dan 12 zijn","")
B54: Tijdstip eerste betaling forfait van de overheid (maand/jaar) | E54: 1 | G54: =IF(AND($G$50="JA",F54=0), "Gelieve jaar van eerste betaling forfait in te vullen. Forfait wordt voor volledig jaar uitbetaald, dus hier is de maand standaard 1","") | H54: =IF(E54>12, "Maand kan niet groter dan 12 zijn","")
...

Sheet Cijfervoorbeeld
A1: Cijfervoorbeeld infrastructuurforfait
A3: Navigatie: | B3: Navigatie: | D3: Terug naar algemene instructies | E3: Uitleg | F3: Cijfervoorbeeld | G3: Formulier
A5: 1. Identificatie van de inrichting
B7: Naam inrichtende macht :
B8: Adres inrichtende macht:
B9: Naam voorziening:
B10: Adres voorziening:
B11: Telefoonummer :
B12: Email: | R12: OCMW
B13: Dossiernummer bij Zorg en Gezondheid (6 cijfers gescheiden door .): | F13: 123456 | R13: Provincie
B14: VIPA-dossiernummer (indien voorkomend, begint met BZ..): | R14: VZW
B15: Ondernemingsnummer (zonder voorloopnul en punten): | R15: AGB
B16: Contactpersoon: | R16: BVBA
R17: NV
A18: 2. Juridische vorm inrichtende macht: | R18: Commanditaire
R19: Natuurlijke persoon
B20: Selecteer de juiste vorm: | E20: VZW | L20: bij andere: gelieve hiernaast de rechtsvorm in te vullen in de kader | R20: Andere
L21: =IF(AND(rechtsvorm="Andere",H20=""),"U heeft voor andere gekozen, gelieve die rechtsvorm te specificeren in H20","")
A22: 3. Erkenning: zorgvorm, in gebruikname en verrekeningswijze forfait
B24: Vul de onderstaande rubrieken in waar nodig.
B26: 3.1 Erkenning: zorgvorm en aantal plaatsen
B28: Stap1: duid "ja" aan naast de passende optie van zorgvorm. Die opties sluiten elkaar uit. U kan bijgevolg enkel "ja" naast 1 van de 3 opties plaatsen. De zorgvorm is van belang voor de verdere berekening van de verantwoorde kost onder 4, met name de bezettingsgraad. Stap2: voor de gekozen optie, vult u in: de totale erkende capaciteit van de zorgvorm en de capaciteit waarop het forfait betrekking heeft. De kosten die u verder onder rubriek 4 verantwoordt, hebben enkel betrekking op de forfaitgerechtigde capaciteit. Belangrijke voorwaarde voor het forfait is de investering in woongelegenheden. Het deel van de capaciteit waarvoor niet geïnvesteerd in woongelegenheden komt niet in aanmerking. In dat geval ligt de totale capaciteit hoger dan de forfaitgerechtigde. Indien u ook een dagprijsverhoging wenst voor het deel van de kosten met betrekking tot de niet-forfaitgerechtigde capaciteit, dient u die aan te vragen via een ander formulier. Zo kan dan bvb. een pro rata deel van de collectieve kosten toegerekend worden aan niet-forfaitgerechtigde capaciteit.
R31: JA
F32: Erkende capaciteit | R32: NEE
F33: totaal | G33: voor forfait
B34: Betreft de investering enkel woonzorgcentrum? | E34: JA | F34: =Uitleg!E25 -> 80 | G34: =Uitleg!D25 -> 60 | H34: =IF(AND(E34="JA", OR(E35="JA",E36="JA")),"U heeft reeds een andere optie gekozen, beperk u tot 1 optie",IF(AND(E34="ja", OR(F34=0,G34=0)), "Vermeld hier voor het woonzorgcentrum zowel de totale capaciteit als de capaciteit waarvoor u het forfait wenst te vragen",IF(AND(E34="nee",OR(F34>0,G34>0)),"U heeft niet voor deze optie gekozen, maar toch staan er nog capaciteiten vermeld.Verwijder die.",""))) | P34: =IF(E34="ja",1,0)*G34 -> 60
B35: Betreft de investering enkel kortverblijf? | E35: NEE | F35: 0 | G35: 0 | H35: =IF(AND(E35="JA", OR(E34="JA",E36="JA")),"U heeft reeds een andere optie gekozen, beperk u tot 1 optie",IF(AND(E35="ja",OR(F35=0,G35=0)),"Vermeld hier voor het kortverblijf zowel de totale capaciteit als de capaciteit waarvoor u het forfait wenst te vragen",IF(AND(E35="nee",OR(F35>0,G35>0)),"U heeft niet voor deze optie gekozen, maar toch staan er nog capaciteiten vermeld.Verwijder die.",""))) | P35: =IF(E35="ja",1,0)*G35 -> 0
B36: Betreft de investering een combinatie kortverblijf/WZC? | E36: NEE | F36: 0 | G36: 0 | H36: =IF(AND(E36="JA",OR(E34="JA",E35="JA")),"U heeft reeds een andere optie gekozen, beperk u tot 1 optie",IF(AND(E36="ja",OR(F36=0,G36=0)),"Vermeld hier voor het woonzorgcentrum en kortverblijf zowel de totale capaciteit als de capaciteit waarvoor u het forfait wenst te vragen.",IF(AND(E36="nee",OR(F36>0,G36>0)),"U heeft niet voor deze optie gekozen, maar toch staan er nog capaciteiten vermeld.Verwijder die.",""))) | P36: =IF(E36="ja",1,0)*G36 -> 0 | R36: Andere:
P37: =SUM(P34:P36) -> 60
B38: Grensbedrag | F38: 50 | G38: niet in te vullen, wordt standaard vooringevuld
B40: Eventuele foutmeldingen: | E40: =IF(OR(G34>F34,G35>F35,G36>F36),"Capaciteit voor forfait kan niet hoger zijn dan totale capaciteit","")
E41: =IF(SUM(F34:F36)=0,"Totale capaciteit kan niet nul zijn. ","") & IF(SUM(G34:G36)=0,"Capaciteit voor forfait kan niet nul zijn.","")
E42: =IF(OR(COUNTIF(F34:F36,">0")>1,COUNTIF(G34:G36,">0")>1), "U mag de capaciteiten niet naast meerdere van de voorgaande keuzes plaatsen","")
B44: 3.2 Erkenning: verrekeningswijze forfait in dagprijs
B46: Indien het forfait niet wordt uitbetaald vanaf de ingebruikname, kan u ervoor kiezen om dit forfait toch reeds vanaf ingebruikname in mindering te brengen op de dagprijs. De periode waarin u geen forfait ontvangt mag als kost doorgerekend worden. De kost van het gederfde forfait wordt in 4.1 automatisch door excel berekend. Hiervoor duidt u in cel G50 "ja" aan. Vervolgens vermeldt u de maand en het jaar van ingebruikname in E53 en F53 en het jaar van de eerste betaling in F54. De maand van eerste betaling forfait dient niet ingevuld, gezien dit standaard (indien niet vanaf ingebruikname) vanaf 1 januari van het subsidiejaar wordt betaald. De gederfde periode wordt in jaren uitgedrukt in cel E55.
B50: Wenst u het forfait te verrekenen vanaf ingebruikname (=JA) of vanaf betaaldatum forfait (=NEE)? | G50: JA | H50: verplicht aan te duiden: JA/NEE. Toelichting: indien er een periode is tussen ingebruikname en betaling, kan u toch reeds het forfait vanaf in gebruikname verrekenen
H51: In geval van keuze voor verrekening, wordt ook de kost voor het gederfde forfait berekend en mee opgenomen in de dagprijs.
E52: maand | F52: jaar
B53: Tijdstip ingebruikname gebouw (maand/jaar), ten vroegste 1/1/2018 | E53: 1 | F53: 2018 | G53: =IF(AND(G50="JA",F53=0), "Gelieve maand en jaar van ingebruikname in te vullen: de recuperatie van het kostenforfait kan maar vanaf 1/1/2018",IF(AND(G50="JA",F53<2018),"Voor de verrekening van het kostenforfait kan het jaar van ingebruikname niet vóór 2018 gelegen zijn","")) | H53: =IF(E53>12, "Maand kan niet groter dan 12 zijn","")
B54: Tijdstip eerste betaling forfait van de overheid (maand/jaar) | E54: 1 | F54: 2019 | G54: =IF(AND($G$50="JA",F54=0), "Gelieve jaar van eerste betaling forfait in te vullen. Forfait wordt voor volledig jaar uitbetaald, dus hier is de maand standaard 1","")
...

Sheet Uitleg
A1: Uitleg: | C1: Terug naar algemene instructies | D1: Uitleg | E1: Cijfervoorbeeld
A3: Hierna de algemene uitleg aan de hand van een cijfervoorbeeld. De cijfers van het voorbeeld worden voor het gedeelte van het infrastructuurforfait in een formulier voor infrastructuurforfait ingevuld (zie het tabblad "cijfervoorbeeld").
A6: Stap1: totaalanalyse volledige project
A7: U maakt best eerst een totaalanalyse van uw project, met verdeling van de kosten over de forfaitgerechtigde en niet-forfaitgerechtigde capaciteit. In dit formulier voor het forfait kunnen enkel de kosten worden doorgerekend die betrekking hebben op de forfaitgerechtigde capaciteit. De kosten voor de niet-forfaitgerechtigde capaciteit worden via andere formulieren verrekend.
A11: Een voorziening heeft momenteel een erkenning voor 40 woongelegenheden, waarvan 20 bewoners zich in tweepersoonskamers bevinden. Zij krijgt een bijkomende erkenning voor 40 woongelegenheden, zodat de totale capaciteit stijgt tot 80 woongelegenheden. De voorziening bouwt 60 nieuwe eenpersoonskamers, waarvan 20 voor de bestaande bewoners (uit de vroegere tweepersoonskamers) en 40 voor nieuwe bewoners. De totale capaciteit zal na de investeringen bestaan uit 80 eenpersoonskamers, waarvan 60 die bijgekomen zijn door de investering. De 60 nieuwe eenpersoonskamers zijn volledig afgedekt door erkenningen en komen bijgevolg in aanmerking voor het infrastructuurforfait. De 20 bestaande eenpersoonskamers krijgen enkel een opsmukbeurt (schilderen, vervangen kozijnen,isolatie,…) en komen bijgevolg niet in aanmerking voor het infrastructuurforfait. Naast de werken aan de kamers, wordt er ook geïnvesteerd in collectieve ruimten, een busje en ICT die ten goede komen van alle bewoners. Het totale kostenplaatje ziet er als volgt uit:
C22: Werken aan kamers | E22: Collectieve investeringen
C23: groot onderhoud | D23: nieuwe kamers | E23: collectieve ruimten | F23: Bus | G23: ICT
A24: kost (excl. financiering) | C24: 250000 | D24: 9000000 | E24: 2000000 | F24: 50000 | G24: 150000
A25: kamers | C25: 20 | D25: 60 | E25: 80 | F25: 80 | G25: 80
A26: afschrijvingstermijn | C26: 25 | D26: 25 | E26: 25 | F26: 5 | G26: 3
A28: Verdere werkwijze bestaat uit: 1) verdeel kosten over de forfaitgerechtigde en niet-forfaitgerechtigde capaciteit 2) Kostenverrekening voor niet-forfaitgerechtigde capaciteit: a. Splits de kosten op volgens categorie b. Doorloop de beslissingsboom en bepaal het formulier c. Controleer welke formulieren kunnen gecombineerd worden. 3) Voor de forfaitgerechtigde capaciteit: voer alle kosten (eventueel na verdeling) in in het formulier voor het infrastructuurforfait
A35: Stap2: verdeling kosten over de forfaitgerechtigde en niet-forfaitgerechtigde capaciteit
A37: De forfaitgerechtigde capaciteit betreft hier de 60 woongelegenheden van de 80 woongelegenheden in totaal. De collectieve kosten kunnen bijgevolg toegerekend worden volgens 20/80 voor de 20 niet-forfaitgerechtigde kamers en 60/80 voor 60 forfaitgerechtigde kamers. Dit resulteert dan in volgende kostenverdeling:
B42: Totaal | C42: Forfait | D42: Niet-forfaitgerechtigd
A43: kamers> | B43: =E25 -> 80 | C43: =D25 -> 60 | D43: =C25 -> 20
A44: Collectieve ruimten | B44: =E24 -> 2000000 | C44: =(C$43/$B$43)*$B44 -> 1500000 | D44: =(D$43/$B$43)*$B44 -> 500000
A45: Bus | B45: =F24 -> 50000 | C45: =(C$43/$B$43)*$B45 -> 37500 | D45: =(D$43/$B$43)*$B45 -> 12500
A46: ICT | B46: =G24 -> 150000 | C46: =(C$43/$B$43)*$B46 -> 112500 | D46: =(D$43/$B$43)*$B46 -> 37500
A48: Stap3: kostenverrekening in formulier(en) voor niet-forfaitgerechtigde capaciteit
A50: Voor elk van de kostencomponenten wordt de beslissingsboom doorlopen: - Onderhoudswerken aan 20 niet-forfaitgerechtigde kamers: 250.000 euro - Collectieve ruimte: 500.000 euro - Bus: 12.500 euro - ICT: 37.500 euro Gezien voor alle kostencomponenten geldt dat de ruwbouw niet wordt vervangen, kunnen alle kosten ingebracht worden in 1 formulier B-E (rubriek 6B, andere gerealiseerde investeringen).
A57: Stap4: invoer kosten in formulier infrastructuurforfait
A60: Invullen van de capaciteit
A62: Onder 3.1 van het formulier:
A63: - gaan we ervan uit dat het enkel een woonzorgcentrum betreft. U zet de optie "Betreft de investering enkel een woonzorgcentrum" op "JA"
A64: - vult u de totale capaciteit in van het woonzorgcentrum of in het voorbeeld: 80
A65: - vult u de forfaitgerechtigde capaciteit in: 60
A67: Verrekeningswijze van het forfait
A69: Het forfait wordt door de overheid normaliter uitbetaald vanaf ingebruikname. In bepaalde gevallen geschiedt de uitbetaling pas later. Op voorwaarde dat dit startjaar zich vanaf 2018 situeert, mag het gederfde forfait worden doorgerekend als kost indien de instelling het forfait toch vanaf ingebruikname op de dagprijs in mindering wil brengen. Er worden geen begindata vóór 1/1/2018 aanvaard, gezien deze dossiers zich in de overgangsfase bevinden. In die overgangsfase wordt er ook niet teruggerekend wat de brutodagprijs betreft, zodat als keerzijde evenmin de kost van het gederfde forfait kan toegevoegd worden aan de dagprijs. Wat te doen in geval dat u het forfait reeds vanaf de ingebruikname wenst te verrekenen? U klikt in cel G50 op "ja" mbt de vraag "Wenst u het forfait te verrekenen vanaf ingebruikname (=JA) of vanaf betaaldatum forfait (=NEE)?" Voor de berekening van het gederfde forfait wordt gevraagd naar datum van ingebruikname en (geplande) datum van betaling van forfait. Die datum van betaling wordt meegedeeld na verwerking van de resultaten van de open oproep waarin gevraagd wordt naar de datum van ingebruikname. Stel in het voorbeeld dat de voorziening de woongelegenheden reeds in gebruik heeft genomen op 1/1/2017 en na de oproep bericht wordt dat het forfait ten vroegste op 1/1/2019 zal worden uitbetaald. Als datum van ingebruikname wordt dan 1/1/2018 ingevuld, als eerste betaling 1/1/2019.
A78: Invoer infrastructuurkost
A80: De loutere werken aan de kamers omvatten ook een investering van 10% in meubilair. Dit resulteert dan in volgende verdeling van de investering:
B82: totaal | C82: gebouw | D82: meubilair
B83: =D24 -> 9000000 | C83: =0.9*B83 -> 8100000 | D83: =B83-C83 -> 900000
A85: Vervolgens vult u in:
A87: jaar van aanvangsbevel | C87: 2015 | D87: cel E68
A88: gebouw | C88: =C83 -> 8100000 | D88: cel E74
A89: meubilair | C89: =D83 -> 900000 | D89: cel H74
A91: Bijzondere aandachtspunten:
A92: - voor de investering dient het aanvangsbevel te worden gegeven zodat de financieringskost forfaitair kan worden bepaald op basis van de gemiddelde OLO 10 jaar+120 bp
A93: - in geval van huur wordt de infrastructuurkost van de verhuurder ingebracht
A95: Hierna wat meer uitleg over de berekeningen in het rekenblad:
...

Sheet Bijlage supplement
A1: Bijlage supplement: | B1: totaalbedrag in euro
A3: Detailleer het totaalbedrag conform onderstaande rubrieken:
A5: sondevoeding: het surplus op de gebruikelijke voedingskost, na aftrek van de door het RIZIV terugbetaalde tegemoetkoming:
A6: dokterskosten, paramedische kosten en medicatie:
A7: kapper:
A8: abonnement op kabeldistributie:
A9: telefoonkosten:
A10: reiniging van persoonlijke kleding:
A11: kamerbediening (buiten medische redenen):
A13: bron: https://www.zorg-en-gezondheid.be/wat-is-in-de-dagprijs-van-een-woonzorgcentrum-inbegrepen

Sheet Checklist overheidstussenkomst
B1: Checklist componenten overheidstussenkomsten
B3: 1) instellingsforfait: Personeelskosten • zorgpersoneel: verpleegkundigen, zorgkundigen (verzorgenden), kinesitherapeuten, logopedisten, ergotherapeuten, personeel voor reactivatie • Financiering van coördinerend geneesheer in het RVT Om versleutelingsproblemen te vermijden mag op niveau van het personeel ook ingebrepen zijn: • Financiering van verzorgingsmateriaal • Financiering van opleiding 2) tegemoetkoming vrijstelling van arbeidsprestaties en eindeloopbaan: vergoeding premie voor sommige werknemers die kiezen voor behoud de arbeidsprestaties vanaf de leeftijd van 45 jaar of voor de vervangers als die werknemers kiezen voor vermindering van de arbeidsprestaties 3) tegemoetkoming derde luik: voor het bovennormzorgpersoneel, het administratief en logistiek personeel en voor jobcreatie (mobiele equipes en personeel dementie) 4) Fondsen Sociale Maribel 5) DAC- en Gesco-tussenkomsten

Sheet OLO+120bp
B1: OLO | C1: marge | D1: OLO+marge
A2: 2007 | B2: 0.037947 | C2: 0.012 | D2: =B2+C2 -> 0.049947
A3: 2008 | B3: 0.044006 | C3: 0.012 | D3: =B3+C3 -> 0.056006
A4: 2009 | B4: 0.044727 | C4: 0.012 | D4: =B4+C4 -> 0.056727
A5: 2010 | B5: 0.037767 | C5: 0.012 | D5: =B5+C5 -> 0.049767
A6: 2011 | B6: 0.032786 | C6: 0.012 | D6: =B6+C6 -> 0.044786
A7: 2012 | B7: 0.04304 | C7: 0.012 | D7: =B7+C7 -> 0.05504
A8: 2013 | B8: 0.024544 | C8: 0.012 | D8: =B8+C8 -> 0.036544
A9: 2014 | B9: 0.026533 | C9: 0.012 | D9: =B9+C9 -> 0.038533
A10: 2015 | B10: 0.012453 | C10: 0.012 | D10: =B10+C10 -> 0.024453
A11: 2016 | B11: 0.008 | C11: 0.012 | D11: =B11+C11 -> 0.02
A12: 2017 | B12: 0.008 | C12: 0.012 | D12: =B12+C12 -> 0.02
