Workbook
Name adres_inrichtendemacht: Cijfervoorbeeld!$F$8
Name adres_inrichtendemacht: 'Formulier forfait'!$F$8
Name adres_inrichtendemacht: #REF!
Name adres_voorziening: Cijfervoorbeeld!$F$10
Name adres_voorziening: 'Formulier forfait'!$F$10
Name adres_voorziening: #REF!
Name aflossingsmethode_meubilair: Cijfervoorbeeld!#REF!
Name aflossingsmethode_meubilair: 'Formulier forfait'!#REF!
Name aflossingsmethode_meubilair: #REF!
Name aflossingsmethode_nieuwbouw: Cijfervoorbeeld!#REF!
Name aflossingsmethode_nieuwbouw: 'Formulier forfait'!#REF!
Name aflossingsmethode_nieuwbouw: #REF!
Name afschrijvingsduur_meubilair: Cijfervoorbeeld!$H$85
Name afschrijvingsduur_meubilair: 'Formulier forfait'!$H$85
Name afschrijvingsduur_meubilair: #REF!
Name afschrijvingsduur_nieuwbouw: Cijfervoorbeeld!$E$85
Name afschrijvingsduur_nieuwbouw: 'Formulier forfait'!$E$85
Name afschrijvingsduur_nieuwbouw: #REF!
Name apartesanitairecel: #REF!
Name apartesanitairecel: #REF!
Name apartesanitairecel: #REF!
Name berekendefinancieringskost_meubilair: Cijfervoorbeeld!#REF!
Name berekendefinancieringskost_meubilair: 'Formulier forfait'!#REF!
Name berekendefinancieringskost_meubilair: #REF!
Name berekendefinancieringskost_nieuwbouw: Cijfervoorbeeld!#REF!
Name berekendefinancieringskost_nieuwbouw: 'Formulier forfait'!#REF!
Name berekendefinancieringskost_nieuwbouw: #REF!
Name bewoners_huidig: #REF!
Name bewoners_huidig: #REF!
Name bewoners_huidig: #REF!
Name bewoners_toekomstig: #REF!
Name bewoners_toekomstig: #REF!
Name bewoners_toekomstig: #REF!
Name bezettingsgraad_meubilair: Cijfervoorbeeld!$H$87
Name bezettingsgraad_meubilair: 'Formulier forfait'!$H$87
Name bezettingsgraad_meubilair: #REF!
Name bezettingsgraad_werken: Cijfervoorbeeld!$E$87
Name bezettingsgraad_werken: 'Formulier forfait'!$E$87
Name bezettingsgraad_werken: #REF!
Name bouwkost_fin_meubilair: Cijfervoorbeeld!$H$79
Name bouwkost_fin_meubilair: 'Formulier forfait'!$H$79
Name bouwkost_fin_meubilair: #REF!
Name bouwkost_fin_werken: Cijfervoorbeeld!$E$79
Name bouwkost_fin_werken: 'Formulier forfait'!$E$79
Name bouwkost_fin_werken: #REF!
Name bouwkost_meubilair: Cijfervoorbeeld!$H$74
Name bouwkost_meubilair: 'Formulier forfait'!$H$74
Name bouwkost_meubilair: #REF!
Name bouwkost_netto_werken: Cijfervoorbeeld!$E$77
Name bouwkost_netto_werken: 'Formulier forfait'!$E$77
Name bouwkost_netto_werken: #REF!
Name bouwkost_werken: Cijfervoorbeeld!$E$74
Name bouwkost_werken: 'Formulier forfait'!$E$74
Name bouwkost_werken: #REF!
Name bouwkost_werken_meubilair: Cijfervoorbeeld!$H$77
Name bouwkost_werken_meubilair: 'Formulier forfait'!$H$77
Name bouwkost_werken_meubilair: #REF!
Name BTWrecuperatie_meubilair: Cijfervoorbeeld!$H$76
Name BTWrecuperatie_meubilair: 'Formulier forfait'!$H$76
Name BTWrecuperatie_meubilair: #REF!

Sheet Algemene instructies
A1: Algemene instructies:
B3: 1) Vul het formulier in: | I3: Formulier forfait
B5: 2) Bij vragen: raadpleeg uitleg in rood of algemene uitleg | I5: Uitleg
B7: 3) Verzend rekenblad en ondertekende pdf-versie naar: | I7: prijzen@zorg-en-gezondheid.be

Sheet Formulier forfait
A1: Prijzenformulier infrastructuurforfait
A3: Navigatie: | B3: Navigatie: | D3: Terug naar algemene instructies | E3: Uitleg | F3: Cijfervoorbeeld
A5: 1. Identificatie van de inrichting
B7: Naam inrichtende macht :
B8: Adres inrichtende macht:
B9: Naam voorziening:
B10: Adres voorziening:
B11: Telefoonummer :
B12: Email: | R12: OCMW
B13: Dossiernummer bij Zorg en Gezondheid (6 cijfers gescheiden door .): | R13: Provincie
B14: VIPA-dossiernummer (indien voorkomend, begint met BZ..): | R14: VZW
B15: Ondernemingsnummer (zonder voorloopnul en punten): | R15: AGB | T15: =IF(LEN(ondernemingsnummer)<>9,"Een ondernemeningsnummer telt 9 cijfers","") -> Een ondernemeningsnummer telt 9 cijfers
B16: Contactpersoon: | R16: BVBA
R17: NV
A18: 2. Juridische vorm inrichtende macht: | R18: Commanditaire
R19: Natuurlijke persoon
B20: Selecteer de juiste vorm: | E20: Provincie | L20: bij andere: gelieve hiernaast de rechtsvorm in te vullen in de kader | R20: Andere
L21: =IF(AND(rechtsvorm="Andere",H20=""),"U heeft voor andere gekozen, gelieve die rechtsvorm te specificeren in H20","")
A22: 3. Erkenning: zorgvorm, in gebruikname en verrekeningswijze forfait
B24: Vul de onderstaande rubrieken in waar nodig.
B26: 3.1 Erkenning: zorgvorm en aantal plaatsen
B28: Stap1: duid "ja" aan naast de passende optie van zorgvorm. Die opties sluiten elkaar uit. U kan bijgevolg enkel "ja" naast 1 van de 3 opties plaatsen. De zorgvorm is van belang voor de verdere berekening van de verantwoorde kost onder 4, met name de bezettingsgraad. Stap2: voor de gekozen optie, vult u in: de totale erkende capaciteit van de zorgvorm en de capaciteit waarop het forfait betrekking heeft. De kosten die u verder onder rubriek 4 verantwoordt, hebben enkel betrekking op de forfaitgerechtigde capaciteit. Belangrijke voorwaarde voor het forfait is de investering in woongelegenheden. Het deel van de capaciteit waarvoor niet geïnvesteerd in woongelegenheden komt niet in aanmerking. In dat geval ligt de totale capaciteit hoger dan de forfaitgerechtigde. Indien u ook een dagprijsverhoging wenst voor het deel van de kosten met betrekking tot de niet-forfaitgerechtigde capaciteit, dient u die aan te vragen via een ander formulier. Zo kan dan bvb. een pro rata deel van de collectieve kosten toegerekend worden aan niet-forfaitgerechtigde capaciteit.
R31: JA
F32: Erkende capaciteit | R32: NEE
F33: totaal | G33: voor forfait
B34: Betreft de investering enkel woonzorgcentrum? | E34: NEE | F34: 0 | G34: 0 | H34: =IF(AND(E34="JA", OR(E35="JA",E36="JA")),"U heeft reeds een andere optie gekozen, beperk u tot 1 optie",IF(AND(E34="ja", OR(F34=0,G34=0)), "Vermeld hier voor het woonzorgcentrum zowel de totale capaciteit als de capaciteit waarvoor u het forfait wenst te vragen",IF(AND(E34="nee",OR(F34>0,G34>0)),"U heeft niet voor deze optie gekozen, maar toch staan er nog capaciteiten vermeld.Verwijder die.",""))) | P34: =IF(E34="ja",1,0)*G34 -> 0
B35: Betreft de investering enkel kortverblijf? | E35: NEE | F35: 0 | G35: 0 | H35: =IF(AND(E35="JA", OR(E34="JA",E36="JA")),"U heeft reeds een andere optie gekozen, beperk u tot 1 optie",IF(AND(E35="ja",OR(F35=0,G35=0)),"Vermeld hier voor het kortverblijf zowel de totale capaciteit als de capaciteit waarvoor u het forfait wenst te vragen",IF(AND(E35="nee",OR(F35>0,G35>0)),"U heeft niet voor deze optie gekozen, maar toch staan er nog capaciteiten vermeld.Verwijder die.",""))) | P35: =IF(E35="ja",1,0)*G35 -> 0
B36: Betreft de investering een combinatie kortverblijf/WZC? | E36: NEE | F36: 0 | G36: 0 | H36: =IF(AND(E36="JA",OR(E34="JA",E35="JA")),"U heeft reeds een andere optie gekozen, beperk u tot 1 optie",IF(AND(E36="ja",OR(F36=0,G36=0)),"Vermeld hier voor het woonzorgcentrum en kortverblijf zowel de totale capaciteit als de capaciteit waarvoor u het forfait wenst te vragen.",IF(AND(E36="nee",OR(F36>0,G36>0)),"U heeft niet voor deze optie gekozen, maar toch staan er nog capaciteiten vermeld.Verwijder die.",""))) | P36: =IF(E36="ja",1,0)*G36 -> 0 | R36: Andere:
P37: =SUM(P34:P36) -> 0
B38: Grensbedrag | F38: 50 | G38: niet in te vullen, wordt standaard vooringevuld
B40: Eventuele foutmeldingen: | E40: =IF(OR(G34>F34,G35>F35,G36>F36),"Capaciteit voor forfait kan niet hoger zijn dan totale capaciteit","")
E41: =IF(SUM(F34:F36)=0,"Totale capaciteit kan niet nul zijn. ","") & IF(SUM(G34:G36)=0,"Capaciteit voor forfait kan niet nul zijn.","") -> Totale capaciteit kan niet nul zijn. Capaciteit voor forfait kan niet nul zijn.
E42: =IF(OR(COUNTIF(F34:F36,">0")>1,COUNTIF(G34:G36,">0")>1), "U mag de capaciteiten niet naast meerdere van de voorgaande keuzes plaatsen","")
B44: 3.2 Erkenning: verrekeningswijze forfait in dagprijs
B46: Indien het forfait niet wordt uitbetaald vanaf de ingebruikname, kan u ervoor kiezen om dit forfait toch reeds vanaf ingebruikname in mindering te brengen op de dagprijs. De periode waarin u geen forfait ontvangt mag als kost doorgerekend worden. De kost van het gederfde forfait wordt in 4.1 automatisch door excel berekend. Hiervoor duidt u in cel G50 "ja" aan. Vervolgens vermeldt u de maand en het jaar van ingebruikname in E53 en F53 en het jaar van de eerste betaling in F54. De maand van eerste betaling forfait dient niet ingevuld, gezien dit standaard (indien niet vanaf ingebruikname) vanaf 1 januari van het subsidiejaar wordt betaald. De gederfde periode wordt in jaren uitgedrukt in cel E55.
B50: Wenst u het forfait te verrekenen vanaf ingebruikname (=JA) of vanaf betaaldatum forfait (=NEE)? | G50: NEE | H50: verplicht aan te duiden: JA/NEE. Toelichting: indien er een periode is tussen ingebruikname en betaling, kan u toch reeds het forfait vanaf in gebruikname verrekenen
H51: In geval van keuze voor verrekening, wordt ook de kost voor het gederfde forfait berekend en mee opgenomen in de dagprijs.
E52: maand | F52: jaar
B53: Tijdstip ingebruikname gebouw (maand/jaar), ten vroegste 1/1/2018 | E53: 1 | G53: =IF(AND(G50="JA",F53=0), "Gelieve maand en jaar van ingebruikname in te vullen: de recuperatie van het kostenforfait kan maar vanaf 1/1/2018",IF(AND(G50="JA",F53<2018),"Voor de verrekening van het kostenforfait kan het jaar van ingebruikname niet vóór 2018 gelegen zijn","")) | H53: =IF(E53>12, "Maand kan niet groter dan 12 zijn","")
B54: Tijdstip eerste betaling forfait van de overheid (maand/jaar) | E54: 1 | G54: =IF(AND($G$50="JA",F54=0), "Gelieve jaar van eerste betaling forfait in te vullen. Forfait wordt voor volledig jaar uitbetaald, dus hier is de maand standaard 1","") | H54: =IF(E54>12, "Maand kan niet groter dan 12 zijn","")
B55: Periode tussen ingebruikname gebouw en eerste uitbetaling forfait | E55: =MAX((F54-F53)-(E53-1)/12,0) -> 0 | F55: jaar | G55: wordt automatisch berekend
A59: 4. Verantwoording van de gevraagde gemiddelde dagprijs
B61: Totaal verantwoorde dagprijs met aftrek forfait | E61: =IFERROR(G94+G120+G140+G181,0) -> 0 | F61: wordt automatisch berekend
B63: 4.1 Infrastructuurinvesteringen
B65: Hierna neemt u de kost van de infrastructuurinvesteringen op, voor het deel dat betrekking heeft op de forfaitgerechtigde capaciteit. Die infrastructuurkost kan zowel betrekking hebben op een gebouw in eigendom of onder huur. In geval van huur dient de investeringskost van de verhuurder te worden verrekend.
B68: Jaar aanvangsbevel | E68: 2015 | F68: ="Gelieve jaar van aanvang werken in te voeren" -> Gelieve jaar van aanvang werken in te voeren
B69: OLO 10 jaar + 120 bp | E69: =IFERROR(VLOOKUP(E68,'OLO+120bp'!$A$2:$D$13,4,0),'OLO+120bp'!D11) -> 0.024453 | F69: wordt automatisch berekend
B71: totaalbedragen in euro over economische levensduur investering
E73: Gebouw | H73: Meubilair
B74: bouw/aankoopkost van forfaitgerechtigde capaciteit | H74: 0 | K74: vermeld bedragen inclusief aankoopkosten, registratierechten, voor investering forfaitgerechtigde capaciteit
B75: kapitaalsubsidie uitbetaald over bouwperiode | E75: 0 | H75: 0 | K75: vermeld subsidies die tijdens de bouwperiode worden uitbetaald
B76: totale BTW-recuperatie | E76: 0 | H76: 0 | K76: vermeld de BTW die kan teruggevorderd worden
B77: te financieren bouwkost | E77: =E74-E75-E76 -> 0 | H77: =H74-H75-H76 -> 0 | K77: wordt automatisch berekend
B78: financieringskost | E78: =IF(bouwkost_werken>0,25*-PMT(E69,25,bouwkost_netto_werken)-bouwkost_netto_werken,0) -> 0 | H78: =10*-PMT(E69,10,bouwkost_werken_meubilair)-bouwkost_werken_meubilair -> 0 | K78: wordt automatisch berekend
B79: bouwkost incl. financieringskost | E79: =E77+E78 -> 0 | H79: =H77+H78 -> 0 | K79: wordt automatisch berekend
B80: kost gederfde forfaits in periode tussen in gebruikname en eerste betaling forfait | E80: =IF(AND(bouwkost_werken>0,G50="ja"),$E$55*365*5*erkende_plaatsen1*bezettingsgraad_werken,0) -> 0 | K80: berekent kost van gederfde forfait indien forfait niet betaald wordt vanaf ingebruikname en bij keuze verrekening forfait onder 3.2
B81: totaal gespreide subsidies (andere dan het forfait) | E81: 0 | H81: 0 | K81: vermeld indien voorkomend, totaalbedrag over economische levensduur van andere subsidies dan het forfait
B82: onroerende voorheffing/belasting | E82: 0 | H82: 0 | K82: vermeld indien voorkomend, totaalbedrag van onroerende voorheffing over economische levensduur
B83: netto bouw- en financieringskost | E83: =E79+SUM(E80,onroerende_voorheffing)-E81 -> 0 | H83: =bouwkost_fin_meubilair-H81+H82 -> 0 | K83: wordt automatisch berekend
B84: aantal plaatsen onder forfait en waarop investeringskost van toepassing | E84: =P37 -> 0 | H84: =erkende_plaatsen1 -> 0 | K84: samen met de eventuele capaciteit voor de gehuurde infrastructuur stemt dit overeen met de capaciteit v/h forfait onder 3.2
B85: afschrijvingsduur | E85: 25 | H85: 10 | K85: ligt standaard vast
B86: aantal dagen | E86: 365 | H86: 365 | K86: ligt vast
B87: bezettingsgraad | E87: =IF($E$35="JA",0.9,0.99) -> 0.99 | H87: =bezettingsgraad_werken -> 0.99 | K87: bepaald volgens erkenningsvorm onder 3.1
B88: infrastructuurkost in dagprijs | E88: =IFERROR(E83/E85/E86/E84/E87,0) -> 0 | H88: =IFERROR(H83/H85/H86/H84/H87,0) -> 0
B92: Infrastructuurcomponent in dagprijs incl. gederfd forfait | G92: =IFERROR((nettobouwkost_werken/afschrijvingsduur_nieuwbouw+nettobouwkost_meubilair/afschrijvingsduur_meubilair)/(P37*365*bezettingsgraad_werken),0) -> 0 | J92: wordt berekend | P92: check= | Q92: =(erkende_plaatsen1*infrakost_verblijfsdag_werken+erkendeplaatsen_2*infrakost_verblijfsdag_meubilair+#REF!*#REF!+#REF!*#REF!)/(erkende_plaatsen1+#REF!) -> #REF!
B93: - forfait | G93: 5 | J93: wordt berekend
B94: infrastructuurcomponent in dagprijs na aftrek forfait | G94: =MAX(infrastructuurcomponent_dagprijs-G93,0) -> 0 | J94: wordt berekend
B95: Motivatie: | G95: voor de bouwkost werd gekozen voor hetzij (verwijder wat niet van toepassing is): eindafrekening / samenvattende vorderingsstaat/ geattesteerde afschrijvingstabel/ facturen/ gunningsbeslissing/ andere: ... voor de financiering (verwijder wat niet van toepassing is): leningoffferte/leningcontract/ andere: …
B96: in geval van een investering derde partij: huurcontract, erfpachtovereenkomst, opstalovereenkomst, letter of intent waarin de bouwkost kan teruggevonden worden.
B98: Toe te voegen bijlagen: | F98: voor de bouwkost (verwijder de niet-relevante bijlagen): eindafrekening / samenvattende vorderingsstaat/geattesteerde afschrijvingstabel/gunningsbeslissing/facturen voor de financiering (verwijder de niet relevante bijlagen): leningoffferte/leningcontract voor huur: toelichting bouwkost bij de verhuurder met eindafrekening / samenvattende vorderingsstaat/geattesteerde afschrijvingstabel/gunningsbeslissing/facturen
B100: 4.2 Andere investeringen
B102: Vermeld hierna de andere, niet-infrastructuurinvesteringen, voor het deel dat betrekking heeft op de forfaitgerechtigde capaciteit. Het betreft investeringen die samenhangen met de infrastructuurinvesteringen. Als financieringskost wordt de OLO 10 jaar +120 bp genomen, bepaald op het moment van de aanvangsbevel van de werken voor de infrastructuurinvesteringen.
E105: Investering1 | G105: Investering2 | J105: Investering3 | M105: Investering4
B106: Eenmalige investeringskost of periodieke vergoeding bij huur | E106: 0 | G106: 0 | J106: 0 | M106: 0
B107: kapitaalsubsidie uitbetaald gedurende bouwperiode
B108: totale BTW-recuperatie
B109: Totale netto investeringskost | E109: =E106-ABS(E107)-ABS(E108) -> 0 | G109: =G106-ABS(G107)-ABS(G108) -> 0 | J109: =J106-ABS(J107)-ABS(J108) -> 0 | M109: =M106-ABS(M107)-ABS(M108) -> 0
B110: financieringskost | E110: =-PMT($E$69,E114,E109)*E114-E106 -> 0 | G110: =-PMT(E69,G114,G109)*G114-G109 -> 0 | J110: =-PMT(E69,J114,J109)*J114-J109 -> 0 | M110: =-PMT(E69,M114,M109)*M114-M109 -> 0 | O110: vermeld de totale financieringskost over de economische levensduur
B111: Investeringskost inclusief financieringskost | E111: =E109+E110 -> 0 | G111: =G109+G110 -> 0 | J111: =J109+J110 -> 0 | M111: =M109+M110 -> 0
B112: gespreide subsidie
B113: Netto investerings- en financieringskost | E113: =E111-E112 -> 0 | G113: =G111-G112 -> 0 | J113: =J111-J112 -> 0 | M113: =M111-M112 -> 0
B114: Afschrijvingsduur investeringkost (bij huur=1) | E114: 3 | G114: 5 | J114: 10 | M114: 20 | O114: vermeld de economische levensduur
B115: =B84 -> aantal plaatsen onder forfait en waarop investeringskost van toepassing | E115: =P37 -> 0 | G115: =E115 -> 0 | J115: =G115 -> 0 | M115: =J115 -> 0 | O115: wordt automatisch overgenomen
B116: Aantal dagen | E116: 365 | G116: 365 | J116: 365 | M116: 365 | O116: wordt automatisch overgenomen
B117: bezettingsgraad | E117: =bezettingsgraad_werken -> 0.99 | G117: =E117 -> 0.99 | J117: =G117 -> 0.99 | M117: =J117 -> 0.99 | O117: wordt automatisch bepaald op basis van de zorgvorm
B118: investeringskost/periodieke vergoeding in dagprijs | E118: =IFERROR(ROUND(E113/E114/E116/E115/E117,2),0) -> 0 | G118: =IFERROR(ROUND(G113/G114/G116/G115/G117,2),0) -> 0 | J118: =IFERROR(ROUND(J113/J114/J116/J115/J117,2),0) -> 0 | M118: =IFERROR(ROUND(M113/M114/M116/M115/M117,2),0) -> 0
B120: Overige investeringskosten in dagprijs: | G120: =E118+G118+J118+M118 -> 0 | J120: De onderstaande tekst dient volledig zichtbaar te zijn!
B121: Motivatie: | G121: facturen + leningcontract voor financieringskost
B124: Toe te voegen bijlagen: | F124: facturen + leningcontract voor financieringskost + eventuele vorderingstaten
B127: 4.3 Kosten van personeel in dienstverband na verrekening van de overheidstussenkomsten
B129: Deze rubriek heeft betrekking op het personeel in direct dienstverband en niet op het uitzendpersoneel (onder 4.4 bij uitzendpersoneel) of het personeel met zelfstandigenstatuut (idem onder 4.4 bij externe diensten-vergoedingen en erelonen of bij bestuurders). Enkel het personeel voor de forfaitgerechtigde capaciteit mag hier worden ingevuld. Vul hier per personeelscategorie op jaarbasis in: het aantal VTE, personeelskost en overheidstussenkomst (=voor de laatste 2 is dit het totaalbedrag, niet het bedrag per verblijfsdag). Personeelscategorieën: - zorgpersoneel = verpleegkundigen, zorgkundigen (verzorgenden), kinesitherapeuten, logopedisten, ergotherapeuten, personeel voor reactivatie; - administratief (inclusief directie), logistiek, technisch, poets- en keukenpersoneel: al het overige personeel dat niet tot de voorgaande categorie behoort Personeelskost: is brutoloonkost inclusief werkgeversbijdrage. Verzekeringen en andere overheadkosten worden hier niet vermeld, maar onder rubriek 4.4. Overheidstussenkomsten: Vul hier steeds het totaalbedrag en niet het bedrag per verblijfsdag in. Het RIZIV-forfait dat in mindering wordt gebracht, heeft ook betrekking op de tussenkomst voor niet-personeelskosten (waardoor u door versleuteling, dit niet meer partieel moet toerekenen aan rubriek 4.4). Overheidstussenkomsten (zoals derde luik) die betrekking hebben op verschillende personeelscategorieën probeert u toe te wijzen volgens de detailberekening of, indien niet mogelijk, via een logische verdeelsleutel. U dient uiteraard enkel de overheidstussenkomst in e vullen voor de personeelscategorieën waarop die betrekking heeft. Belangrijk is dat alle componenten van de overheidstussenkomst worden opgenomen: voor een checklist zie tabblad "checklist overheidstussenkomst"
E132: Aantal VTE | F132: Personeelkost | G132: RIZIV-forfait (*) | H132: Derde Luik (*) | J132: Maribel/gesco/DAC | K132: Andere | L132: Nettokost
B133: Zorgpersoneel | E133: 0 | F133: 0 | G133: 0 | H133: 0 | J133: 0 | L133: =F133-SUM(G133:K133) -> 0
B134: Administratief, Logistiek, technisch, poets- en keukenpersoneel | E134: 0 | F134: 0 | G134: 0 | H134: 0 | J134: 0 | L134: =F134-SUM(G134:K134) -> 0
B135: Totaal | L135: =SUM(L133:M134) -> 0
B136: (*) Voor een opsomming van de componenten van RIZIV-forfait en derde luik, volg deze link: | G136: checklist overheidstussenkomst
B137: Totale netto-personeelskost | E137: =L135 -> 0 | F137: wordt berekend
B138: Aantal verblijfsdagen | E138: =P37*365*bezettingsgraad_werken -> 0 | F138: wordt berekend
B140: Personeelskosten na overheidstussenkomst in dagprijs: | G140: =IFERROR(E137/E138,0) -> 0 | J140: wordt berekend
B141: Motivatie/bewijsstukken: | G141: eventuele toelichting sociale balans of businessplan
...

Sheet Cijfervoorbeeld
A1: Cijfervoorbeeld infrastructuurforfait
A3: Navigatie: | B3: Navigatie: | D3: Terug naar algemene instructies | E3: Uitleg | F3: Cijfervoorbeeld | G3: Formulier
A5: 1. Identificatie van de inrichting
B7: Naam inrichtende macht :
B8: Adres inrichtende macht:
B9: Naam voorziening:
B10: Adres voorziening:
B11: Telefoonummer :
B12: Email: | R12: OCMW
B13: Dossiernummer bij Zorg en Gezondheid (6 cijfers gescheiden door .): | F13: 123456 | R13: Provincie
B14: VIPA-dossiernummer (indien voorkomend, begint met BZ..): | R14: VZW
B15: Ondernemingsnummer (zonder voorloopnul en punten): | R15: AGB
B16: Contactpersoon: | R16: BVBA
R17: NV
A18: 2. Juridische vorm inrichtende macht: | R18: Commanditaire
R19: Natuurlijke persoon
B20: Selecteer de juiste vorm: | E20: VZW | L20: bij andere: gelieve hiernaast de rechtsvorm in te vullen in de kader | R20: Andere
L21: =IF(AND(rechtsvorm="Andere",H20=""),"U heeft voor andere gekozen, gelieve die rechtsvorm te specificeren in H20","")
A22: 3. Erkenning: zorgvorm, in gebruikname en verrekeningswijze forfait
B24: Vul de onderstaande rubrieken in waar nodig.
B26: 3.1 Erkenning: zorgvorm en aantal plaatsen
B28: Stap1: duid "ja" aan naast de passende optie van zorgvorm. Die opties sluiten elkaar uit. U kan bijgevolg enkel "ja" naast 1 van de 3 opties plaatsen. De zorgvorm is van belang voor de verdere berekening van de verantwoorde kost onder 4, met name de bezettingsgraad. Stap2: voor de gekozen optie, vult u in: de totale erkende capaciteit van de zorgvorm en de capaciteit waarop het forfait betrekking heeft. De kosten die u verder onder rubriek 4 verantwoordt, hebben enkel betrekking op de forfaitgerechtigde capaciteit. Belangrijke voorwaarde voor het forfait is de investering in woongelegenheden. Het deel van de capaciteit waarvoor niet geïnvesteerd in woongelegenheden komt niet in aanmerking. In dat geval ligt de totale capaciteit hoger dan de forfaitgerechtigde. Indien u ook een dagprijsverhoging wenst voor het deel van de kosten met betrekking tot de niet-forfaitgerechtigde capaciteit, dient u die aan te vragen via een ander formulier. Zo kan dan bvb. een pro rata deel van de collectieve kosten toegerekend worden aan niet-forfaitgerechtigde capaciteit.
R31: JA
F32: Erkende capaciteit | R32: NEE
F33: totaal | G33: voor forfait
B34: Betreft de investering enkel woonzorgcentrum? | E34: JA | F34: =Uitleg!E25 -> 80 | G34: =Uitleg!D25 -> 60 | H34: =IF(AND(E34="JA", OR(E35="JA",E36="JA")),"U heeft reeds een andere optie gekozen, beperk u tot 1 optie",IF(AND(E34="ja", OR(F34=0,G34=0)), "Vermeld hier voor het woonzorgcentrum zowel de totale capaciteit als de capaciteit waarvoor u het forfait wenst te vragen",IF(AND(E34="nee",OR(F34>0,G34>0)),"U heeft niet voor deze optie gekozen, maar toch staan er nog capaciteiten vermeld.Verwijder die.",""))) | P34: =IF(E34="ja",1,0)*G34 -> 60
B35: Betreft de investering enkel kortverblijf? | E35: NEE | F35: 0 | G35: 0 | H35: =IF(AND(E35="JA", OR(E34="JA",E36="JA")),"U heeft reeds een andere optie gekozen, beperk u tot 1 optie",IF(AND(E35="ja",OR(F35=0,G35=0)),"Vermeld hier voor het kortverblijf zowel de totale capaciteit als de capaciteit waarvoor u het forfait wenst te vragen",IF(AND(E35="nee",OR(F35>0,G35>0)),"U heeft niet voor deze optie gekozen, maar toch staan er nog capaciteiten vermeld.Verwijder die.",""))) | P35: =IF(E35="ja",1,0)*G35 -> 0
B36: Betreft de investering een combinatie kortverblijf/WZC? | E36: NEE | F36: 0 | G36: 0 | H36: =IF(AND(E36="JA",OR(E34="JA",E35="JA")),"U heeft reeds een andere optie gekozen, beperk u tot 1 optie",IF(AND(E36="ja",OR(F36=0,G36=0)),"Vermeld hier voor het woonzorgcentrum en kortverblijf zowel de totale capaciteit als de capaciteit waarvoor u het forfait wenst te vragen.",IF(AND(E36="nee",OR(F36>0,G36>0)),"U heeft niet voor deze optie gekozen, maar toch staan er nog capaciteiten vermeld.Verwijder die.",""))) | P36: =IF(E36="ja",1,0)*G36 -> 0 | R36: Andere:
P37: =SUM(P34:P36) -> 60
B38: Grensbedrag | F38: 50 | G38: niet in te vullen, wordt standaard vooringevuld
B40: Eventuele foutmeldingen: | E40: =IF(OR(G34>F34,G35>F35,G36>F36),"Capaciteit voor forfait kan niet hoger zijn dan totale capaciteit","")
E41: =IF(SUM(F34:F36)=0,"Totale capaciteit kan niet nul zijn. ","") & IF(SUM(G34:G36)=0,"Capaciteit voor forfait kan niet nul zijn.","")
E42: =IF(OR(COUNTIF(F34:F36,">0")>1,COUNTIF(G34:G36,">0")>1), "U mag de capaciteiten niet naast meerdere van de voorgaande keuzes plaatsen","")
B44: 3.2 Erkenning: verrekeningswijze forfait in dagprijs
B46: Indien het forfait niet wordt uitbetaald vanaf de ingebruikname, kan u ervoor kiezen om dit forfait toch reeds vanaf ingebruikname in mindering te brengen op de dagprijs. De periode waarin u geen forfait ontvangt mag als kost doorgerekend worden. De kost van het gederfde forfait wordt in 4.1 automatisch door excel berekend. Hiervoor duidt u in cel G50 "ja" aan. Vervolgens vermeldt u de maand en het jaar van ingebruikname in E53 en F53 en het jaar van de eerste betaling in F54. De maand van eerste betaling forfait dient niet ingevuld, gezien dit standaard (indien niet vanaf ingebruikname) vanaf 1 januari van het subsidiejaar wordt betaald. De gederfde periode wordt in jaren uitgedrukt in cel E55.
B50: Wenst u het forfait te verrekenen vanaf ingebruikname (=JA) of vanaf betaaldatum forfait (=NEE)? | G50: JA | H50: verplicht aan te duiden: JA/NEE. Toelichting: indien er een periode is tussen ingebruikname en betaling, kan u toch reeds het forfait vanaf in gebruikname verrekenen
H51: In geval van keuze voor verrekening, wordt ook de kost voor het gederfde forfait berekend en mee opgenomen in de dagprijs.
E52: maand | F52: jaar
B53: Tijdstip ingebruikname gebouw (maand/jaar), ten vroegste 1/1/2018 | E53: 1 | F53: 2018 | G53: =IF(AND(G50="JA",F53=0), "Gelieve maand en jaar van ingebruikname in te vullen: de recuperatie van het kostenforfait kan maar vanaf 1/1/2018",IF(AND(G50="JA",F53<2018),"Voor de verrekening van het kostenforfait kan het jaar van ingebruikname niet vóór 2018 gelegen zijn","")) | H53: =IF(E53>12, "Maand kan niet groter dan 12 zijn","")
B54: Tijdstip eerste betaling forfait van de overheid (maand/jaar) | E54: 1 | F54: 2019 | G54: =IF(AND($G$50="JA",F54=0), "Gelieve jaar van eerste betaling forfait in te vullen. Forfait wordt voor volledig jaar uitbetaald, dus hier is de maand standaard 1","")
B55: Periode tussen ingebruikname gebouw en eerste uitbetaling forfait | E55: =MAX((F54-F53)-(E53-1)/12,0) -> 1 | F55: jaar | G55: wordt automatisch berekend
A59: 4. Verantwoording van de gevraagde gemiddelde dagprijs
B61: Totaal verantwoorde dagprijs met aftrek forfait | E61: =IFERROR(G94+G120+G140+G181,0) -> 59.2453 | F61: wordt automatisch berekend
B63: 4.1 Infrastructuurinvesteringen
B65: Hierna neemt u de kost van de infrastructuurinvesteringen op, voor het deel dat betrekking heeft op de forfaitgerechtigde capaciteit. Die infrastructuurkost kan zowel betrekking hebben op een gebouw in eigendom of onder huur. In geval van huur dient de investeringskost van de verhuurder te worden verrekend.
B68: Jaar aanvangsbevel | E68: 2015 | F68: ="Gelieve jaar van aanvang werken in te voeren" -> Gelieve jaar van aanvang werken in te voeren
B69: OLO 10 jaar + 120 bp | E69: =IFERROR(VLOOKUP(E68,'OLO+120bp'!$A$2:$D$11,4,0),'OLO+120bp'!D11) -> 0.024453 | F69: wordt automatisch berekend
B71: totaalbedragen in euro over economische levensduur investering
E73: Gebouw | H73: Meubilair
B74: bouw/aankoopkost van forfaitgerechtigde capaciteit | E74: =Uitleg!C83 -> 8100000 | H74: =Uitleg!D83 -> 900000 | K74: vermeld bedragen inclusief aankoopkosten, registratierechten, voor investering forfaitgerechtigde capaciteit
B75: kapitaalsubsidie uitbetaald over bouwperiode | E75: 0 | H75: 0 | K75: vermeld subsidies die tijdens de bouwperiode worden uitbetaald
B76: totale BTW-recuperatie | E76: 0 | H76: 0 | K76: vermeld de BTW die kan teruggevorderd worden
B77: te financieren bouwkost | E77: =E74-E75-E76 -> 8100000 | H77: =H74-H75-H76 -> 900000 | K77: wordt automatisch berekend
B78: financieringskost | E78: =IF(bouwkost_werken>0,25*-PMT(E69,25,bouwkost_netto_werken)-bouwkost_netto_werken,0) -> 2822224.9 | H78: =10*-PMT(E69,10,bouwkost_werken_meubilair)-bouwkost_werken_meubilair -> 125424.41 | K78: wordt automatisch berekend
B79: bouwkost incl. financieringskost | E79: =E77+E78 -> 10922225 | H79: =H77+H78 -> 1025424.4 | K79: wordt automatisch berekend
B80: kost gederfde forfaits in periode tussen in gebruikname en eerste betaling forfait | E80: =IF(AND(bouwkost_werken>0,G50="ja"),$E$55*365*5*erkende_plaatsen1*bezettingsgraad_werken,0) -> 108405 | K80: berekent kost van gederfde forfait indien forfait niet betaald wordt vanaf ingebruikname en bij keuze verrekening forfait onder 3.2
B81: totaal gespreide subsidies (andere dan het forfait) | E81: 0 | H81: 0 | K81: vermeld indien voorkomend, totaalbedrag over economische levensduur van andere subsidies dan het forfait
B82: onroerende voorheffing/belasting | E82: 0 | H82: 0 | K82: vermeld indien voorkomend, totaalbedrag van onroerende voorheffing over economische levensduur
B83: netto bouw- en financieringskost | E83: =E79+SUM(E80,onroerende_voorheffing)-E81 -> 11030630 | H83: =bouwkost_fin_meubilair-H81+H82 -> 1025424.4 | K83: wordt automatisch berekend
B84: aantal plaatsen onder forfait en waarop investeringskost van toepassing | E84: =P37 -> 60 | H84: =erkende_plaatsen1 -> 60 | K84: samen met de eventuele capaciteit voor de gehuurde infrastructuur stemt dit overeen met de capaciteit v/h forfait onder 3.2
B85: afschrijvingsduur | E85: 25 | H85: 10 | K85: ligt standaard vast
B86: aantal dagen | E86: 365 | H86: 365 | K86: ligt vast
B87: bezettingsgraad | E87: =IF($E$35="JA",0.9,0.99) -> 0.99 | H87: =bezettingsgraad_werken -> 0.99 | K87: bepaald volgens erkenningsvorm onder 3.1
B88: infrastructuurkost in dagprijs | E88: =IFERROR(E83/E85/E86/E84/E87,0) -> 20.350777 | H88: =IFERROR(H83/H85/H86/H84/H87,0) -> 4.7295992
B92: Infrastructuurcomponent in dagprijs incl. gederfd forfait | G92: =IFERROR((nettobouwkost_werken/afschrijvingsduur_nieuwbouw+nettobouwkost_meubilair/afschrijvingsduur_meubilair)/(P37*365*bezettingsgraad_werken),0) -> 25.080376 | J92: wordt berekend | P92: check= | Q92: =(erkende_plaatsen1*infrakost_verblijfsdag_werken+erkendeplaatsen_2*infrakost_verblijfsdag_meubilair+#REF!*#REF!+#REF!*#REF!)/(erkende_plaatsen1+#REF!) -> #REF!
B93: - forfait | G93: 5 | J93: wordt berekend
B94: infrastructuurcomponent in dagprijs na aftrek forfait | G94: =MAX(infrastructuurcomponent_dagprijs-G93,0) -> 20.080376 | J94: wordt berekend
B95: Motivatie: | G95: voor de bouwkost werd gekozen voor hetzij (verwijder wat niet van toepassing is): eindafrekening / samenvattende vorderingsstaat/ geattesteerde afschrijvingstabel/ facturen/ gunningsbeslissing/ andere: ... voor de huur: huurcontract voor de financiering (verwijder wat niet van toepassing is): leningoffferte/leningcontract/ andere: …
B96: in geval van een investering derde partij: huurcontract, erfpachtovereenkomst, opstalovereenkomst, letter of intent waarin de bouwkost kan teruggevonden worden.
B98: Toe te voegen bijlagen: | F98: voor de bouwkost (verwijder de niet-relevante bijlagen): eindafrekening / samenvattende vorderingsstaat/geattesteerde afschrijvingstabel/gunningsbeslissing/facturen voor de financiering (verwijder de niet relevante bijlagen): leningoffferte/leningcontract voor huur: toelichting bouwkost bij de verhuurder met eindafrekening / samenvattende vorderingsstaat/geattesteerde afschrijvingstabel/gunningsbeslissing/facturen
B100: 4.2 Andere investeringen
B102: Vermeld hierna de andere, niet-infrastructuurinvesteringen, voor het deel dat betrekking heeft op de forfaitgerechtigde capaciteit. Het betreft investeringen die samenhangen met de infrastructuurinvesteringen. Als financieringskost wordt de OLO+120 bp genomen, bepaald op het moment van de aanvangsbevel van de werken voor de infrastructuurinvesteringen.
E105: =Uitleg!A119 -> Collectieve ruimte | G105: =Uitleg!A120 -> Bus | J105: =Uitleg!A121 -> ICT | M105: Investering4
B106: Eenmalige investeringskost of periodieke vergoeding bij huur | E106: =Uitleg!B119 -> 1500000 | G106: =Uitleg!B120 -> 37500 | J106: =Uitleg!B121 -> 112500 | M106: 0
B107: kapitaalsubsidie uitbetaald gedurende bouwperiode
B108: totale BTW-recuperatie
B109: Totale netto investeringskost | E109: =E106-ABS(E107)-ABS(E108) -> 1500000 | G109: =G106-ABS(G107)-ABS(G108) -> 37500 | J109: =J106-ABS(J107)-ABS(J108) -> 112500 | M109: =M106-ABS(M107)-ABS(M108) -> 0
B110: financieringskost | E110: =-PMT($E$69,E114,E109)*E114-E106 -> 522634.24 | G110: =-PMT(E69,G114,G109)*G114-G109 -> 2795.258 | J110: =-PMT(E69,J114,J109)*J114-J109 -> 5546.2273 | M110: =-PMT(E69,M114,M109)*M114-M109 -> 0 | O110: vermeld de totale financieringskost over de economische levensduur
B111: Investeringskost inclusief financieringskost | E111: =E109+E110 -> 2022634.2 | G111: =G109+G110 -> 40295.258 | J111: =J109+J110 -> 118046.23 | M111: =M109+M110 -> 0
B112: gespreide subsidie
B113: Netto investerings- en financieringskost | E113: =E111-E112 -> 2022634.2 | G113: =G111-G112 -> 40295.258 | J113: =J111-J112 -> 118046.23 | M113: =M111-M112 -> 0
B114: Afschrijvingsduur investeringkost (bij huur=1) | E114: =Uitleg!C119 -> 25 | G114: =Uitleg!C120 -> 5 | J114: =Uitleg!C121 -> 3 | M114: 20 | O114: vermeld de economische levensduur
B115: =B84 -> aantal plaatsen onder forfait en waarop investeringskost van toepassing | E115: =P37 -> 60 | G115: =E115 -> 60 | J115: =G115 -> 60 | M115: =J115 -> 60 | O115: wordt automatisch overgenomen
B116: Aantal dagen | E116: 365 | G116: 365 | J116: 365 | M116: 365 | O116: wordt automatisch overgenomen
B117: bezettingsgraad | E117: =bezettingsgraad_werken -> 0.99 | G117: =E117 -> 0.99 | J117: =G117 -> 0.99 | M117: =J117 -> 0.99 | O117: wordt automatisch bepaald op basis van de zorgvorm
B118: investeringskost/periodieke vergoeding in dagprijs | E118: =IFERROR(ROUND(E113/E114/E116/E115/E117,2),0) -> 3.73 | G118: =IFERROR(ROUND(G113/G114/G116/G115/G117,2),0) -> 0.37 | J118: =IFERROR(ROUND(J113/J114/J116/J115/J117,2),0) -> 1.81 | M118: =IFERROR(ROUND(M113/M114/M116/M115/M117,2),0) -> 0
B120: Overige investeringskosten in dagprijs: | G120: =E118+G118+J118+M118 -> 5.91 | J120: De onderstaande tekst dient volledig zichtbaar te zijn!
B121: Motivatie: | G121: facturen + leningcontract voor financieringskost
B124: Toe te voegen bijlagen: | F124: facturen + leningcontract voor financieringskost + eventuele vorderingstaten
B127: 4.3 Kosten van personeel in dienstverband na verrekening van de overheidstussenkomsten
B129: Deze rubriek heeft betrekking op het personeel in direct dienstverband en niet op het uitzendpersoneel (onder 4.4 bij uitzendpersoneel) of het personeel met zelfstandigenstatuut (idem onder 4.4 bij externe diensten-vergoedingen en erelonen of bij bestuurders). Enkel het personeel voor de forfaitgerechtigde capaciteit mag hier worden ingevuld. Vul hier per personeelscategorie op jaarbasis in: het aantal VTE, personeelskost en overheidstussenkomst (=voor de laatste 2 is dit het totaalbedrag, niet het bedrag per verblijfsdag). Personeelscategorieën: - zorgpersoneel = verpleegkundigen, zorgkundigen (verzorgenden), kinesitherapeuten, logopedisten, ergotherapeuten, personeel voor reactivatie; - administratief (inclusief directie), logistiek, technisch, poets- en keukenpersoneel: al het overige personeel dat niet tot de voorgaande categorie behoort Personeelskost: is brutoloonkost inclusief werkgeversbijdrage. Verzekeringen en andere overheadkosten worden hier niet vermeld, maar onder rubriek 4.4. Overheidstussenkomsten: Vul hier steeds het totaalbedrag en niet het bedrag per verblijfsdag in. Het RIZIV-forfait dat in mindering wordt gebracht, heeft ook betrekking op de tussenkomst voor niet-personeelskosten (waardoor u door versleuteling, dit niet meer partieel moet toerekenen aan rubriek 4.4). Overheidstussenkomsten (zoals derde luik) die betrekking hebben op verschillende personeelscategorieën probeert u toe te wijzen volgens de detailberekening of, indien niet mogelijk, via een logische verdeelsleutel. U dient uiteraard enkel de overheidstussenkomst in e vullen voor de personeelscategorieën waarop die betrekking heeft. Belangrijk is dat alle componenten van de overheidstussenkomst worden opgenomen: voor een checklist zie tabblad "checklist overheidstussenkomst"
E132: Aantal VTE | F132: Personeelkost | G132: RIZIV-forfait (*) | H132: Derde Luik (*) | J132: Maribel/gesco/DAC | K132: Andere | L132: Nettokost
B133: Zorgpersoneel | E133: 40 | F133: 2000000 | G133: 1600000 | H133: 200000 | J133: 0 | L133: =F133-SUM(G133:K133) -> 200000
B134: Administratief, Logistiek, technisch, poets- en keukenpersoneel | E134: 8 | F134: 360000 | G134: 0 | H134: 100000 | J134: 0 | L134: =F134-SUM(G134:K134) -> 260000
B135: Totaal | L135: =SUM(L133:M134) -> 460000
B136: (*) Voor een opsomming van de componenten van RIZIV-forfait en derde luik, volg deze link: | G136: checklist overheidstussenkomst
B137: Totale netto-personeelskost | E137: =L135 -> 460000 | F137: wordt berekend
B138: Aantal verblijfsdagen | E138: =P37*365*bezettingsgraad_werken -> 21681 | F138: wordt berekend
B140: Personeelskosten na overheidstussenkomst in dagprijs: | G140: =IFERROR(E137/E138,0) -> 21.216734 | J140: wordt berekend
B141: Motivatie/bewijsstukken: | G141: eventuele toelichting sociale balans of businessplan
...

Sheet Uitleg
A1: Uitleg: | C1: Terug naar algemene instructies | D1: Uitleg | E1: Cijfervoorbeeld
A3: Hierna de algemene uitleg aan de hand van een cijfervoorbeeld. De cijfers van het voorbeeld worden voor het gedeelte van het infrastructuurforfait in een formulier voor infrastructuurforfait ingevuld (zie het tabblad "cijfervoorbeeld").
A6: Stap1: totaalanalyse volledige project
A7: U maakt best eerst een totaalanalyse van uw project, met verdeling van de kosten over de forfaitgerechtigde en niet-forfaitgerechtigde capaciteit. In dit formulier voor het forfait kunnen enkel de kosten worden doorgerekend die betrekking hebben op de forfaitgerechtigde capaciteit. De kosten voor de niet-forfaitgerechtigde capaciteit worden via andere formulieren verrekend.
A11: Een voorziening heeft momenteel een erkenning voor 40 woongelegenheden, waarvan 20 bewoners zich in tweepersoonskamers bevinden. Zij krijgt een bijkomende erkenning voor 40 woongelegenheden, zodat de totale capaciteit stijgt tot 80 woongelegenheden. De voorziening bouwt 60 nieuwe eenpersoonskamers, waarvan 20 voor de bestaande bewoners (uit de vroegere tweepersoonskamers) en 40 voor nieuwe bewoners. De totale capaciteit zal na de investeringen bestaan uit 80 eenpersoonskamers, waarvan 60 die bijgekomen zijn door de investering. De 60 nieuwe eenpersoonskamers zijn volledig afgedekt door erkenningen en komen bijgevolg in aanmerking voor het infrastructuurforfait. De 20 bestaande eenpersoonskamers krijgen enkel een opsmukbeurt (schilderen, vervangen kozijnen,isolatie,…) en komen bijgevolg niet in aanmerking voor het infrastructuurforfait. Naast de werken aan de kamers, wordt er ook geïnvesteerd in collectieve ruimten, een busje en ICT die ten goede komen van alle bewoners. Het totale kostenplaatje ziet er als volgt uit:
C22: Werken aan kamers | E22: Collectieve investeringen
C23: groot onderhoud | D23: nieuwe kamers | E23: collectieve ruimten | F23: Bus | G23: ICT
A24: kost (excl. financiering) | C24: 250000 | D24: 9000000 | E24: 2000000 | F24: 50000 | G24: 150000
A25: kamers | C25: 20 | D25: 60 | E25: 80 | F25: 80 | G25: 80
A26: afschrijvingstermijn | C26: 25 | D26: 25 | E26: 25 | F26: 5 | G26: 3
A28: Verdere werkwijze bestaat uit: 1) verdeel kosten over de forfaitgerechtigde en niet-forfaitgerechtigde capaciteit 2) Kostenverrekening voor niet-forfaitgerechtigde capaciteit: a. Splits de kosten op volgens categorie b. Doorloop de beslissingsboom en bepaal het formulier c. Controleer welke formulieren kunnen gecombineerd worden. 3) Voor de forfaitgerechtigde capaciteit: voer alle kosten (eventueel na verdeling) in in het formulier voor het infrastructuurforfait
A35: Stap2: verdeling kosten over de forfaitgerechtigde en niet-forfaitgerechtigde capaciteit
A37: De forfaitgerechtigde capaciteit betreft hier de 60 woongelegenheden van de 80 woongelegenheden in totaal. De collectieve kosten kunnen bijgevolg toegerekend worden volgens 20/80 voor de 20 niet-forfaitgerechtigde kamers en 60/80 voor 60 forfaitgerechtigde kamers. Dit resulteert dan in volgende kostenverdeling:
B42: Totaal | C42: Forfait | D42: Niet-forfaitgerechtigd
A43: kamers> | B43: =E25 -> 80 | C43: =D25 -> 60 | D43: =C25 -> 20
A44: Collectieve ruimten | B44: =E24 -> 2000000 | C44: =(C$43/$B$43)*$B44 -> 1500000 | D44: =(D$43/$B$43)*$B44 -> 500000
A45: Bus | B45: =F24 -> 50000 | C45: =(C$43/$B$43)*$B45 -> 37500 | D45: =(D$43/$B$43)*$B45 -> 12500
A46: ICT | B46: =G24 -> 150000 | C46: =(C$43/$B$43)*$B46 -> 112500 | D46: =(D$43/$B$43)*$B46 -> 37500
A48: Stap3: kostenverrekening in formulier(en) voor niet-forfaitgerechtigde capaciteit
A50: Voor elk van de kostencomponenten wordt de beslissingsboom doorlopen: - Onderhoudswerken aan 20 niet-forfaitgerechtigde kamers: 250.000 euro - Collectieve ruimte: 500.000 euro - Bus: 12.500 euro - ICT: 37.500 euro Gezien voor alle kostencomponenten geldt dat de ruwbouw niet wordt vervangen, kunnen alle kosten ingebracht worden in 1 formulier B-E (rubriek 6B, andere gerealiseerde investeringen).
A57: Stap4: invoer kosten in formulier infrastructuurforfait
A60: Invullen van de capaciteit
A62: Onder 3.1 van het formulier:
A63: - gaan we ervan uit dat het enkel een woonzorgcentrum betreft. U zet de optie "Betreft de investering enkel een woonzorgcentrum" op "JA"
A64: - vult u de totale capaciteit in van het woonzorgcentrum of in het voorbeeld: 80
A65: - vult u de forfaitgerechtigde capaciteit in: 60
A67: Verrekeningswijze van het forfait
A69: Het forfait wordt door de overheid normaliter uitbetaald vanaf ingebruikname. In bepaalde gevallen geschiedt de uitbetaling pas later. Op voorwaarde dat dit startjaar zich vanaf 2018 situeert, mag het gederfde forfait worden doorgerekend als kost indien de instelling het forfait toch vanaf ingebruikname op de dagprijs in mindering wil brengen. Er worden geen begindata vóór 1/1/2018 aanvaard, gezien deze dossiers zich in de overgangsfase bevinden. In die overgangsfase wordt er ook niet teruggerekend wat de brutodagprijs betreft, zodat als keerzijde evenmin de kost van het gederfde forfait kan toegevoegd worden aan de dagprijs. Wat te doen in geval dat u het forfait reeds vanaf de ingebruikname wenst te verrekenen? U klikt in cel G50 op "ja" mbt de vraag "Wenst u het forfait te verrekenen vanaf ingebruikname (=JA) of vanaf betaaldatum forfait (=NEE)?" Voor de berekening van het gederfde forfait wordt gevraagd naar datum van ingebruikname en (geplande) datum van betaling van forfait. Die datum van betaling wordt meegedeeld na verwerking van de resultaten van de open oproep waarin gevraagd wordt naar de datum van ingebruikname. Stel in het voorbeeld dat de voorziening de woongelegenheden reeds in gebruik heeft genomen op 1/1/2017 en na de oproep bericht wordt dat het forfait ten vroegste op 1/1/2019 zal worden uitbetaald. Als datum van ingebruikname wordt dan 1/1/2018 ingevuld, als eerste betaling 1/1/2019.
A78: Invoer infrastructuurkost
A80: De loutere werken aan de kamers omvatten ook een investering van 10% in meubilair. Dit resulteert dan in volgende verdeling van de investering:
B82: totaal | C82: gebouw | D82: meubilair
B83: =D24 -> 9000000 | C83: =0.9*B83 -> 8100000 | D83: =B83-C83 -> 900000
A85: Vervolgens vult u in:
A87: jaar van aanvangsbevel | C87: 2015 | D87: cel E68
A88: gebouw | C88: =C83 -> 8100000 | D88: cel E74
A89: meubilair | C89: =D83 -> 900000 | D89: cel H74
A91: Bijzondere aandachtspunten:
A92: - voor de investering dient het aanvangsbevel te worden gegeven zodat de financieringskost forfaitair kan worden bepaald op basis van de gemiddelde OLO 10 jaar+120 bp
A93: - in geval van huur wordt de infrastructuurkost van de verhuurder ingebracht
A95: Hierna wat meer uitleg over de berekeningen in het rekenblad:
A97: Financieringskost:
A98: investeringskost | C98: gebouw | D98: =Cijfervoorbeeld!bouwkost_werken -> 8100000
C99: meubilair | D99: =Cijfervoorbeeld!bouwkost_meubilair -> 900000
A101: Op basis van een OLO+120bp van | C101: =Cijfervoorbeeld!E69 -> 0.024453 | D101: resulteert dit voor een annuïteitenlening in volgende intrestkosten:
E102: gebouw | F102: meubilair
B103: annuïteit | E103: =-PMT(Cijfervoorbeeld!E69,25,Uitleg!C83) -> 436889 | F103: =-PMT(Cijfervoorbeeld!E69,10,Cijfervoorbeeld!bouwkost_meubilair) -> 102542.44
B104: totale betaling over 25/10 jaar | E104: =25*E103 -> 10922225 | F104: =10*F103 -> 1025424.4
B105: - hoofdsom | E105: =-Cijfervoorbeeld!bouwkost_werken -> -8100000 | F105: =-Cijfervoorbeeld!bouwkost_meubilair -> -900000
B106: = intrest over 25/10 jaar | E106: =SUM(E104:E105) -> 2822224.9 | F106: =SUM(F104:F105) -> 125424.41
A108: Kost gederfd forfait:
A109: Op basis van 1 jaar tussen ingebruikname en uitbetaling, bedraagt aan 5 euro/woongelegenheid de gederfde kost van het forfait:
B110: dagen | C110: bezettingsgraad | D110: forfait | E110: forfaitgerechtigde capaciteit | G110: controle
B111: 365 | C111: =Cijfervoorbeeld!bezettingsgraad_werken -> 0.99 | D111: 5 | E111: =Cijfervoorbeeld!erkende_plaatsen1 -> 60 | F111: =B111*C111*D111*E111 -> 108405 | G111: =Cijfervoorbeeld!E80 -> 108405
A113: Invoer van diverse investeringskosten
A115: Onder de collectieve investeringen bevonden zich ook volgende niet-infrastructuurinvesteringen.
A116: Voor de financieringskost wordt opnieuw forfaitair de OLO 10 jaar + 120 bp genomen:
B118: investering | C118: afschrijvingsduur | D118: financieringskost (*) | E118: intrestkost
A119: Collectieve ruimte | B119: =C44 -> 1500000 | C119: =E26 -> 25 | D119: =Cijfervoorbeeld!E110 -> 522634.24 | E119: =Cijfervoorbeeld!$E$69 -> 0.024453
A120: Bus | B120: =C45 -> 37500 | C120: =F26 -> 5 | D120: =Cijfervoorbeeld!G106 -> 37500 | E120: =Cijfervoorbeeld!$E$69 -> 0.024453
A121: ICT | B121: =C46 -> 112500 | C121: =G26 -> 3 | D121: =Cijfervoorbeeld!J106 -> 112500 | E121: =Cijfervoorbeeld!$E$69 -> 0.024453
A123: Invoer van personeelskosten
D125: Aantal VTE | E125: Personeelskost | F125: RIZIV-forfait | G125: Derde Luik | I125: Maribel/gesco/DAC | J125: Andere | K125: Nettokost
A126: Zorgpersoneel | D126: 40 | E126: 2000000 | F126: 1600000 | G126: 200000 | I126: 0 | K126: =E126-SUM(F126:J126) -> 200000
A127: Administratief, Logistiek, technisch, poets- en keukenpersoneel | D127: 8 | E127: 360000 | F127: 0 | G127: 100000 | I127: 0 | K127: =E127-SUM(F127:J127) -> 260000
A128: Totaal | K128: =SUM(K126:L127) -> 460000
A130: Stap 8: invoer van diverse kosten
A132: Hierna de opgegeven kosten, waarvan in de tweede kolom de kosten weergegeven worden die kunnen behouden blijven
A134: Producten | B134: opgegeven kosten | C134: behouden kosten
A135: Aankopen voeding | B135: 20000 | C135: =B135 -> 20000
A136: Aankopen medisch, verzorgingsmateriaal | B136: 20000 | C136: =B136 -> 20000
A137: Klein materiaal voor onderhoud | B137: 10000 | C137: =B137 -> 10000
A138: Socioculturele activiteiten en ontspanning | B138: 0
A139: Bureel en informatica | B139: 180000 | C139: =B139-G24 -> 30000 | D139: onder bureel en informatica werd de kost voor ICT verworpen die reeds bij investeringen zit
A140: Textiel en wasproducten | B140: 0
A141: Toilet en opschik | B141: 0
A142: Andere | B142: 20000 | C142: =B142 -> 20000
A145: Diensten
A146: Sociaal secretariaat | B146: 0 | C146: =B146 -> 0
A147: Boekhouding/adm/zorgtoepassing | B147: 40000 | C147: =B147 -> 40000
A148: Informatieverwerking | B148: 1000 | C148: =B148 -> 1000
A149: Keuken | B149: 0 | C149: =B149 -> 0
A150: Was en linnen | B150: 40000 | C150: =B150 -> 40000
A151: Onderhoud en schoonmaak | B151: 0 | C151: =B151 -> 0
A152: Vergoedingen en erelonen | B152: 0 | C152: =B152 -> 0
A153: Andere | B153: 0 | C153: =B153 -> 0
C154: =B154 -> 0
A155: Onderhoud en herstellingen | B155: 60000 | C155: =B155 -> 60000
A156: Verzekeringen | B156: 60000 | C156: =B156 -> 60000
A157: Administratie | B157: 0 | C157: =B157 -> 0
A158: Externe medische verzorging | B158: 0 | C158: =B158 -> 0
A159: Uitzendpersoneel | B159: 0 | C159: =B159 -> 0
A160: Bezoldiging bestuurders | B160: 0 | C160: =B160 -> 0
A161: Aankopen energie | B161: 0 | C161: =B161 -> 0
A163: ='Formulier forfait'!B176 -> Supplementen en voorschotten ten gunste van derden | B163: 40000 | C163: =B163 -> 40000
A165: Invoer en aftoetsing van gewenste dagprijzen
A167: In een laatste stap voert de voorziening de gewenste dagprjizen in op basis van de verantwoorde kost en rekening houdend met de bescherming voor bestaande bewoners.
A169: Onder 5.1 voert u de gewenste dagprijzen in per kamertype voor alle kamers die van het infrastructuurforfait genieten.
A171: ="Er zijn " & D25 & " woongelegenheden voorwerp van het infrastructuurforfait, met in eerste instantie " & E176 & " euro voor luxe- en " & E177 & " euro voor de basiskamers:" -> Er zijn 60 woongelegenheden voorwerp van het infrastructuurforfait, met in eerste instantie 60 euro voor luxe- en 55 euro voor de basiskamers:
A174: Kamertype/woon/verblijfseenheid in nieuwe infrastructuur | D174: Forfaitgerechtigde capaciteit | E174: Nettodagprijs (=Prijs na aftrek forfait)
A176: Luxekamer | D176: 23 | E176: 60
...

Sheet Bijlage supplement
A1: Bijlage supplement: | B1: totaalbedrag in euro
A3: Detailleer het totaalbedrag conform onderstaande rubrieken:
A5: sondevoeding: het surplus op de gebruikelijke voedingskost, na aftrek van de door het RIZIV terugbetaalde tegemoetkoming:
A6: dokterskosten, paramedische kosten en medicatie:
A7: kapper:
A8: abonnement op kabeldistributie:
A9: telefoonkosten:
A10: reiniging van persoonlijke kleding:
A11: kamerbediening (buiten medische redenen):
A13: bron: https://www.zorg-en-gezondheid.be/wat-is-in-de-dagprijs-van-een-woonzorgcentrum-inbegrepen

Sheet Checklist overheidstussenkomst
B1: Checklist componenten overheidstussenkomsten
B3: 1) instellingsforfait: Personeelskosten • zorgpersoneel: verpleegkundigen, zorgkundigen (verzorgenden), kinesitherapeuten, logopedisten, ergotherapeuten, personeel voor reactivatie • Financiering van coördinerend geneesheer in het RVT Om versleutelingsproblemen te vermijden mag op niveau van het personeel ook ingebrepen zijn: • Financiering van verzorgingsmateriaal • Financiering van opleiding 2) tegemoetkoming vrijstelling van arbeidsprestaties en eindeloopbaan: vergoeding premie voor sommige werknemers die kiezen voor behoud de arbeidsprestaties vanaf de leeftijd van 45 jaar of voor de vervangers als die werknemers kiezen voor vermindering van de arbeidsprestaties 3) tegemoetkoming derde luik: voor het bovennormzorgpersoneel, het administratief en logistiek personeel en voor jobcreatie (mobiele equipes en personeel dementie) 4) Fondsen Sociale Maribel 5) DAC- en Gesco-tussenkomsten

Sheet OLO+120bp
B1: OLO | C1: marge | D1: OLO+marge
A2: 2007 | B2: 0.037947 | C2: 0.012 | D2: =B2+C2 -> 0.049947
A3: 2008 | B3: 0.044006 | C3: 0.012 | D3: =B3+C3 -> 0.056006
A4: 2009 | B4: 0.044727 | C4: 0.012 | D4: =B4+C4 -> 0.056727
A5: 2010 | B5: 0.037767 | C5: 0.012 | D5: =B5+C5 -> 0.049767
A6: 2011 | B6: 0.032786 | C6: 0.012 | D6: =B6+C6 -> 0.044786
A7: 2012 | B7: 0.04304 | C7: 0.012 | D7: =B7+C7 -> 0.05504
A8: 2013 | B8: 0.024544 | C8: 0.012 | D8: =B8+C8 -> 0.036544
A9: 2014 | B9: 0.026533 | C9: 0.012 | D9: =B9+C9 -> 0.038533
A10: 2015 | B10: 0.012453 | C10: 0.012 | D10: =B10+C10 -> 0.024453
A11: 2016 | B11: 0.008 | C11: 0.012 | D11: =B11+C11 -> 0.02
A12: 2017 | B12: 0.008 | C12: 0.012 | D12: =B12+C12 -> 0.02
